BEGIN:VCALENDAR
VERSION:2.0
PRODID:-//Troop 55 St. John the Divine - ECPv6.15.20//NONSGML v1.0//EN
CALSCALE:GREGORIAN
METHOD:PUBLISH
X-ORIGINAL-URL:https://www.troop55htx.com
X-WR-CALDESC:Events for Troop 55 St. John the Divine
REFRESH-INTERVAL;VALUE=DURATION:PT1H
X-Robots-Tag:noindex
X-PUBLISHED-TTL:PT1H
BEGIN:VTIMEZONE
TZID:America/Chicago
BEGIN:DAYLIGHT
TZOFFSETFROM:-0600
TZOFFSETTO:-0500
TZNAME:CDT
DTSTART:20200308T080000
END:DAYLIGHT
BEGIN:STANDARD
TZOFFSETFROM:-0500
TZOFFSETTO:-0600
TZNAME:CST
DTSTART:20201101T070000
END:STANDARD
BEGIN:DAYLIGHT
TZOFFSETFROM:-0600
TZOFFSETTO:-0500
TZNAME:CDT
DTSTART:20210314T080000
END:DAYLIGHT
BEGIN:STANDARD
TZOFFSETFROM:-0500
TZOFFSETTO:-0600
TZNAME:CST
DTSTART:20211107T070000
END:STANDARD
BEGIN:DAYLIGHT
TZOFFSETFROM:-0600
TZOFFSETTO:-0500
TZNAME:CDT
DTSTART:20220313T080000
END:DAYLIGHT
BEGIN:STANDARD
TZOFFSETFROM:-0500
TZOFFSETTO:-0600
TZNAME:CST
DTSTART:20221106T070000
END:STANDARD
END:VTIMEZONE
BEGIN:VEVENT
DTSTART;TZID=America/Chicago:20211005T181500
DTEND;TZID=America/Chicago:20211005T190000
DTSTAMP:20260419T200030
CREATED:20210830T152326Z
LAST-MODIFIED:20210830T161219Z
UID:3845-1633457700-1633460400@www.troop55htx.com
SUMMARY:FCT Session
DESCRIPTION:
URL:https://www.troop55htx.com/event/fct-session-9/
CATEGORIES:First Class Trail,Troop 55 (ALL)
END:VEVENT
BEGIN:VEVENT
DTSTART;TZID=America/Chicago:20210928T181500
DTEND;TZID=America/Chicago:20210928T190000
DTSTAMP:20260419T200030
CREATED:20210830T152326Z
LAST-MODIFIED:20210830T161150Z
UID:3843-1632852900-1632855600@www.troop55htx.com
SUMMARY:FCT Session
DESCRIPTION:
URL:https://www.troop55htx.com/event/fct-session-8/
CATEGORIES:First Class Trail,Troop 55 (ALL)
END:VEVENT
BEGIN:VEVENT
DTSTART;TZID=America/Chicago:20210921T181500
DTEND;TZID=America/Chicago:20210921T190000
DTSTAMP:20260419T200030
CREATED:20210830T152326Z
LAST-MODIFIED:20210830T161142Z
UID:3840-1632248100-1632250800@www.troop55htx.com
SUMMARY:FCT Session
DESCRIPTION:
URL:https://www.troop55htx.com/event/fct-session-7/
CATEGORIES:First Class Trail,Troop 55 (ALL)
END:VEVENT
BEGIN:VEVENT
DTSTART;TZID=America/Chicago:20210907T181500
DTEND;TZID=America/Chicago:20210907T190000
DTSTAMP:20260419T200030
CREATED:20210830T152325Z
LAST-MODIFIED:20210830T161127Z
UID:3830-1631038500-1631041200@www.troop55htx.com
SUMMARY:FCT Session
DESCRIPTION:
URL:https://www.troop55htx.com/event/fct-session-5/
CATEGORIES:First Class Trail,Troop 55 (ALL)
END:VEVENT
BEGIN:VEVENT
DTSTART;TZID=America/Chicago:20210831T181500
DTEND;TZID=America/Chicago:20210831T190000
DTSTAMP:20260419T200030
CREATED:20210830T152325Z
LAST-MODIFIED:20210830T161121Z
UID:3826-1630433700-1630436400@www.troop55htx.com
SUMMARY:FCT Session
DESCRIPTION:
URL:https://www.troop55htx.com/event/fct-session-4/
CATEGORIES:First Class Trail,Troop 55 (ALL)
END:VEVENT
END:VCALENDAR