BEGIN:VCALENDAR
VERSION:2.0
PRODID:-//Troop 55 St. John the Divine - ECPv6.15.20//NONSGML v1.0//EN
CALSCALE:GREGORIAN
METHOD:PUBLISH
X-WR-CALNAME:Troop 55 St. John the Divine
X-ORIGINAL-URL:https://www.troop55htx.com
X-WR-CALDESC:Events for Troop 55 St. John the Divine
REFRESH-INTERVAL;VALUE=DURATION:PT1H
X-Robots-Tag:noindex
X-PUBLISHED-TTL:PT1H
BEGIN:VTIMEZONE
TZID:America/Chicago
BEGIN:DAYLIGHT
TZOFFSETFROM:-0600
TZOFFSETTO:-0500
TZNAME:CDT
DTSTART:20210314T080000
END:DAYLIGHT
BEGIN:STANDARD
TZOFFSETFROM:-0500
TZOFFSETTO:-0600
TZNAME:CST
DTSTART:20211107T070000
END:STANDARD
BEGIN:DAYLIGHT
TZOFFSETFROM:-0600
TZOFFSETTO:-0500
TZNAME:CDT
DTSTART:20220313T080000
END:DAYLIGHT
BEGIN:STANDARD
TZOFFSETFROM:-0500
TZOFFSETTO:-0600
TZNAME:CST
DTSTART:20221106T070000
END:STANDARD
BEGIN:DAYLIGHT
TZOFFSETFROM:-0600
TZOFFSETTO:-0500
TZNAME:CDT
DTSTART:20230312T080000
END:DAYLIGHT
BEGIN:STANDARD
TZOFFSETFROM:-0500
TZOFFSETTO:-0600
TZNAME:CST
DTSTART:20231105T070000
END:STANDARD
BEGIN:DAYLIGHT
TZOFFSETFROM:-0600
TZOFFSETTO:-0500
TZNAME:CDT
DTSTART:20240310T080000
END:DAYLIGHT
BEGIN:STANDARD
TZOFFSETFROM:-0500
TZOFFSETTO:-0600
TZNAME:CST
DTSTART:20241103T070000
END:STANDARD
END:VTIMEZONE
BEGIN:VTIMEZONE
TZID:UTC
BEGIN:STANDARD
TZOFFSETFROM:+0000
TZOFFSETTO:+0000
TZNAME:UTC
DTSTART:20210101T000000
END:STANDARD
END:VTIMEZONE
BEGIN:VEVENT
DTSTART;TZID=America/Chicago:20230131T190000
DTEND;TZID=America/Chicago:20230131T200000
DTSTAMP:20260424T011245
CREATED:20220727T170954Z
LAST-MODIFIED:20230201T012940Z
UID:7394-1675191600-1675195200@www.troop55htx.com
SUMMARY:Troop 55 meeting
DESCRIPTION:
URL:https://www.troop55htx.com/event/troop-55-meeting-64/
LOCATION:TX
CATEGORIES:Troop 55 (ALL)
END:VEVENT
BEGIN:VEVENT
DTSTART;TZID=America/Chicago:20230131T183000
DTEND;TZID=America/Chicago:20230131T193000
DTSTAMP:20260424T011245
CREATED:20230110T004430Z
LAST-MODIFIED:20230201T012939Z
UID:8770-1675189800-1675193400@www.troop55htx.com
SUMMARY:T55 Mandatory FCT Parent Meeting\, Part 2
DESCRIPTION:
URL:https://www.troop55htx.com/event/t55-mandatory-fct-parent-meeting-part-2/
LOCATION:TX
CATEGORIES:Troop 55 (ALL)
END:VEVENT
BEGIN:VEVENT
DTSTART;TZID=America/Chicago:20230131T180000
DTEND;TZID=America/Chicago:20230131T190000
DTSTAMP:20260424T011245
CREATED:20220819T200721Z
LAST-MODIFIED:20230131T012954Z
UID:7643-1675188000-1675191600@www.troop55htx.com
SUMMARY:T55 Board of Review
DESCRIPTION:
URL:https://www.troop55htx.com/event/t55-board-of-review-7/
LOCATION:TX
CATEGORIES:Troop 55 (ALL)
END:VEVENT
BEGIN:VEVENT
DTSTART;TZID=America/Chicago:20230129T160000
DTEND;TZID=America/Chicago:20230129T170000
DTSTAMP:20260424T011245
CREATED:20230124T005930Z
LAST-MODIFIED:20230129T011807Z
UID:8869-1675008000-1675011600@www.troop55htx.com
SUMMARY:T55 PLC meeting
DESCRIPTION:
URL:https://www.troop55htx.com/event/t55-plc-meeting-2/
LOCATION:TX
CATEGORIES:Troop 55 (ALL)
END:VEVENT
BEGIN:VEVENT
DTSTART;TZID=America/Chicago:20230127T170000
DTEND;TZID=America/Chicago:20230127T180000
DTSTAMP:20260424T011245
CREATED:20230124T005930Z
LAST-MODIFIED:20230127T010413Z
UID:8868-1674838800-1674842400@www.troop55htx.com
SUMMARY:T55 Service project with River Oaks Elementary Dad's Club Campout
DESCRIPTION:
URL:https://www.troop55htx.com/event/t55-service-project-with-river-oaks-elementary-dads-club-campout/
LOCATION:2008 Kirby Dr\, Houston\, TX 77019\, USA
CATEGORIES:Troop 55 (ALL)
END:VEVENT
BEGIN:VEVENT
DTSTART;TZID=America/Chicago:20230127T120000
DTEND;TZID=America/Chicago:20230127T120000
DTSTAMP:20260424T011245
CREATED:20230126T005930Z
LAST-MODIFIED:20230127T010412Z
UID:8893-1674820800-1674820800@www.troop55htx.com
SUMMARY:T55 Deadline to submit BoR request for Jan 31
DESCRIPTION:
URL:https://www.troop55htx.com/event/t55-deadline-to-submit-bor-request-for-jan-31/
LOCATION:TX
CATEGORIES:Troop 55 (ALL)
END:VEVENT
BEGIN:VEVENT
DTSTART;TZID=America/Chicago:20230124T190000
DTEND;TZID=America/Chicago:20230124T200000
DTSTAMP:20260424T011245
CREATED:20220727T170954Z
LAST-MODIFIED:20230125T010030Z
UID:7393-1674586800-1674590400@www.troop55htx.com
SUMMARY:Troop 55 meeting
DESCRIPTION:
URL:https://www.troop55htx.com/event/troop-55-meeting-63/
LOCATION:TX
CATEGORIES:Troop 55 (ALL)
END:VEVENT
BEGIN:VEVENT
DTSTART;TZID=America/Chicago:20230124T183000
DTEND;TZID=America/Chicago:20230124T193000
DTSTAMP:20260424T011245
CREATED:20230110T004430Z
LAST-MODIFIED:20230125T010030Z
UID:8769-1674585000-1674588600@www.troop55htx.com
SUMMARY:T55 Mandatory FCT Parent Meeting\, Part 1
DESCRIPTION:
URL:https://www.troop55htx.com/event/t55-mandatory-fct-parent-meeting-part-1/
LOCATION:TX
CATEGORIES:Troop 55 (ALL)
END:VEVENT
BEGIN:VEVENT
DTSTART;TZID=UTC:20230121T160000
DTEND;TZID=UTC:20230121T180000
DTSTAMP:20260424T011245
CREATED:20220827T230642Z
LAST-MODIFIED:20230120T232913Z
UID:7721-1674316800-1674324000@www.troop55htx.com
SUMMARY:God and Me/God and Family
DESCRIPTION:For more information please visit: HTTPS://scoutbook.scouting.org/mobile/dashboard/calendar/event.asp?EventID=4593731
URL:https://www.troop55htx.com/event/god-and-me-god-and-family-8/
LOCATION:Rm 208\, St John the Divine
CATEGORIES:Pack 55 (ALL)
END:VEVENT
BEGIN:VEVENT
DTSTART;TZID=UTC:20230120T003000
DTEND;TZID=UTC:20230120T013000
DTSTAMP:20260424T011245
CREATED:20230111T231516Z
LAST-MODIFIED:20230119T233012Z
UID:8789-1674174600-1674178200@www.troop55htx.com
SUMMARY:January Pack Meeting - Cyber Safety for Scouts
DESCRIPTION:January Pack Meeting – the pack meeting is Thursday\, January 19th at St. John Divine at 6:30pm. We will be discussing cyber safety for scouts. We will look at Youtubers\, gamers and online group games.\nAlso\, get ready for race day! The pinewood derby races are Saturday\, February 4th at St. John Divine.  If you have not already picked up your derby car kit\, come and get it at the pack meeting or reach out to your den leader.\nFor more information please visit: HTTPS://scoutbook.scouting.org/mobile/dashboard/calendar/event.asp?EventID=4687628
URL:https://www.troop55htx.com/event/january-pack-meeting-cyber-safety-for-scouts/
LOCATION:The Church of St. John the Divine\, Scout Room (Downstairs)
CATEGORIES:Pack 55 (ALL)
END:VEVENT
BEGIN:VEVENT
DTSTART;TZID=America/Chicago:20230120T000000
DTEND;TZID=America/Chicago:20230122T235959
DTSTAMP:20260424T011245
CREATED:20220719T163313Z
LAST-MODIFIED:20230122T005958Z
UID:7337-1674172800-1674431999@www.troop55htx.com
SUMMARY:T55 New Scout Campout @ Webb Ranch
DESCRIPTION:
URL:https://www.troop55htx.com/event/t55-new-scout-campout-webb-ranch/
LOCATION:TX
CATEGORIES:Troop 55 (ALL)
END:VEVENT
BEGIN:VEVENT
DTSTART;TZID=America/Chicago:20230117T190000
DTEND;TZID=America/Chicago:20230117T200000
DTSTAMP:20260424T011245
CREATED:20220727T170953Z
LAST-MODIFIED:20230118T010037Z
UID:7392-1673982000-1673985600@www.troop55htx.com
SUMMARY:Troop 55 meeting
DESCRIPTION:
URL:https://www.troop55htx.com/event/troop-55-meeting-62/
LOCATION:TX
CATEGORIES:Troop 55 (ALL)
END:VEVENT
BEGIN:VEVENT
DTSTART;TZID=America/Chicago:20230114T140000
DTEND;TZID=America/Chicago:20230114T160000
DTSTAMP:20260424T011245
CREATED:20230114T004743Z
LAST-MODIFIED:20230114T004748Z
UID:8809-1673704800-1673712000@www.troop55htx.com
SUMMARY:T55 FCT Tenderfoot Fitness Test at Memorial Park Timing Track
DESCRIPTION:
URL:https://www.troop55htx.com/event/t55-fct-tenderfoot-fitness-test-at-memorial-park-timing-track/
LOCATION:TX
CATEGORIES:Troop 55 (ALL)
END:VEVENT
BEGIN:VEVENT
DTSTART;TZID=America/Chicago:20230114T090000
DTEND;TZID=America/Chicago:20230114T120000
DTSTAMP:20260424T011245
CREATED:20230110T004430Z
LAST-MODIFIED:20230114T004748Z
UID:8768-1673686800-1673697600@www.troop55htx.com
SUMMARY:T55 Service Project at Don Green Nature Park
DESCRIPTION:
URL:https://www.troop55htx.com/event/t55-service-project-at-don-green-nature-park/
LOCATION:TX
CATEGORIES:Troop 55 (ALL)
END:VEVENT
BEGIN:VEVENT
DTSTART;TZID=UTC:20230113T210000
DTEND;TZID=UTC:20230115T170000
DTSTAMP:20260424T011245
CREATED:20220820T225705Z
LAST-MODIFIED:20230114T233020Z
UID:7659-1673643600-1673802000@www.troop55htx.com
SUMMARY:Pack 55 Winter Campout at Galveston Island State Park
DESCRIPTION:SAVE THE DATE!\nPack 55 Winter Campout on Jan 13-15\, 2023.\nLoads of family fun planned. Don’t miss it!\nFor more information please visit: HTTPS://scoutbook.scouting.org/mobile/dashboard/calendar/event.asp?EventID=4568864
URL:https://www.troop55htx.com/event/pack-55-winter-campout-at-galveston-island-state-park/
LOCATION:Galveston Island State Park\, 1411 FM\, Dickinson\, TX\, United States
CATEGORIES:Pack 55 (ALL)
END:VEVENT
BEGIN:VEVENT
DTSTART;TZID=UTC:20230113T010000
DTEND;TZID=UTC:20230113T020000
DTSTAMP:20260424T011245
CREATED:20220827T230642Z
LAST-MODIFIED:20230112T233144Z
UID:7720-1673571600-1673575200@www.troop55htx.com
SUMMARY:Twin Bayou District - Roundtable
DESCRIPTION:For more information please visit: HTTPS://scoutbook.scouting.org/mobile/dashboard/calendar/event.asp?EventID=4593831
URL:https://www.troop55htx.com/event/twin-bayou-district-roundtable-5/
LOCATION:Blanton Scout House\, St Lukes
CATEGORIES:Pack 55 (ALL)
END:VEVENT
BEGIN:VEVENT
DTSTART;TZID=America/Chicago:20230111T190000
DTEND;TZID=America/Chicago:20230111T200000
DTSTAMP:20260424T011245
CREATED:20230103T003403Z
LAST-MODIFIED:20230112T004517Z
UID:8660-1673463600-1673467200@www.troop55htx.com
SUMMARY:T55 Committee meeting
DESCRIPTION:
URL:https://www.troop55htx.com/event/t55-committee-meeting/
LOCATION:https://us06web.zoom.us/j/82941611340?pwd=bkp3R1I3T09rWWZmL3JsVEduckNXUT09
CATEGORIES:Troop 55 (ALL)
END:VEVENT
BEGIN:VEVENT
DTSTART;TZID=America/Chicago:20230110T190000
DTEND;TZID=America/Chicago:20230110T200000
DTSTAMP:20260424T011245
CREATED:20220727T170953Z
LAST-MODIFIED:20230111T004542Z
UID:7391-1673377200-1673380800@www.troop55htx.com
SUMMARY:Troop 55 meeting
DESCRIPTION:
URL:https://www.troop55htx.com/event/troop-55-meeting-61/
LOCATION:TX
CATEGORIES:Troop 55 (ALL)
END:VEVENT
BEGIN:VEVENT
DTSTART;TZID=America/Chicago:20230110T180000
DTEND;TZID=America/Chicago:20230110T190000
DTSTAMP:20260424T011245
CREATED:20220819T200721Z
LAST-MODIFIED:20230111T004542Z
UID:7642-1673373600-1673377200@www.troop55htx.com
SUMMARY:T55 Board of Review
DESCRIPTION:
URL:https://www.troop55htx.com/event/t55-board-of-review-6/
LOCATION:TX
CATEGORIES:Troop 55 (ALL)
END:VEVENT
BEGIN:VEVENT
DTSTART;TZID=America/Chicago:20230108T140000
DTEND;TZID=America/Chicago:20230108T160000
DTSTAMP:20260424T011245
CREATED:20230103T003403Z
LAST-MODIFIED:20230108T004431Z
UID:8659-1673186400-1673193600@www.troop55htx.com
SUMMARY:T55 New Scout and Parent Orientation (SJD)
DESCRIPTION:
URL:https://www.troop55htx.com/event/t55-new-scout-and-parent-orientation-sjd/
LOCATION:TX
CATEGORIES:Troop 55 (ALL)
END:VEVENT
BEGIN:VEVENT
DTSTART;TZID=UTC:20230107T200000
DTEND;TZID=UTC:20230107T220000
DTSTAMP:20260424T011245
CREATED:20220827T230642Z
LAST-MODIFIED:20230106T231435Z
UID:7719-1673121600-1673128800@www.troop55htx.com
SUMMARY:Arrow of Light Ceremony
DESCRIPTION:Support our 5th grade Webelos as they cross over to the troops.\nFor more information please visit: HTTPS://scoutbook.scouting.org/mobile/dashboard/calendar/event.asp?EventID=4593725
URL:https://www.troop55htx.com/event/arrow-of-light-ceremony/
LOCATION:Hall Life Center\, St. John the Divine
CATEGORIES:Pack 55 (ALL)
END:VEVENT
BEGIN:VEVENT
DTSTART;TZID=UTC:20230107T160000
DTEND;TZID=UTC:20230107T180000
DTSTAMP:20260424T011245
CREATED:20220827T230642Z
LAST-MODIFIED:20230106T231435Z
UID:7717-1673107200-1673114400@www.troop55htx.com
SUMMARY:God and Me/God and Family
DESCRIPTION:A Scout is Reverent.\nWe are pleased to invite your family to join us for this year’s Pack 55 Religious Award program. This is a voluntary program offered by St. John the Divine for all Cub Scouts. Scouts will have fun earning their Religious Emblem as a small group. The four\, 1-hour sessions will be led by Rev. Reagan Cocke at St. John the Divine.\nThe religious award your scout earns at the end of this program can be worn on their Scouts BSA uniform for the remainder of their scouting career.\nThe per scout cost is $30\, which covers teaching materials and awards to be presented at Scout Sunday in February 2023.\nAll are welcome to attend\, regardless of your religious affiliation. Your own religious institution may offer similar\, tailored programs.\nRegister below before November 23rd so we can ensure we have an accurate headcount\, and we can order the correct number of supplies. We look forward to seeing your family on December 3rd!\nSaturday\, Dec 3 and 10\, 2022; Jan 7 and 21\, 2023:\nWolf and Bear Scouts (2nd\, 3rd Grade); 10 AM -11 AM:\nWebelos Scouts (4th\, 5th Grade): 11 AM – Noon:\nQuestions? Reach out to service@pack55.org or pcc@pack55.org.\nFor more information please visit: HTTPS://scoutbook.scouting.org/mobile/dashboard/calendar/event.asp?EventID=4593729
URL:https://www.troop55htx.com/event/god-and-me-god-and-family-7/
LOCATION:Rm 210\, St John the Divine
CATEGORIES:Pack 55 (ALL)
END:VEVENT
BEGIN:VEVENT
DTSTART;TZID=America/Chicago:20230107T140000
DTEND;TZID=America/Chicago:20230107T160000
DTSTAMP:20260424T011245
CREATED:20221230T235108Z
LAST-MODIFIED:20230107T004512Z
UID:8645-1673100000-1673107200@www.troop55htx.com
SUMMARY:T55 PLC attends P55 Arrow of Light Ceremony
DESCRIPTION:
URL:https://www.troop55htx.com/event/t55-plc-attends-p55-arrow-of-light-ceremony/
LOCATION:TX
CATEGORIES:Troop 55 (ALL)
END:VEVENT
BEGIN:VEVENT
DTSTART;TZID=America/Chicago:20230107T090000
DTEND;TZID=America/Chicago:20230107T120000
DTSTAMP:20260424T011245
CREATED:20221230T235108Z
LAST-MODIFIED:20230107T004512Z
UID:8644-1673082000-1673092800@www.troop55htx.com
SUMMARY:T55 Personal Management MB class (SJD Room 208)
DESCRIPTION:
URL:https://www.troop55htx.com/event/t55-personal-management-mb-class-sjd-room-208/
LOCATION:TX
CATEGORIES:Troop 55 (ALL)
END:VEVENT
BEGIN:VEVENT
DTSTART;TZID=UTC:20230106T013000
DTEND;TZID=UTC:20230106T023000
DTSTAMP:20260424T011245
CREATED:20220827T230641Z
LAST-MODIFIED:20230105T231420Z
UID:7716-1672968600-1672972200@www.troop55htx.com
SUMMARY:All Adults Are Invited to Attend the January Pack 55 Committee Meeting
DESCRIPTION:Happy New Year\, Pack 55 Families!\nJoin us for our first monthly committee meeting of 2023 on THIS THURSDAY evening on Zoom. All are encouraged to attend. Even if you are still travelling for the holiday\, you are able to call into this short Zoom meeting from anywhere.\nWe have a very busy start to 2023 with our Galveston State Park campout on MLK weekend (REGISTER USING THE LINKS FROM CAMPMASTER MITCHELL FULLER ASAP – join for one\, two\, or all three nights of camping\, whatever works for your family’s schedule; also get your family’s PART A/B MEDICAL FORMS submitted – these are required for all attendees). We also have Pinewood Derby and the Blue and Gold Banquet coming up in February\, and we need lots of volunteers to make those events happen. Join us for the monthly committee meeting to prepare for these fun activities.\nDo you enjoy participating in the campouts? How about the Pinewood Derby? If the answer is yes\, then come and take one hour out of your month to meet with our adult leaders and parents to help plan for the upcoming pack events. All adults are welcome to attend. At least one representative from each den is requested.\nEthan Perry is inviting you to a scheduled Zoom meeting. Register using the link below:\nTopic: Pack 55 Committee Meeting\nTime: Jan 5\, 2023 07:30 PM Central Time (US and Canada) \nJoin Zoom Meeting\nMeeting ID: 890 8018 5931\nPasscode: P55CM2223\nAfter registering\, you will receive a confirmation email containing information about joining the meeting.\nFor more information please visit: HTTPS://scoutbook.scouting.org/mobile/dashboard/calendar/event.asp?EventID=4593786
URL:https://www.troop55htx.com/event/january-pack-55-committee-meeting-2/
LOCATION:On Zoom: https://us06web.zoom.us/j/89080185931?pwd=UDJHS1YzQ2V1Smg4SWx4TlFqa2JHUT09
CATEGORIES:Pack 55 (ALL)
END:VEVENT
BEGIN:VEVENT
DTSTART;TZID=America/Chicago:20230105T180000
DTEND;TZID=America/Chicago:20230105T190000
DTSTAMP:20260424T011245
CREATED:20220802T180419Z
LAST-MODIFIED:20230102T001806Z
UID:7493-1672941600-1672945200@www.troop55htx.com
SUMMARY:Troop 55 Committee monthly meeting
DESCRIPTION:Join Zoom Meetinghttps://us06web.zoom.us/j/82941611340?pwd=bkp3R1I3T09rWWZmL3JsVEduckNXUT09 \nMeeting ID: 829 4161 1340Passcode: 646687
URL:https://www.troop55htx.com/event/troop-55-committee-monthly-meeting-6/
LOCATION:https://us06web.zoom.us/j/82941611340?pwd=bkp3R1I3T09rWWZmL3JsVEduckNXUT09
CATEGORIES:Troop 55 (ALL)
END:VEVENT
BEGIN:VEVENT
DTSTART;TZID=America/Chicago:20230103T190000
DTEND;TZID=America/Chicago:20230103T200000
DTSTAMP:20260424T011245
CREATED:20221230T235108Z
LAST-MODIFIED:20230103T003406Z
UID:8643-1672772400-1672776000@www.troop55htx.com
SUMMARY:Troop 55 PLC meeting (regular Troop meeting starts Jan 10th)
DESCRIPTION:
URL:https://www.troop55htx.com/event/troop-55-plc-meeting-regular-troop-meeting-starts-jan-10th/
LOCATION:TX
CATEGORIES:Troop 55 (ALL)
END:VEVENT
BEGIN:VEVENT
DTSTART;TZID=UTC:20221216T003000
DTEND;TZID=UTC:20221216T020000
DTSTAMP:20260424T011245
CREATED:20221202T210302Z
LAST-MODIFIED:20221215T214824Z
UID:8512-1671150600-1671156000@www.troop55htx.com
SUMMARY:Pack Meeting - Sockball Fight and Fun
DESCRIPTION:For more information please visit: HTTPS://scoutbook.scouting.org/mobile/dashboard/calendar/event.asp?EventID=4355956
URL:https://www.troop55htx.com/event/pack-meeting-sockball-fight-and-fun-2/
LOCATION:Scout Room\, Downstairs\, St John the Divine
CATEGORIES:Pack 55 (ALL)
END:VEVENT
BEGIN:VEVENT
DTSTART;TZID=UTC:20221216T003000
DTEND;TZID=UTC:20221216T020000
DTSTAMP:20260424T011245
CREATED:20220408T103254Z
LAST-MODIFIED:20221201T210358Z
UID:6709-1671150600-1671156000@www.troop55htx.com
SUMMARY:Pack Meeting - Sockball Fight and Fun
DESCRIPTION:For more information please visit: HTTPS://scoutbook.scouting.org/mobile/dashboard/calendar/event.asp?EventID=4355956
URL:https://www.troop55htx.com/event/pack-meeting-sockball-fight-and-fun/
LOCATION:Sumners Hall\, St John the Divine
CATEGORIES:Pack 55 (ALL)
END:VEVENT
BEGIN:VEVENT
DTSTART;TZID=America/Chicago:20221213T190000
DTEND;TZID=America/Chicago:20221213T200000
DTSTAMP:20260424T011245
CREATED:20220727T170953Z
LAST-MODIFIED:20221213T224909Z
UID:7387-1670958000-1670961600@www.troop55htx.com
SUMMARY:Troop 55 meeting
DESCRIPTION:
URL:https://www.troop55htx.com/event/troop-55-meeting-57/
LOCATION:TX
CATEGORIES:Troop 55 (ALL)
END:VEVENT
END:VCALENDAR