BEGIN:VCALENDAR
VERSION:2.0
PRODID:-//Troop 55 St. John the Divine - ECPv6.15.20//NONSGML v1.0//EN
CALSCALE:GREGORIAN
METHOD:PUBLISH
X-WR-CALNAME:Troop 55 St. John the Divine
X-ORIGINAL-URL:https://www.troop55htx.com
X-WR-CALDESC:Events for Troop 55 St. John the Divine
REFRESH-INTERVAL;VALUE=DURATION:PT1H
X-Robots-Tag:noindex
X-PUBLISHED-TTL:PT1H
BEGIN:VTIMEZONE
TZID:America/Chicago
BEGIN:DAYLIGHT
TZOFFSETFROM:-0600
TZOFFSETTO:-0500
TZNAME:CDT
DTSTART:20200308T080000
END:DAYLIGHT
BEGIN:STANDARD
TZOFFSETFROM:-0500
TZOFFSETTO:-0600
TZNAME:CST
DTSTART:20201101T070000
END:STANDARD
BEGIN:DAYLIGHT
TZOFFSETFROM:-0600
TZOFFSETTO:-0500
TZNAME:CDT
DTSTART:20210314T080000
END:DAYLIGHT
BEGIN:STANDARD
TZOFFSETFROM:-0500
TZOFFSETTO:-0600
TZNAME:CST
DTSTART:20211107T070000
END:STANDARD
BEGIN:DAYLIGHT
TZOFFSETFROM:-0600
TZOFFSETTO:-0500
TZNAME:CDT
DTSTART:20220313T080000
END:DAYLIGHT
BEGIN:STANDARD
TZOFFSETFROM:-0500
TZOFFSETTO:-0600
TZNAME:CST
DTSTART:20221106T070000
END:STANDARD
END:VTIMEZONE
BEGIN:VEVENT
DTSTART;TZID=America/Chicago:20210831T181500
DTEND;TZID=America/Chicago:20210831T190000
DTSTAMP:20260425T113924
CREATED:20210830T152325Z
LAST-MODIFIED:20210830T161121Z
UID:3826-1630433700-1630436400@www.troop55htx.com
SUMMARY:FCT Session
DESCRIPTION:
URL:https://www.troop55htx.com/event/fct-session-4/
CATEGORIES:First Class Trail,Troop 55 (ALL)
END:VEVENT
BEGIN:VEVENT
DTSTART;TZID=America/Chicago:20210820T173000
DTEND;TZID=America/Chicago:20210820T210000
DTSTAMP:20260425T113924
CREATED:20210727T194301Z
LAST-MODIFIED:20210820T220425Z
UID:3412-1629480600-1629493200@www.troop55htx.com
SUMMARY:Troop 54/55 Adult Kick-Off Dinner
DESCRIPTION:Attention Scout Parents and Adult Volunteers! Please make plans to attend the upcoming joint Troop 55 and Troop 54 Adult Kickoff for the 2021-22 school year. We invite and need all T55 and T54 adults to participate\, whether you are a new parent to the Troop or an experienced volunteer. Check newsletter for RSVP link. \nPART 1 – FRIDAY 5:30 P.M. TO 9:00 P.M.\nAttendees will have the opportunity to socialize with other Scout Parents and Adult Leaders. Summer Camp leaders from both Troops will present reflections\, recommendations\, and any lessons learned from the Summer Camps our Scouts attended this past summer.\nDoors open at 5:30 p.m. and dinner will be served at 6:30 p.m. Dinner is a BBQ buffet/bar and the cost is $25 per person (cash or check only) at the door. This does not cover the full cost\, and the $25 is a suggested donation.\nFor more information please visit: HTTPS://scoutbook.scouting.org/mobile/dashboard/calendar/event.asp?EventID=3783490
URL:https://www.troop55htx.com/event/troop-54-55-adult-kick-off-dinner/
LOCATION:River Oaks Garden Club Forum – 2503 Westheimer Rd
CATEGORIES:Troop 55 (ALL)
ORGANIZER;CN="Thomas Thompson":MAILTO:tct@troop55htx.com
END:VEVENT
END:VCALENDAR