BEGIN:VCALENDAR
VERSION:2.0
PRODID:-//Troop 55 St. John the Divine - ECPv6.15.20//NONSGML v1.0//EN
CALSCALE:GREGORIAN
METHOD:PUBLISH
X-WR-CALNAME:Troop 55 St. John the Divine
X-ORIGINAL-URL:https://www.troop55htx.com
X-WR-CALDESC:Events for Troop 55 St. John the Divine
REFRESH-INTERVAL;VALUE=DURATION:PT1H
X-Robots-Tag:noindex
X-PUBLISHED-TTL:PT1H
BEGIN:VTIMEZONE
TZID:America/Chicago
BEGIN:DAYLIGHT
TZOFFSETFROM:-0600
TZOFFSETTO:-0500
TZNAME:CDT
DTSTART:20210314T080000
END:DAYLIGHT
BEGIN:STANDARD
TZOFFSETFROM:-0500
TZOFFSETTO:-0600
TZNAME:CST
DTSTART:20211107T070000
END:STANDARD
BEGIN:DAYLIGHT
TZOFFSETFROM:-0600
TZOFFSETTO:-0500
TZNAME:CDT
DTSTART:20220313T080000
END:DAYLIGHT
BEGIN:STANDARD
TZOFFSETFROM:-0500
TZOFFSETTO:-0600
TZNAME:CST
DTSTART:20221106T070000
END:STANDARD
BEGIN:DAYLIGHT
TZOFFSETFROM:-0600
TZOFFSETTO:-0500
TZNAME:CDT
DTSTART:20230312T080000
END:DAYLIGHT
BEGIN:STANDARD
TZOFFSETFROM:-0500
TZOFFSETTO:-0600
TZNAME:CST
DTSTART:20231105T070000
END:STANDARD
BEGIN:DAYLIGHT
TZOFFSETFROM:-0600
TZOFFSETTO:-0500
TZNAME:CDT
DTSTART:20240310T080000
END:DAYLIGHT
BEGIN:STANDARD
TZOFFSETFROM:-0500
TZOFFSETTO:-0600
TZNAME:CST
DTSTART:20241103T070000
END:STANDARD
END:VTIMEZONE
BEGIN:VTIMEZONE
TZID:UTC
BEGIN:STANDARD
TZOFFSETFROM:+0000
TZOFFSETTO:+0000
TZNAME:UTC
DTSTART:20210101T000000
END:STANDARD
END:VTIMEZONE
BEGIN:VEVENT
DTSTART;TZID=America/Chicago:20230107T140000
DTEND;TZID=America/Chicago:20230107T160000
DTSTAMP:20260424T110111
CREATED:20221230T235108Z
LAST-MODIFIED:20230107T004512Z
UID:8645-1673100000-1673107200@www.troop55htx.com
SUMMARY:T55 PLC attends P55 Arrow of Light Ceremony
DESCRIPTION:
URL:https://www.troop55htx.com/event/t55-plc-attends-p55-arrow-of-light-ceremony/
CATEGORIES:Troop 55 (ALL)
END:VEVENT
BEGIN:VEVENT
DTSTART;TZID=America/Chicago:20230107T090000
DTEND;TZID=America/Chicago:20230107T120000
DTSTAMP:20260424T110111
CREATED:20221230T235108Z
LAST-MODIFIED:20230107T004512Z
UID:8644-1673082000-1673092800@www.troop55htx.com
SUMMARY:T55 Personal Management MB class (SJD Room 208)
DESCRIPTION:
URL:https://www.troop55htx.com/event/t55-personal-management-mb-class-sjd-room-208/
CATEGORIES:Troop 55 (ALL)
END:VEVENT
BEGIN:VEVENT
DTSTART;TZID=UTC:20230106T013000
DTEND;TZID=UTC:20230106T023000
DTSTAMP:20260424T110111
CREATED:20220827T230641Z
LAST-MODIFIED:20230105T231420Z
UID:7716-1672968600-1672972200@www.troop55htx.com
SUMMARY:All Adults Are Invited to Attend the January Pack 55 Committee Meeting
DESCRIPTION:Happy New Year\, Pack 55 Families!\nJoin us for our first monthly committee meeting of 2023 on THIS THURSDAY evening on Zoom. All are encouraged to attend. Even if you are still travelling for the holiday\, you are able to call into this short Zoom meeting from anywhere.\nWe have a very busy start to 2023 with our Galveston State Park campout on MLK weekend (REGISTER USING THE LINKS FROM CAMPMASTER MITCHELL FULLER ASAP – join for one\, two\, or all three nights of camping\, whatever works for your family’s schedule; also get your family’s PART A/B MEDICAL FORMS submitted – these are required for all attendees). We also have Pinewood Derby and the Blue and Gold Banquet coming up in February\, and we need lots of volunteers to make those events happen. Join us for the monthly committee meeting to prepare for these fun activities.\nDo you enjoy participating in the campouts? How about the Pinewood Derby? If the answer is yes\, then come and take one hour out of your month to meet with our adult leaders and parents to help plan for the upcoming pack events. All adults are welcome to attend. At least one representative from each den is requested.\nEthan Perry is inviting you to a scheduled Zoom meeting. Register using the link below:\nTopic: Pack 55 Committee Meeting\nTime: Jan 5\, 2023 07:30 PM Central Time (US and Canada) \nJoin Zoom Meeting\nMeeting ID: 890 8018 5931\nPasscode: P55CM2223\nAfter registering\, you will receive a confirmation email containing information about joining the meeting.\nFor more information please visit: HTTPS://scoutbook.scouting.org/mobile/dashboard/calendar/event.asp?EventID=4593786
URL:https://www.troop55htx.com/event/january-pack-55-committee-meeting-2/
LOCATION:On Zoom: https://us06web.zoom.us/j/89080185931?pwd=UDJHS1YzQ2V1Smg4SWx4TlFqa2JHUT09
CATEGORIES:Pack 55 (ALL)
END:VEVENT
BEGIN:VEVENT
DTSTART;TZID=America/Chicago:20230105T180000
DTEND;TZID=America/Chicago:20230105T190000
DTSTAMP:20260424T110111
CREATED:20220802T180419Z
LAST-MODIFIED:20230102T001806Z
UID:7493-1672941600-1672945200@www.troop55htx.com
SUMMARY:Troop 55 Committee monthly meeting
DESCRIPTION:Join Zoom Meetinghttps://us06web.zoom.us/j/82941611340?pwd=bkp3R1I3T09rWWZmL3JsVEduckNXUT09 \nMeeting ID: 829 4161 1340Passcode: 646687
URL:https://www.troop55htx.com/event/troop-55-committee-monthly-meeting-6/
LOCATION:https://us06web.zoom.us/j/82941611340?pwd=bkp3R1I3T09rWWZmL3JsVEduckNXUT09
CATEGORIES:Troop 55 (ALL)
END:VEVENT
BEGIN:VEVENT
DTSTART;TZID=America/Chicago:20230103T190000
DTEND;TZID=America/Chicago:20230103T200000
DTSTAMP:20260424T110111
CREATED:20221230T235108Z
LAST-MODIFIED:20230103T003406Z
UID:8643-1672772400-1672776000@www.troop55htx.com
SUMMARY:Troop 55 PLC meeting (regular Troop meeting starts Jan 10th)
DESCRIPTION:
URL:https://www.troop55htx.com/event/troop-55-plc-meeting-regular-troop-meeting-starts-jan-10th/
CATEGORIES:Troop 55 (ALL)
END:VEVENT
BEGIN:VEVENT
DTSTART;TZID=UTC:20221216T003000
DTEND;TZID=UTC:20221216T020000
DTSTAMP:20260424T110111
CREATED:20221202T210302Z
LAST-MODIFIED:20221215T214824Z
UID:8512-1671150600-1671156000@www.troop55htx.com
SUMMARY:Pack Meeting - Sockball Fight and Fun
DESCRIPTION:For more information please visit: HTTPS://scoutbook.scouting.org/mobile/dashboard/calendar/event.asp?EventID=4355956
URL:https://www.troop55htx.com/event/pack-meeting-sockball-fight-and-fun-2/
LOCATION:Scout Room\, Downstairs\, St John the Divine
CATEGORIES:Pack 55 (ALL)
END:VEVENT
BEGIN:VEVENT
DTSTART;TZID=UTC:20221216T003000
DTEND;TZID=UTC:20221216T020000
DTSTAMP:20260424T110111
CREATED:20220408T103254Z
LAST-MODIFIED:20221201T210358Z
UID:6709-1671150600-1671156000@www.troop55htx.com
SUMMARY:Pack Meeting - Sockball Fight and Fun
DESCRIPTION:For more information please visit: HTTPS://scoutbook.scouting.org/mobile/dashboard/calendar/event.asp?EventID=4355956
URL:https://www.troop55htx.com/event/pack-meeting-sockball-fight-and-fun/
LOCATION:Sumners Hall\, St John the Divine
CATEGORIES:Pack 55 (ALL)
END:VEVENT
BEGIN:VEVENT
DTSTART;TZID=America/Chicago:20221213T190000
DTEND;TZID=America/Chicago:20221213T200000
DTSTAMP:20260424T110111
CREATED:20220727T170953Z
LAST-MODIFIED:20221213T224909Z
UID:7387-1670958000-1670961600@www.troop55htx.com
SUMMARY:Troop 55 meeting
DESCRIPTION:
URL:https://www.troop55htx.com/event/troop-55-meeting-57/
CATEGORIES:Troop 55 (ALL)
END:VEVENT
BEGIN:VEVENT
DTSTART;TZID=America/Chicago:20221213T180000
DTEND;TZID=America/Chicago:20221213T190000
DTSTAMP:20260424T110111
CREATED:20220819T200721Z
LAST-MODIFIED:20221213T224909Z
UID:7641-1670954400-1670958000@www.troop55htx.com
SUMMARY:T55 Board of Review
DESCRIPTION:
URL:https://www.troop55htx.com/event/t55-board-of-review-5/
CATEGORIES:Troop 55 (ALL)
END:VEVENT
BEGIN:VEVENT
DTSTART;TZID=America/Chicago:20221211T150000
DTEND;TZID=America/Chicago:20221211T160000
DTSTAMP:20260424T110111
CREATED:20220830T210404Z
LAST-MODIFIED:20221210T221807Z
UID:7792-1670770800-1670774400@www.troop55htx.com
SUMMARY:Troop 55 Patrol Leaders Council meeting
DESCRIPTION:
URL:https://www.troop55htx.com/event/troop-55-patrol-leaders-council-meeting-5/
CATEGORIES:Troop 55 (ALL)
END:VEVENT
BEGIN:VEVENT
DTSTART;TZID=UTC:20221210T170000
DTEND;TZID=UTC:20221210T180000
DTSTAMP:20260424T110111
CREATED:20221126T205109Z
LAST-MODIFIED:20221209T213423Z
UID:8460-1670691600-1670695200@www.troop55htx.com
SUMMARY:Caroling at Brookdale West University - IN PERSON!
DESCRIPTION:Brookdale West University – 5151 Buffalo Speedway\, Houston\, TX 77005\nAll Pack 55 Cub Scouts (All Ranks/Grades) are invited!\nArrive at 10:45 AM to check-in as a group\nSinging starts at 11 AM\nPack 55 is excited to be back at Brookdale West University to sing Christmas Carols for the residents. We have not been able to visit them in-person for a couple years\, and so we are really excited to return for this beloved annual tradition. Please join us.\n-RSVP via Scoutbook so we have enough songbooks.\n-Wear Field Uniforms (blue or khaki\, aka Class A).\n-Scouts are encouraged to wear a festive holiday hat.\n-Bring a positive attitude and some holiday cheer to share with the residents.\n-Remember the “other” Cub Scout Motto: “If you can’t sing well\, then sing loudly.”\nQuestions? Reach out to pcc@pack55.org or service@pack55.org.\nFor more information please visit: HTTPS://scoutbook.scouting.org/mobile/dashboard/calendar/event.asp?EventID=4641444
URL:https://www.troop55htx.com/event/caroling-at-brookdale-west-university-in-person/
LOCATION:Brookdale West University – 5151 Buffalo Speedway\, Houston\, TX 77005
CATEGORIES:Pack 55 (ALL)
END:VEVENT
BEGIN:VEVENT
DTSTART;TZID=UTC:20221210T160000
DTEND;TZID=UTC:20221210T180000
DTSTAMP:20260424T110111
CREATED:20220827T230641Z
LAST-MODIFIED:20221209T213424Z
UID:7715-1670688000-1670695200@www.troop55htx.com
SUMMARY:God and Me/God and Family
DESCRIPTION:A Scout is Reverent.\nWe are pleased to invite your family to join us for this year’s Pack 55 Religious Award program. This is a voluntary program offered by St. John the Divine for all Cub Scouts. Scouts will have fun earning their Religious Emblem as a small group. The four\, 1-hour sessions will be led by Rev. Reagan Cocke at St. John the Divine.\nThe religious award your scout earns at the end of this program can be worn on their Scouts BSA uniform for the remainder of their scouting career.\nThe per scout cost is $30\, which covers teaching materials and awards to be presented at Scout Sunday in February 2023.\nAll are welcome to attend\, regardless of your religious affiliation. Your own religious institution may offer similar\, tailored programs.\nRegister below before November 23rd so we can ensure we have an accurate headcount\, and we can order the correct number of supplies. We look forward to seeing your family on December 3rd!\nSaturday\, Dec 3 and 10\, 2022; Jan 7 and 21\, 2023:\nWolf and Bear Scouts (2nd\, 3rd Grade); 10 AM -11 AM:\nWebelos Scouts (4th\, 5th Grade): 11 AM – Noon:\nQuestions? Reach out to service@pack55.org or pcc@pack55.org.\nFor more information please visit: HTTPS://scoutbook.scouting.org/mobile/dashboard/calendar/event.asp?EventID=4593728
URL:https://www.troop55htx.com/event/god-and-me-god-and-family-6/
LOCATION:Rm 210\, St John the Divine
CATEGORIES:Pack 55 (ALL)
END:VEVENT
BEGIN:VEVENT
DTSTART;TZID=UTC:20221209T010000
DTEND;TZID=UTC:20221209T020000
DTSTAMP:20260424T110111
CREATED:20220827T230641Z
LAST-MODIFIED:20221208T213303Z
UID:7713-1670547600-1670551200@www.troop55htx.com
SUMMARY:Twin Bayou District - Roundtable
DESCRIPTION:For more information please visit: HTTPS://scoutbook.scouting.org/mobile/dashboard/calendar/event.asp?EventID=4593830
URL:https://www.troop55htx.com/event/twin-bayou-district-roundtable-4/
LOCATION:Blanton Scout House\, St Lukes
CATEGORIES:Pack 55 (ALL)
END:VEVENT
BEGIN:VEVENT
DTSTART;TZID=America/Chicago:20221208T190000
DTEND;TZID=America/Chicago:20221208T200000
DTSTAMP:20260424T110111
CREATED:20220802T180418Z
LAST-MODIFIED:20221208T221950Z
UID:7492-1670526000-1670529600@www.troop55htx.com
SUMMARY:Troop 55 Committee monthly meeting
DESCRIPTION:Join Zoom Meetinghttps://us06web.zoom.us/j/82941611340?pwd=bkp3R1I3T09rWWZmL3JsVEduckNXUT09 \nMeeting ID: 829 4161 1340Passcode: 646687
URL:https://www.troop55htx.com/event/troop-55-committee-monthly-meeting-5/
LOCATION:https://us06web.zoom.us/j/82941611340?pwd=bkp3R1I3T09rWWZmL3JsVEduckNXUT09
CATEGORIES:Troop 55 (ALL)
END:VEVENT
BEGIN:VEVENT
DTSTART;TZID=America/Chicago:20221206T190000
DTEND;TZID=America/Chicago:20221206T200000
DTSTAMP:20260424T110111
CREATED:20220727T170953Z
LAST-MODIFIED:20221206T214929Z
UID:7386-1670353200-1670356800@www.troop55htx.com
SUMMARY:Troop 55 meeting
DESCRIPTION:
URL:https://www.troop55htx.com/event/troop-55-meeting-56/
CATEGORIES:Troop 55 (ALL)
END:VEVENT
BEGIN:VEVENT
DTSTART;TZID=UTC:20221203T160000
DTEND;TZID=UTC:20221203T180000
DTSTAMP:20260424T110111
CREATED:20220827T230641Z
LAST-MODIFIED:20221202T210302Z
UID:7712-1670083200-1670090400@www.troop55htx.com
SUMMARY:God and Me/God and Family
DESCRIPTION:A Scout is Reverent.\nWe are pleased to invite your family to join us for this year’s Pack 55 Religious Award program. This is a voluntary program offered by St. John the Divine for all Cub Scouts. Scouts will have fun earning their Religious Emblem as a small group. The four\, 1-hour sessions will be led by Rev. Reagan Cocke at St. John the Divine.\nThe religious award your scout earns at the end of this program can be worn on their Scouts BSA uniform for the remainder of their scouting career.\nThe per scout cost is $30\, which covers teaching materials and awards to be presented at Scout Sunday in February 2023.\nAll are welcome to attend\, regardless of your religious affiliation. Your own religious institution may offer similar\, tailored programs.\nRegister below before November 23rd so we can ensure we have an accurate headcount\, and we can order the correct number of supplies. We look forward to seeing your family on December 3rd!\nSaturday\, Dec 3 and 10\, 2022; Jan 7 and 21\, 2023:\nWolf and Bear Scouts (2nd\, 3rd Grade); 10 AM -11 AM:\nWebelos Scouts (4th\, 5th Grade): 11 AM – Noon:\nQuestions? Reach out to service@pack55.org or pcc@pack55.org.\nFor more information please visit: HTTPS://scoutbook.scouting.org/mobile/dashboard/calendar/event.asp?EventID=4593727
URL:https://www.troop55htx.com/event/god-and-me-god-and-family-5/
LOCATION:Rm 210\, St John the Divine
CATEGORIES:Pack 55 (ALL)
END:VEVENT
BEGIN:VEVENT
DTSTART;TZID=UTC:20221202T013000
DTEND;TZID=UTC:20221202T023000
DTSTAMP:20260424T110111
CREATED:20220827T230641Z
LAST-MODIFIED:20221201T210358Z
UID:7710-1669944600-1669948200@www.troop55htx.com
SUMMARY:December Pack 55 Committee Meeting
DESCRIPTION:Attention Pack 55 Families!\nDo you enjoy participating in the campouts? How about the Pinewood Derby? If the answer is yes\, then come and take one hour out of your month to meet with our adult leaders and parents to help plan for the upcoming pack events. All adults are welcome to attend. At least one representative from each den is requested.\nYou are invited to a Zoom meeting.\nWhen: Dec 1\, 2022 07:30 PM Central Time (US and Canada)\nRegister in advance for this meeting: \nAfter registering\, you will receive a confirmation email containing information about joining the meeting.\nFor more information please visit: HTTPS://scoutbook.scouting.org/mobile/dashboard/calendar/event.asp?EventID=4593785
URL:https://www.troop55htx.com/event/december-pack-55-committee-meeting/
LOCATION:Zoom: https://us06web.zoom.us/meeting/register/tZ0tf-mppj4jGdVxSrI0gajarrB4A6Z2K2HF
CATEGORIES:Pack 55 (ALL)
END:VEVENT
BEGIN:VEVENT
DTSTART;TZID=UTC:20221202T010000
DTEND;TZID=UTC:20221202T020000
DTSTAMP:20260424T110111
CREATED:20220827T230641Z
LAST-MODIFIED:20221201T210358Z
UID:7709-1669942800-1669946400@www.troop55htx.com
SUMMARY:Recharter Turn-In Begins
DESCRIPTION:First chance to turn in recharter documents.\nFor more information please visit: HTTPS://scoutbook.scouting.org/mobile/dashboard/calendar/event.asp?EventID=4593723
URL:https://www.troop55htx.com/event/recharter-turn-in-begins/
LOCATION:District Roundtable
CATEGORIES:Pack 55 (ALL)
END:VEVENT
BEGIN:VEVENT
DTSTART;TZID=America/Chicago:20221202T000000
DTEND;TZID=America/Chicago:20221204T235959
DTSTAMP:20260424T110111
CREATED:20220719T163313Z
LAST-MODIFIED:20221204T213656Z
UID:7336-1669939200-1670198399@www.troop55htx.com
SUMMARY:T55 Campout at Yellow Creek (Wade Ranch)
DESCRIPTION:
URL:https://www.troop55htx.com/event/t55-campout-at-yellow-creek-wade-ranch/
CATEGORIES:Troop 55 (ALL)
END:VEVENT
BEGIN:VEVENT
DTSTART;TZID=America/Chicago:20221130T190000
DTEND;TZID=America/Chicago:20221130T200000
DTSTAMP:20260424T110111
CREATED:20220831T211037Z
LAST-MODIFIED:20221130T211800Z
UID:7806-1669834800-1669838400@www.troop55htx.com
SUMMARY:T55 Trailer Load Out: Stag Patrol
DESCRIPTION:
URL:https://www.troop55htx.com/event/t55-trailer-load-out-stag-patrol/
CATEGORIES:Troop 55 (ALL)
END:VEVENT
BEGIN:VEVENT
DTSTART;TZID=America/Chicago:20221129T190000
DTEND;TZID=America/Chicago:20221129T200000
DTSTAMP:20260424T110111
CREATED:20221104T191755Z
LAST-MODIFIED:20221129T211846Z
UID:8263-1669748400-1669752000@www.troop55htx.com
SUMMARY:T55 Life to Eagle meeting (for Life Scouts and their parents only)
DESCRIPTION:
URL:https://www.troop55htx.com/event/t55-life-to-eagle-meeting-for-life-scouts-and-their-parents-only/
CATEGORIES:Troop 55 (ALL)
END:VEVENT
BEGIN:VEVENT
DTSTART;TZID=America/Chicago:20221129T190000
DTEND;TZID=America/Chicago:20221129T200000
DTSTAMP:20260424T110111
CREATED:20220727T170953Z
LAST-MODIFIED:20221129T211846Z
UID:7385-1669748400-1669752000@www.troop55htx.com
SUMMARY:Troop 55 meeting
DESCRIPTION:
URL:https://www.troop55htx.com/event/troop-55-meeting-55/
CATEGORIES:Troop 55 (ALL)
END:VEVENT
BEGIN:VEVENT
DTSTART;TZID=America/Chicago:20221129T180000
DTEND;TZID=America/Chicago:20221129T190000
DTSTAMP:20260424T110111
CREATED:20220819T200720Z
LAST-MODIFIED:20221129T211846Z
UID:7640-1669744800-1669748400@www.troop55htx.com
SUMMARY:T55 Board of Review
DESCRIPTION:
URL:https://www.troop55htx.com/event/t55-board-of-review-4/
CATEGORIES:Troop 55 (ALL)
END:VEVENT
BEGIN:VEVENT
DTSTART;TZID=America/Chicago:20221122T190000
DTEND;TZID=America/Chicago:20221122T200000
DTSTAMP:20260424T110111
CREATED:20220727T170953Z
LAST-MODIFIED:20221113T200336Z
UID:7384-1669143600-1669147200@www.troop55htx.com
SUMMARY:Troop 55 meeting
DESCRIPTION:
URL:https://www.troop55htx.com/event/troop-55-meeting-54/
CATEGORIES:Troop 55 (ALL)
END:VEVENT
BEGIN:VEVENT
DTSTART;TZID=UTC:20221118T003000
DTEND;TZID=UTC:20221118T020000
DTSTAMP:20260424T110111
CREATED:20220803T214433Z
LAST-MODIFIED:20221117T194759Z
UID:7520-1668731400-1668736800@www.troop55htx.com
SUMMARY:Pack Meeting
DESCRIPTION:Join us for the November Pack Meeting – BEAR CARNIVAL! Our 3rd Grade Bear scouts will be putting on a fun carnival for the pack. We will start at 6:30 PM on Thursday\, Nov 17th. Don’t miss out on this really fun annual event! Every pack meeting is a recruiting event – bring a neighbor\, a friend\, or a classmate with you to see how much fun Cub Scouting is. All are welcome.\nFor more information please visit: HTTPS://scoutbook.scouting.org/mobile/dashboard/calendar/event.asp?EventID=4517901
URL:https://www.troop55htx.com/event/pack-meeting-2/
LOCATION:Scout Room\, Downstairs @ St John the Divine
CATEGORIES:Pack 55 (ALL)
END:VEVENT
BEGIN:VEVENT
DTSTART;TZID=America/Chicago:20221117T180000
DTEND;TZID=America/Chicago:20221117T190000
DTSTAMP:20260424T110111
CREATED:20221111T194807Z
LAST-MODIFIED:20221113T200336Z
UID:8366-1668708000-1668711600@www.troop55htx.com
SUMMARY:T55 meeting for Summer Camp Leaders only (invite only)
DESCRIPTION:
URL:https://www.troop55htx.com/event/t55-meeting-for-summer-camp-leaders-only-invite-only/
CATEGORIES:Troop 55 (ALL)
END:VEVENT
BEGIN:VEVENT
DTSTART;TZID=America/Chicago:20221115T190000
DTEND;TZID=America/Chicago:20221115T200000
DTSTAMP:20260424T110111
CREATED:20220727T170952Z
LAST-MODIFIED:20221115T200310Z
UID:7382-1668538800-1668542400@www.troop55htx.com
SUMMARY:Troop 55 Court of Honor
DESCRIPTION:
URL:https://www.troop55htx.com/event/troop-55-court-of-honor-7/
CATEGORIES:Troop 55 (ALL)
END:VEVENT
BEGIN:VEVENT
DTSTART;TZID=America/Chicago:20221115T190000
DTEND;TZID=America/Chicago:20221115T200000
DTSTAMP:20260424T110111
CREATED:20220727T170952Z
LAST-MODIFIED:20221111T194810Z
UID:7383-1668538800-1668542400@www.troop55htx.com
SUMMARY:Troop 55 meeting
DESCRIPTION:
URL:https://www.troop55htx.com/event/troop-55-meeting-53/
CATEGORIES:Troop 55 (ALL)
END:VEVENT
BEGIN:VEVENT
DTSTART;TZID=America/Chicago:20221113T150000
DTEND;TZID=America/Chicago:20221113T160000
DTSTAMP:20260424T110111
CREATED:20220830T210348Z
LAST-MODIFIED:20221113T200336Z
UID:7791-1668351600-1668355200@www.troop55htx.com
SUMMARY:Troop 55 Patrol Leaders Council meeting
DESCRIPTION:
URL:https://www.troop55htx.com/event/troop-55-patrol-leaders-council-meeting-4/
CATEGORIES:Troop 55 (ALL)
END:VEVENT
BEGIN:VEVENT
DTSTART;TZID=America/Chicago:20221113T140000
DTEND;TZID=America/Chicago:20221113T160000
DTSTAMP:20260424T110111
CREATED:20221104T191754Z
LAST-MODIFIED:20221113T200336Z
UID:8262-1668348000-1668355200@www.troop55htx.com
SUMMARY:T55 FCT event at Memorial Park Timing Track
DESCRIPTION:
URL:https://www.troop55htx.com/event/t55-fct-event-at-memorial-park-timing-track/
CATEGORIES:Troop 55 (ALL)
END:VEVENT
END:VCALENDAR