BEGIN:VCALENDAR
VERSION:2.0
PRODID:-//Troop 55 St. John the Divine - ECPv6.15.20//NONSGML v1.0//EN
CALSCALE:GREGORIAN
METHOD:PUBLISH
X-WR-CALNAME:Troop 55 St. John the Divine
X-ORIGINAL-URL:https://www.troop55htx.com
X-WR-CALDESC:Events for Troop 55 St. John the Divine
REFRESH-INTERVAL;VALUE=DURATION:PT1H
X-Robots-Tag:noindex
X-PUBLISHED-TTL:PT1H
BEGIN:VTIMEZONE
TZID:America/Chicago
BEGIN:DAYLIGHT
TZOFFSETFROM:-0600
TZOFFSETTO:-0500
TZNAME:CDT
DTSTART:20200308T080000
END:DAYLIGHT
BEGIN:STANDARD
TZOFFSETFROM:-0500
TZOFFSETTO:-0600
TZNAME:CST
DTSTART:20201101T070000
END:STANDARD
BEGIN:DAYLIGHT
TZOFFSETFROM:-0600
TZOFFSETTO:-0500
TZNAME:CDT
DTSTART:20210314T080000
END:DAYLIGHT
BEGIN:STANDARD
TZOFFSETFROM:-0500
TZOFFSETTO:-0600
TZNAME:CST
DTSTART:20211107T070000
END:STANDARD
BEGIN:DAYLIGHT
TZOFFSETFROM:-0600
TZOFFSETTO:-0500
TZNAME:CDT
DTSTART:20220313T080000
END:DAYLIGHT
BEGIN:STANDARD
TZOFFSETFROM:-0500
TZOFFSETTO:-0600
TZNAME:CST
DTSTART:20221106T070000
END:STANDARD
END:VTIMEZONE
BEGIN:VTIMEZONE
TZID:UTC
BEGIN:STANDARD
TZOFFSETFROM:+0000
TZOFFSETTO:+0000
TZNAME:UTC
DTSTART:20200101T000000
END:STANDARD
END:VTIMEZONE
BEGIN:VEVENT
DTSTART;TZID=America/Chicago:20211005T190000
DTEND;TZID=America/Chicago:20211005T200000
DTSTAMP:20260425T095013
CREATED:20210830T143440Z
LAST-MODIFIED:20211005T203256Z
UID:3708-1633460400-1633464000@www.troop55htx.com
SUMMARY:T55 Troop meeting
DESCRIPTION:
URL:https://www.troop55htx.com/event/troop-55-meeting-17/
LOCATION:The Church of St. John the Divine\, 2450 River Oaks Blvd\, Houston\, TX 77019\, USA
CATEGORIES:Troop 55 (ALL)
END:VEVENT
BEGIN:VEVENT
DTSTART;TZID=America/Chicago:20211005T190000
DTEND;TZID=America/Chicago:20211005T200000
DTSTAMP:20260425T095013
CREATED:20210924T183300Z
LAST-MODIFIED:20211005T203256Z
UID:4142-1633460400-1633464000@www.troop55htx.com
SUMMARY:T55 Parent Information Session: Basics of Scoutbook and Earning Merit Badges
DESCRIPTION:
URL:https://www.troop55htx.com/event/t55-parent-information-session-basics-of-scoutbook-and-earning-merit-badges/
LOCATION:TX
CATEGORIES:Troop 55 (ALL)
END:VEVENT
BEGIN:VEVENT
DTSTART;TZID=America/Chicago:20211007T180000
DTEND;TZID=America/Chicago:20211007T190000
DTSTAMP:20260425T095013
CREATED:20210903T161113Z
LAST-MODIFIED:20211007T151707Z
UID:4006-1633629600-1633633200@www.troop55htx.com
SUMMARY:T55 Troop Committee meeting (Zoom)
DESCRIPTION:
URL:https://www.troop55htx.com/event/t55-troop-committee-meeting-zoom/
LOCATION:TX
CATEGORIES:Troop 55 (ALL)
END:VEVENT
BEGIN:VEVENT
DTSTART;TZID=UTC:20211007T233000
DTEND;TZID=UTC:20211008T003000
DTSTAMP:20260425T095013
CREATED:20210830T143739Z
LAST-MODIFIED:20211007T151746Z
UID:3776-1633649400-1633653000@www.troop55htx.com
SUMMARY:Pack 55 October Committee Meeting
DESCRIPTION:Pack 55 Families\,\nAll interested adults are encouraged to join us the first Thursday of every month for pack committee meetings. At least one leader from each den should plan to attend. Your participation in these meetings is critical\, and it helps shape the Pack 55 calendar for the year. We have many big events that are upcoming and that require your input\, ideas and participation to make them successful. We look forward to seeing you at the committee meeting.\nYou are invited to a Zoom meeting.\nWhen: Oct 7\, 2021 06:30 PM Central Time (US and Canada)\nRegister in advance for this meeting: \nAfter registering\, you will receive a confirmation email containing information about joining the meeting.\nEthan Perry\nPack 55 Committee Chair\n832-580-2756\nFor more information please visit: HTTPS://scoutbook.scouting.org/mobile/dashboard/calendar/event.asp?EventID=3520753
URL:https://www.troop55htx.com/event/pack-55-october-committee-meeting-2/
LOCATION:On Zoom: Register in Advance at https://us06web.zoom.us/meeting/register/tZModO2qpzgvGNDg_cM4U_Py9PGIdo9FIEzQ
CATEGORIES:Pack 55 (ALL)
END:VEVENT
BEGIN:VEVENT
DTSTART;TZID=UTC:20211008T190000
DTEND;TZID=UTC:20211010T150000
DTSTAMP:20260425T095013
CREATED:20210830T143739Z
LAST-MODIFIED:20211009T154205Z
UID:3778-1633719600-1633878000@www.troop55htx.com
SUMMARY:Fun with Family
DESCRIPTION:NOT A PACK 55 SPONSORED EVENT\, BUT INDIVIDUAL FAMILIES ARE ENCOURAGED TO PARTICIPATE!\nFun with Family? gives newly registered Cub Scouts and their families an opportunity to experience an overnight campout. The event is held at Bovay Scout Ranch. Fun with Family is a half-day event for newly registered Cub Scouts and their adult partner and families at Bovay Scout Ranch (3450 County Rd 317\, Navasota\, TX 77868). Lions\, Tigers\, Wolves\, Bears and Webelos Scouts (accompanied by a parent or guardian) can participate in an exciting variety of activities such as archery\, BB guns\, disc golf and more.\nTrained staffers will provide program supplies and will lead the activities\nInformation and Registration at:\nFriday/Saturday Schedule\nFriday:5:00 to 7:00 pm – Check-in\, Camp set up\n 7:00 pm – Dinner\n 8:30 pm – Campfire\nSaturday:7:00 am – Breakfast\n 8:00 am to noon – Program\nSaturday/Sunday Schedule\nSaturday:12:00 to 2:00 pm – Check-in\, Camp set up\n 2:00 to 6:00 pm – Program\n 7:00 pm – Dinner\n 8:30 pm – Campfire\nSunday:7:00 am – Breakfast\n 8:30 am – Interfaith Service (Inspirational\, inter-faith ceremony of praise and worship)\nFor more information please visit: HTTPS://scoutbook.scouting.org/mobile/dashboard/calendar/event.asp?EventID=3645180
URL:https://www.troop55htx.com/event/fun-with-family/
LOCATION:Camp Bovay\, Navasota
CATEGORIES:Pack 55 (ALL)
END:VEVENT
BEGIN:VEVENT
DTSTART;TZID=America/Chicago:20211012T181500
DTEND;TZID=America/Chicago:20211012T190000
DTSTAMP:20260425T095013
CREATED:20211004T203436Z
LAST-MODIFIED:20211012T153447Z
UID:4543-1634062500-1634065200@www.troop55htx.com
SUMMARY:T55 FCT Scouts meeting
DESCRIPTION:
URL:https://www.troop55htx.com/event/t55-fct-scouts-meeting-2/
LOCATION:TX
CATEGORIES:Troop 55 (ALL)
END:VEVENT
BEGIN:VEVENT
DTSTART;TZID=America/Chicago:20211012T190000
DTEND;TZID=America/Chicago:20211012T200000
DTSTAMP:20260425T095013
CREATED:20210830T143440Z
LAST-MODIFIED:20211012T153447Z
UID:3709-1634065200-1634068800@www.troop55htx.com
SUMMARY:T55 Troop meeting
DESCRIPTION:
URL:https://www.troop55htx.com/event/troop-55-meeting-18/
LOCATION:The Church of St. John the Divine\, 2450 River Oaks Blvd\, Houston\, TX 77019\, USA
CATEGORIES:Troop 55 (ALL)
END:VEVENT
BEGIN:VEVENT
DTSTART;TZID=America/Chicago:20211013T000000
DTEND;TZID=America/Chicago:20211013T235959
DTSTAMP:20260425T095013
CREATED:20210830T143441Z
LAST-MODIFIED:20211013T155120Z
UID:3710-1634083200-1634169599@www.troop55htx.com
SUMMARY:Troop 55 Trailer Load-up: Hawk Patrol
DESCRIPTION:
URL:https://www.troop55htx.com/event/troop-55-trailer-load-up-hawk-patrol/
LOCATION:5936 S Loop E Fwy\, Houston\, TX 77033\, USA
CATEGORIES:Troop 55 (ALL)
END:VEVENT
BEGIN:VEVENT
DTSTART;TZID=America/Chicago:20211015T000000
DTEND;TZID=America/Chicago:20211017T235959
DTSTAMP:20260425T095013
CREATED:20210830T143441Z
LAST-MODIFIED:20211017T160958Z
UID:3712-1634256000-1634515199@www.troop55htx.com
SUMMARY:Troop 55 Campout at Camp Strake
DESCRIPTION:
URL:https://www.troop55htx.com/event/troop-55-campout-at-camp-strake/
LOCATION:Camp Strake\, 2020 Camp Strake Rd\, Coldspring\, TX 77331\, USA
CATEGORIES:Troop 55 (ALL)
END:VEVENT
BEGIN:VEVENT
DTSTART;TZID=UTC:20211015T190000
DTEND;TZID=UTC:20211017T150000
DTSTAMP:20260425T095013
CREATED:20210830T143739Z
LAST-MODIFIED:20211016T165141Z
UID:3781-1634324400-1634482800@www.troop55htx.com
SUMMARY:Cub Scout Adventure Camp @ Camp Bovay
DESCRIPTION:Not a Pack 55 Event; individual families can register for the event\nFor more information please visit: HTTPS://scoutbook.scouting.org/mobile/dashboard/calendar/event.asp?EventID=3645190
URL:https://www.troop55htx.com/event/cub-scout-adventure-camp-camp-bovay-2/
LOCATION:Camp Bovay\, Navasota
CATEGORIES:Pack 55 (ALL)
END:VEVENT
BEGIN:VEVENT
DTSTART;TZID=UTC:20211015T230000
DTEND;TZID=UTC:20211017T230000
DTSTAMP:20260425T095013
CREATED:20210830T143739Z
LAST-MODIFIED:20211017T164803Z
UID:3780-1634338800-1634511600@www.troop55htx.com
SUMMARY:Jamboree on the Internet
DESCRIPTION:Optional Event – Participation satisfies several rank specific adventure requirements. More information at .\nFor more information please visit: HTTPS://scoutbook.scouting.org/mobile/dashboard/calendar/event.asp?EventID=3645192
URL:https://www.troop55htx.com/event/jambroee-on-the-internet/
LOCATION:https://www.scouting.org/international/jota-joti/joti/
CATEGORIES:Pack 55 (ALL)
END:VEVENT
BEGIN:VEVENT
DTSTART;TZID=America/Chicago:20211017T000000
DTEND;TZID=America/Chicago:20211017T235959
DTSTAMP:20260425T095013
CREATED:20210830T143441Z
LAST-MODIFIED:20211017T160958Z
UID:3713-1634428800-1634515199@www.troop55htx.com
SUMMARY:Troop 55 Trailer Load-out: Stag Patrol
DESCRIPTION:
URL:https://www.troop55htx.com/event/troop-55-trailer-load-out-stag-patrol/
LOCATION:5936 S Loop E Fwy\, Houston\, TX 77033\, USA
CATEGORIES:Troop 55 (ALL)
END:VEVENT
BEGIN:VEVENT
DTSTART;TZID=UTC:20211017T130000
DTEND;TZID=UTC:20211017T180000
DTSTAMP:20260425T095013
CREATED:20210903T144028Z
LAST-MODIFIED:20211017T164803Z
UID:4003-1634475600-1634493600@www.troop55htx.com
SUMMARY:Popcorn Show and Sell at St John the Divine
DESCRIPTION:In-Person Show and Sell at SJD. SignUp Genius link for time slots:\nFor more information please visit: HTTPS://scoutbook.scouting.org/mobile/dashboard/calendar/event.asp?EventID=3892558
URL:https://www.troop55htx.com/event/popcorn-show-and-sell-at-st-john-the-divine/
LOCATION:TX
CATEGORIES:Pack 55 (ALL)
END:VEVENT
BEGIN:VEVENT
DTSTART;TZID=America/Chicago:20211019T000000
DTEND;TZID=America/Chicago:20211019T235959
DTSTAMP:20260425T095013
CREATED:20210830T160515Z
LAST-MODIFIED:20211019T161843Z
UID:3899-1634601600-1634687999@www.troop55htx.com
SUMMARY:Advancement Deadline for Next COH
DESCRIPTION:
URL:https://www.troop55htx.com/event/advancement-deadline-for-next-coh-2/
LOCATION:TX
CATEGORIES:Troop 55 (ALL)
END:VEVENT
BEGIN:VEVENT
DTSTART;TZID=America/Chicago:20211019T181500
DTEND;TZID=America/Chicago:20211019T190000
DTSTAMP:20260425T095013
CREATED:20211004T203437Z
LAST-MODIFIED:20211019T161843Z
UID:4545-1634667300-1634670000@www.troop55htx.com
SUMMARY:T55 FCT Scouts meeting
DESCRIPTION:
URL:https://www.troop55htx.com/event/t55-fct-scouts-meeting-3/
LOCATION:TX
CATEGORIES:Troop 55 (ALL)
END:VEVENT
BEGIN:VEVENT
DTSTART;TZID=America/Chicago:20211019T190000
DTEND;TZID=America/Chicago:20211019T200000
DTSTAMP:20260425T095013
CREATED:20210830T143441Z
LAST-MODIFIED:20211019T161843Z
UID:3714-1634670000-1634673600@www.troop55htx.com
SUMMARY:T55 Troop meeting
DESCRIPTION:
URL:https://www.troop55htx.com/event/troop-55-meeting-19/
LOCATION:The Church of St. John the Divine\, 2450 River Oaks Blvd\, Houston\, TX 77019\, USA
CATEGORIES:Troop 55 (ALL)
END:VEVENT
BEGIN:VEVENT
DTSTART;TZID=America/Chicago:20211019T190000
DTEND;TZID=America/Chicago:20211019T200000
DTSTAMP:20260425T095013
CREATED:20210924T183300Z
LAST-MODIFIED:20211019T161843Z
UID:4143-1634670000-1634673600@www.troop55htx.com
SUMMARY:T55 Life-to-Eagle Scout/Parent informational meeting (location TBD)
DESCRIPTION:
URL:https://www.troop55htx.com/event/t55-life-to-eagle-scout-parent-informational-meeting-location-tbd/
LOCATION:TX
CATEGORIES:Troop 55 (ALL)
END:VEVENT
BEGIN:VEVENT
DTSTART;TZID=UTC:20211021T234500
DTEND;TZID=UTC:20211022T010000
DTSTAMP:20260425T095013
CREATED:20210830T143739Z
LAST-MODIFIED:20211021T172206Z
UID:3783-1634859900-1634864400@www.troop55htx.com
SUMMARY:October Pack Meeting
DESCRIPTION:Join us for a fun Pre-Campout Expo and find out who the current online popcorn top sellers by rank are at the October Pack Meeting!\nBring a camp chair\, a flashlight/headlamp (it’ll get dark)\, and a face mask.\nWe will use our October Pack Meeting as a Camping Expo in anticipation of our Pack 55 Fall Campout which is scheduled for 11/05 – 11/07.  This Expo will be ideal both for new families who have less experience camping as well as seasoned veterans who are looking to brush up on their skills.  Featured topics will include: campout cooking\, cooking and camping gear both basic and advanced\, and basic camping skills like how to pitch a tent.  This content will be delivered through live demonstrations in a format that will allow ample time for questions.  Any leaders who have deep camping experience are encouraged to volunteer to help lead our sessions.\nOur pack popcorn sale is underway! All scouts should have their popcorn sales account setup and be making sales online and/or in-person. The current top online popcorn sales leaders by rank will be recognized at this pack meeting. Have fun\, win prizes\, develop communication and entrepreneurial skills\, and earn money to support our 2021-22 Pack 55 Cub Scout program. Popcorn questions? Email popcorn@pack55.org.\nFor more information please visit: HTTPS://scoutbook.scouting.org/mobile/dashboard/calendar/event.asp?EventID=3522975
URL:https://www.troop55htx.com/event/october-pack-meeting/
LOCATION:North Lawn\, St John the Divine
CATEGORIES:Pack 55 (ALL)
END:VEVENT
BEGIN:VEVENT
DTSTART;TZID=UTC:20211022T190000
DTEND;TZID=UTC:20211024T150000
DTSTAMP:20260425T095013
CREATED:20210830T143740Z
LAST-MODIFIED:20211023T175136Z
UID:3784-1634929200-1635087600@www.troop55htx.com
SUMMARY:SPOO-KOO-REE\, 1 NIGHT OF CAMPING AND DAY OF FUN ACTIVITIES - Cub Scout Adventure Camp @ Camp Bovay
DESCRIPTION:2021 FALL BOVAY SCOUT RANCH MCNAIR ADVENTURE CAMP REGISTRATION\nSPOO-KOO-REE\n10/22/2021 3:00 PM – 10/24/2021 11:00 AM\nCome Join families from Pack 55 for a fun-filled weekend at BOVAY SCOUT RANCH\nSpoo-koo-ree is a weekend event for Cub Scouts (kindergarten – 5th grade) and their families.\nDATE/TIME: 10/22/2021 3:00 PM – 10/24/2021 11:00 AM\nLAST DAY TO REGISTER: 10/4/2021\nLOCATION: 3450 County Road #317 Navasota\, TX 77868\, US\nMcNair Adventure Camp: Scouts and their family members will enjoy an exciting variety of\nactivities. Trained Certified Staffers will provide program supplies and will lead the activities.\nCOST: $40 per attendee\, Siblings under 5 yrs old may attend for FREE!\nAdmission covers (3) three meals for all (Sat. Lunch and Dinner & Sun. Breakfast) and the Scout’s activity\nsupplies plus a patch for the Scouts! For meals concerns please contact Mr. Geno\nAguilar geno.aguilar@scouting.org 713-756-3304 – 30 days prior to your camping date.\nCampsites\, restrooms and showers will be available!\nThis is NOT a pack sponsored event but several pack families will be in attendance!\nPlease register on your own using the provided link.\nSpace is limited and will fill quickly.\n$100.00 deposit (non-refundable) is due with reservation and the estimated number of attendees (Please\nmail the deposit fee to SHAC or Call Geno with a CC). All camping reservation fees should be paid at\nthe council office (or on the online system) prior to your camping date.\nFor additional information or requests please contact Geno Aguilar at 713-756-3304 or\ngeno.aguilar@shac.org\nFor more information please visit: HTTPS://scoutbook.scouting.org/mobile/dashboard/calendar/event.asp?EventID=3645193
URL:https://www.troop55htx.com/event/cub-scout-adventure-camp-camp-bovay-3/
LOCATION:Camp Bovay\, Navasota
CATEGORIES:Pack 55 (ALL)
END:VEVENT
BEGIN:VEVENT
DTSTART;TZID=America/Chicago:20211024T150000
DTEND;TZID=America/Chicago:20211024T160000
DTSTAMP:20260425T095013
CREATED:20210830T143441Z
LAST-MODIFIED:20211024T163552Z
UID:3716-1635087600-1635091200@www.troop55htx.com
SUMMARY:T55 Patrol Leaders' Council (PLC)
DESCRIPTION:
URL:https://www.troop55htx.com/event/t55-patrol-leaders-council-plc-2/
LOCATION:SJD\, Room 210
CATEGORIES:Troop 55 (ALL)
END:VEVENT
BEGIN:VEVENT
DTSTART;TZID=America/Chicago:20211026T181500
DTEND;TZID=America/Chicago:20211026T190000
DTSTAMP:20260425T095013
CREATED:20211004T203437Z
LAST-MODIFIED:20211026T170720Z
UID:4547-1635272100-1635274800@www.troop55htx.com
SUMMARY:T55 FCT Scouts meeting
DESCRIPTION:
URL:https://www.troop55htx.com/event/t55-fct-scouts-meeting-4/
LOCATION:TX
CATEGORIES:Troop 55 (ALL)
END:VEVENT
BEGIN:VEVENT
DTSTART;TZID=America/Chicago:20211026T190000
DTEND;TZID=America/Chicago:20211026T200000
DTSTAMP:20260425T095013
CREATED:20210830T143441Z
LAST-MODIFIED:20211026T170720Z
UID:3717-1635274800-1635278400@www.troop55htx.com
SUMMARY:T55 Troop meeting
DESCRIPTION:
URL:https://www.troop55htx.com/event/troop-55-meeting-20/
LOCATION:The Church of St. John the Divine\, 2450 River Oaks Blvd\, Houston\, TX 77019\, USA
CATEGORIES:Troop 55 (ALL)
END:VEVENT
BEGIN:VEVENT
DTSTART;TZID=UTC:20211027T010000
DTEND;TZID=UTC:20211027T020000
DTSTAMP:20260425T095013
CREATED:20210830T143740Z
LAST-MODIFIED:20211026T180327Z
UID:3785-1635296400-1635300000@www.troop55htx.com
SUMMARY:In-Person Popcorn Sales End - Turn in your Orders to your Den Popcorn Kernel
DESCRIPTION:Thank you to you and your scout for making this year’s Pack 55 Popcorn Sales Fundraiser a great success! Please turn in your in-person order forms to your Den Popcorn Kernel TODAY! Online Sales can continue through the end of the year.\nFor more information please visit: HTTPS://scoutbook.scouting.org/mobile/dashboard/calendar/event.asp?EventID=3846005
URL:https://www.troop55htx.com/event/in-person-popcorn-sales-end-turn-in-your-orders-to-your-den-popcorn-kernel/
LOCATION:TX
CATEGORIES:Pack 55 (ALL)
END:VEVENT
BEGIN:VEVENT
DTSTART;TZID=UTC:20211029T190000
DTEND;TZID=UTC:20211031T150000
DTSTAMP:20260425T095013
CREATED:20210830T143740Z
LAST-MODIFIED:20211030T183542Z
UID:3786-1635534000-1635692400@www.troop55htx.com
SUMMARY:Cub Scout Adventure Camp @ Camp Bovay
DESCRIPTION:For more information please visit: HTTPS://scoutbook.scouting.org/mobile/dashboard/calendar/event.asp?EventID=3645195
URL:https://www.troop55htx.com/event/cub-scout-adventure-camp-camp-bovay-4/
LOCATION:Camp Bovay\, Navasota
CATEGORIES:Pack 55 (ALL)
END:VEVENT
BEGIN:VEVENT
DTSTART;TZID=UTC:20211031T190000
DTEND;TZID=UTC:20211031T190000
DTSTAMP:20260425T095013
CREATED:20210830T143740Z
LAST-MODIFIED:20211031T183637Z
UID:3787-1635706800-1635706800@www.troop55htx.com
SUMMARY:Deadline for Returning Pack 55 Scouts to Pay Annual Dues/Activity Fee Ahead of Recharter
DESCRIPTION:For more information please visit: HTTPS://scoutbook.scouting.org/mobile/dashboard/calendar/event.asp?EventID=3645196
URL:https://www.troop55htx.com/event/deadline-for-returning-pack-55-scouts-to-pay-annual-dues-activity-fee-ahead-of-recharter/
LOCATION:TX
CATEGORIES:Pack 55 (ALL)
END:VEVENT
BEGIN:VEVENT
DTSTART;TZID=America/Chicago:20211102T181500
DTEND;TZID=America/Chicago:20211102T190000
DTSTAMP:20260425T095013
CREATED:20211004T203437Z
LAST-MODIFIED:20211101T174927Z
UID:4548-1635876900-1635879600@www.troop55htx.com
SUMMARY:T55 FCT Scouts meeting
DESCRIPTION:
URL:https://www.troop55htx.com/event/t55-fct-scouts-meeting-5/
LOCATION:TX
CATEGORIES:Troop 55 (ALL)
END:VEVENT
BEGIN:VEVENT
DTSTART;TZID=America/Chicago:20211102T190000
DTEND;TZID=America/Chicago:20211102T200000
DTSTAMP:20260425T095013
CREATED:20210830T143441Z
LAST-MODIFIED:20211102T175208Z
UID:3718-1635879600-1635883200@www.troop55htx.com
SUMMARY:T55 Troop meeting
DESCRIPTION:
URL:https://www.troop55htx.com/event/troop-55-meeting-21/
LOCATION:The Church of St. John the Divine\, 2450 River Oaks Blvd\, Houston\, TX 77019\, USA
CATEGORIES:Troop 55 (ALL)
END:VEVENT
BEGIN:VEVENT
DTSTART;TZID=America/Chicago:20211103T000000
DTEND;TZID=America/Chicago:20211103T235959
DTSTAMP:20260425T095013
CREATED:20210830T143441Z
LAST-MODIFIED:20211103T180532Z
UID:3719-1635897600-1635983999@www.troop55htx.com
SUMMARY:Troop 55 Trailer Load-up: Tiger Patrol
DESCRIPTION:
URL:https://www.troop55htx.com/event/troop-55-trailer-load-up-tiger-patrol/
LOCATION:5936 S Loop E Fwy\, Houston\, TX 77033\, USA
CATEGORIES:Troop 55 (ALL)
END:VEVENT
BEGIN:VEVENT
DTSTART;TZID=UTC:20211104T233000
DTEND;TZID=UTC:20211105T003000
DTSTAMP:20260425T095013
CREATED:20210830T143740Z
LAST-MODIFIED:20211104T190303Z
UID:3789-1636068600-1636072200@www.troop55htx.com
SUMMARY:Pack 55 November Committee Meeting
DESCRIPTION:All interested parents are encouraged to join us the first Thursday of every month for pack committee meetings. We look forward to seeing you there.\nYou are invited to a Zoom meeting.\nWhen: Nov 4\, 2021 06:30 PM Central Time (US and Canada)\nRegister in advance for this meeting: \nAfter registering\, you will receive a confirmation email containing information about joining the meeting.\nEthan Perry\nPack 55 Committee Chair\n832-580-2756\nFor more information please visit: HTTPS://scoutbook.scouting.org/mobile/dashboard/calendar/event.asp?EventID=3520757
URL:https://www.troop55htx.com/event/pack-55-november-committee-meeting/
LOCATION:On Zoom: Register in Advance at https://us06web.zoom.us/meeting/register/tZIpc-Coqj8pE9aF4jF_NUdorPUcjnhsiWqL
CATEGORIES:Pack 55 (ALL)
END:VEVENT
BEGIN:VEVENT
DTSTART;TZID=America/Chicago:20211105T000000
DTEND;TZID=America/Chicago:20211107T235959
DTSTAMP:20260425T095013
CREATED:20210830T143441Z
LAST-MODIFIED:20211107T185032Z
UID:3725-1636070400-1636329599@www.troop55htx.com
SUMMARY:Troop 55 Campout at Kerr Creek Ranch
DESCRIPTION:
URL:https://www.troop55htx.com/event/troop-55-campout-location-tbd-2/
LOCATION:TX
CATEGORIES:Troop 55 (ALL)
END:VEVENT
END:VCALENDAR