BEGIN:VCALENDAR
VERSION:2.0
PRODID:-//Troop 55 St. John the Divine - ECPv6.15.20//NONSGML v1.0//EN
CALSCALE:GREGORIAN
METHOD:PUBLISH
X-WR-CALNAME:Troop 55 St. John the Divine
X-ORIGINAL-URL:https://www.troop55htx.com
X-WR-CALDESC:Events for Troop 55 St. John the Divine
REFRESH-INTERVAL;VALUE=DURATION:PT1H
X-Robots-Tag:noindex
X-PUBLISHED-TTL:PT1H
BEGIN:VTIMEZONE
TZID:America/Chicago
BEGIN:DAYLIGHT
TZOFFSETFROM:-0600
TZOFFSETTO:-0500
TZNAME:CDT
DTSTART:20220313T080000
END:DAYLIGHT
BEGIN:STANDARD
TZOFFSETFROM:-0500
TZOFFSETTO:-0600
TZNAME:CST
DTSTART:20221106T070000
END:STANDARD
BEGIN:DAYLIGHT
TZOFFSETFROM:-0600
TZOFFSETTO:-0500
TZNAME:CDT
DTSTART:20230312T080000
END:DAYLIGHT
BEGIN:STANDARD
TZOFFSETFROM:-0500
TZOFFSETTO:-0600
TZNAME:CST
DTSTART:20231105T070000
END:STANDARD
BEGIN:DAYLIGHT
TZOFFSETFROM:-0600
TZOFFSETTO:-0500
TZNAME:CDT
DTSTART:20240310T080000
END:DAYLIGHT
BEGIN:STANDARD
TZOFFSETFROM:-0500
TZOFFSETTO:-0600
TZNAME:CST
DTSTART:20241103T070000
END:STANDARD
END:VTIMEZONE
BEGIN:VTIMEZONE
TZID:UTC
BEGIN:STANDARD
TZOFFSETFROM:+0000
TZOFFSETTO:+0000
TZNAME:UTC
DTSTART:20220101T000000
END:STANDARD
END:VTIMEZONE
BEGIN:VEVENT
DTSTART;TZID=America/Chicago:20230302T180000
DTEND;TZID=America/Chicago:20230302T190000
DTSTAMP:20260422T152756
CREATED:20220802T180420Z
LAST-MODIFIED:20230102T001807Z
UID:7495-1677780000-1677783600@www.troop55htx.com
SUMMARY:Troop 55 Committee monthly meeting
DESCRIPTION:Join Zoom Meetinghttps://us06web.zoom.us/j/82941611340?pwd=bkp3R1I3T09rWWZmL3JsVEduckNXUT09 \nMeeting ID: 829 4161 1340Passcode: 646687
URL:https://www.troop55htx.com/event/troop-55-committee-monthly-meeting-8/
LOCATION:https://us06web.zoom.us/j/82941611340?pwd=bkp3R1I3T09rWWZmL3JsVEduckNXUT09
CATEGORIES:Troop 55 (ALL)
END:VEVENT
BEGIN:VEVENT
DTSTART;TZID=America/Chicago:20230228T190000
DTEND;TZID=America/Chicago:20230228T200000
DTSTAMP:20260422T152756
CREATED:20220727T170954Z
LAST-MODIFIED:20230123T005922Z
UID:7398-1677610800-1677614400@www.troop55htx.com
SUMMARY:Troop 55 meeting
DESCRIPTION:
URL:https://www.troop55htx.com/event/troop-55-meeting-68/
CATEGORIES:Troop 55 (ALL)
END:VEVENT
BEGIN:VEVENT
DTSTART;TZID=America/Chicago:20230228T190000
DTEND;TZID=America/Chicago:20230228T200000
DTSTAMP:20260422T152756
CREATED:20220727T170954Z
LAST-MODIFIED:20230228T024444Z
UID:7399-1677610800-1677614400@www.troop55htx.com
SUMMARY:Troop 55 Court of Honor
DESCRIPTION:
URL:https://www.troop55htx.com/event/troop-55-court-of-honor-8/
CATEGORIES:Troop 55 (ALL)
END:VEVENT
BEGIN:VEVENT
DTSTART;TZID=America/Chicago:20230224T000000
DTEND;TZID=America/Chicago:20230226T235959
DTSTAMP:20260422T152756
CREATED:20221111T194809Z
LAST-MODIFIED:20230226T024444Z
UID:8367-1677196800-1677455999@www.troop55htx.com
SUMMARY:T55 Campout: Camporee at Camp Strake
DESCRIPTION:
URL:https://www.troop55htx.com/event/t55-campout-camporee-at-camp-strake/
LOCATION:Camp Strake\, 2020 Camp Strake Rd\, Coldspring\, TX 77331\, USA
CATEGORIES:Troop 55 (ALL)
END:VEVENT
BEGIN:VEVENT
DTSTART;TZID=UTC:20230224T000000
DTEND;TZID=UTC:20230224T020000
DTSTAMP:20260422T152756
CREATED:20230121T232921Z
LAST-MODIFIED:20230224T015953Z
UID:8854-1677196800-1677204000@www.troop55htx.com
SUMMARY:Important Announcements/Reminders: Blue and Gold Banquet (Thu\, Feb 23\, 2023\, 6pm - 8pm @ SJD)
DESCRIPTION:Pack 55 Families.\nWe look forward to seeing you and your scouts at the Blue and Gold Banquet tomorrow (Thursday\, February 23rd\, 6:00 PM) at St John the Divine.\n1. The event starts at 6:00 PM CT sharp.  Please arrive a few minutes early to get settled.\n2. Food will be served immediately after the opening flag ceremony.\n3. Please don’t forget to bring non-perishable food items that will be donated to Houston Food Bank.   to food items the Houston Food Bank has requested.  Each family who donates will get a raffle ticket to win a prize.  There are some really cool prizes to give away!!!\n4. Every pack meeting is a recruiting event – bring a neighbor\, a friend\, or a classmate with you to see how much fun Cub Scouting is.  All are welcome.\nTo make sure we have proper seating arrangements and order the right amount of food/drinks\, we would like to request you to fill out this RSVP form (will take less than 1 minute).  .  Having an accurate headcount will help us tremendously in planning this event.  Thank you for your support.\nWe have great entertainment (Magician\, Wolf Dens Performance)\, Award Ceremonies\, Food and Prizes planned for this event.  Don’t miss out on this really fun annual event!\nCome and celebrate the scouting way!\nPack meeting questions? Email cubmaster@pack55.org\nFor more information please visit: HTTPS://scoutbook.scouting.org/mobile/dashboard/calendar/event.asp?EventID=4158616
URL:https://www.troop55htx.com/event/blue-and-gold-banquet-february-pack-meeting-3/
LOCATION:Hall Life Center (basketball court)\, St John the Divine
CATEGORIES:Pack 55 (ALL)
END:VEVENT
BEGIN:VEVENT
DTSTART;TZID=UTC:20230223T220000
DTEND;TZID=UTC:20230224T020000
DTSTAMP:20260422T152756
CREATED:20211224T002455Z
LAST-MODIFIED:20230120T232914Z
UID:5889-1677189600-1677204000@www.troop55htx.com
SUMMARY:Blue and Gold Banquet\, February Pack Meeting
DESCRIPTION:Blue and Gold Banquet Run by the Wolf Dens\nFor more information please visit: HTTPS://scoutbook.scouting.org/mobile/dashboard/calendar/event.asp?EventID=4158616
URL:https://www.troop55htx.com/event/blue-and-gold-banquet-february-pack-meeting-2/
LOCATION:Hall Life Center\, St John the Divine
CATEGORIES:Pack 55 (ALL)
END:VEVENT
BEGIN:VEVENT
DTSTART;TZID=America/Chicago:20230222T190000
DTEND;TZID=America/Chicago:20230222T200000
DTSTAMP:20260422T152756
CREATED:20220928T002035Z
LAST-MODIFIED:20230204T205520Z
UID:7922-1677092400-1677096000@www.troop55htx.com
SUMMARY:T55 Trailer Load Out: Cobra Patrol
DESCRIPTION:
URL:https://www.troop55htx.com/event/t55-trailer-load-out-cobra-patrol-2/
LOCATION:5936 S Loop E\, Houston\, TX 77033\, USA
CATEGORIES:Troop 55 (ALL)
END:VEVENT
BEGIN:VEVENT
DTSTART;TZID=America/Chicago:20230221T190000
DTEND;TZID=America/Chicago:20230221T200000
DTSTAMP:20260422T152756
CREATED:20220727T170954Z
LAST-MODIFIED:20230221T023039Z
UID:7397-1677006000-1677009600@www.troop55htx.com
SUMMARY:Troop 55 meeting
DESCRIPTION:
URL:https://www.troop55htx.com/event/troop-55-meeting-67/
CATEGORIES:Troop 55 (ALL)
END:VEVENT
BEGIN:VEVENT
DTSTART;TZID=America/Chicago:20230221T180000
DTEND;TZID=America/Chicago:20230221T190000
DTSTAMP:20260422T152756
CREATED:20230217T020153Z
LAST-MODIFIED:20230221T023039Z
UID:9031-1677002400-1677006000@www.troop55htx.com
SUMMARY:T55 FCT meeting
DESCRIPTION:
URL:https://www.troop55htx.com/event/t55-fct-meeting-11/
CATEGORIES:Troop 55 (ALL)
END:VEVENT
BEGIN:VEVENT
DTSTART;TZID=America/Chicago:20230220T180000
DTEND;TZID=America/Chicago:20230220T190000
DTSTAMP:20260422T152756
CREATED:20230206T014459Z
LAST-MODIFIED:20230220T022911Z
UID:8967-1676916000-1676919600@www.troop55htx.com
SUMMARY:T55 PLC meeting
DESCRIPTION:
URL:https://www.troop55htx.com/event/t55-plc-meeting-3/
CATEGORIES:Troop 55 (ALL)
END:VEVENT
BEGIN:VEVENT
DTSTART;TZID=America/Chicago:20230220T150000
DTEND;TZID=America/Chicago:20230220T180000
DTSTAMP:20260422T152756
CREATED:20230124T005931Z
LAST-MODIFIED:20230220T022911Z
UID:8870-1676905200-1676916000@www.troop55htx.com
SUMMARY:T55 Personal Management MB class (Room 236 Youth Room)
DESCRIPTION:
URL:https://www.troop55htx.com/event/t55-personal-management-mb-class-room-236-youth-room/
CATEGORIES:Troop 55 (ALL)
END:VEVENT
BEGIN:VEVENT
DTSTART;TZID=America/Chicago:20230219T190000
DTEND;TZID=America/Chicago:20230219T200000
DTSTAMP:20260422T152756
CREATED:20230216T015927Z
LAST-MODIFIED:20230219T021425Z
UID:9022-1676833200-1676836800@www.troop55htx.com
SUMMARY:T55 Parent meeting about 2023 Summer Camps (Zoom)
DESCRIPTION:
URL:https://www.troop55htx.com/event/t55-parent-meeting-about-2023-summer-camps-zoom/
LOCATION:https://us06web.zoom.us/j/82941611340?pwd=bkp3R1I3T09rWWZmL3JsVEduckNXUT09
CATEGORIES:Troop 55 (ALL)
END:VEVENT
BEGIN:VEVENT
DTSTART;TZID=America/Chicago:20230219T140000
DTEND;TZID=America/Chicago:20230219T160000
DTSTAMP:20260422T152756
CREATED:20230211T015934Z
LAST-MODIFIED:20230219T021425Z
UID:8986-1676815200-1676822400@www.troop55htx.com
SUMMARY:T55 FCT Tenderfoot Fitness Test (Memorial Park)
DESCRIPTION:
URL:https://www.troop55htx.com/event/t55-fct-tenderfoot-fitness-test-memorial-park/
CATEGORIES:Troop 55 (ALL)
END:VEVENT
BEGIN:VEVENT
DTSTART;TZID=America/Chicago:20230219T130000
DTEND;TZID=America/Chicago:20230219T140000
DTSTAMP:20260422T152756
CREATED:20230216T015927Z
LAST-MODIFIED:20230219T021425Z
UID:9021-1676811600-1676815200@www.troop55htx.com
SUMMARY:T55 Personal Fitness MB exercise session (Memorial Park)
DESCRIPTION:
URL:https://www.troop55htx.com/event/t55-personal-fitness-mb-exercise-session-memorial-park-2/
CATEGORIES:Troop 55 (ALL)
END:VEVENT
BEGIN:VEVENT
DTSTART;TZID=America/Chicago:20230214T190000
DTEND;TZID=America/Chicago:20230214T200000
DTSTAMP:20260422T152756
CREATED:20220727T170954Z
LAST-MODIFIED:20230215T015910Z
UID:7396-1676401200-1676404800@www.troop55htx.com
SUMMARY:Troop 55 meeting
DESCRIPTION:
URL:https://www.troop55htx.com/event/troop-55-meeting-66/
CATEGORIES:Troop 55 (ALL)
END:VEVENT
BEGIN:VEVENT
DTSTART;TZID=UTC:20230210T003000
DTEND;TZID=UTC:20230210T013000
DTSTAMP:20260422T152756
CREATED:20230202T002923Z
LAST-MODIFIED:20230210T012916Z
UID:8931-1675989000-1675992600@www.troop55htx.com
SUMMARY:St John the Divine Presents: Help! There's a Teenager in the House! Speaker Series
DESCRIPTION:Pack 55 Families\,\nPack 55’s Charter Organization\, St. John the Divine Episcopal Church\, invites any interested parents to join on February 9 at 6:30 pm for the first in a monthly series of seminars exploring helpful topics for parenting adolescents in “the New Normal”\, presented by Teen & Family Service. This event is free\, entirely voluntary and open to all parents.\nFeb 9\, 6:30-7:30pm\, “Help! There’s a Teenager in the House!” – The first speaker is Crystal Collier PhD\, LPC-S. She is a nationally recognized expert in adolescent neuroscience. Crystal will be talking about challenges and opportunities that present themselves during the various stages of teenage brain development.\nMar 9\, 6:30-7:30pm\, “Help! There’s a Teenager in the House!” – The second speaker is Dr. Evan Weinberger. Evan will be talking about secrets to academic success.\nApril 13\, 6:30-7:30pm\, “Help! There’s a Teenager in the House!” – The third speaker is George Youngblood\, LCDC\, CCS. George will be talking about teens & high-risk behavior.\nMay 11\, 6:30-7:30pm\, “Help! There’s a Teenager in the House!” – The fourth speaker is Sasha Coles\, LMFT. Sasha will be talking about Teens & Media.\nPlease register for one or more of the talks at this link below:\nQuestions? Reach out to Dan Gannon\, 713-354-2265.\nFor more information please visit: HTTPS://scoutbook.scouting.org/mobile/dashboard/calendar/event.asp?EventID=4963672
URL:https://www.troop55htx.com/event/st-john-the-divine-presents-help-theres-a-teenager-in-the-house-speaker-series/
LOCATION:St. John the Divine\, Room 236
CATEGORIES:Pack 55 (ALL)
END:VEVENT
BEGIN:VEVENT
DTSTART;TZID=America/Chicago:20230210T000000
DTEND;TZID=America/Chicago:20230212T235959
DTSTAMP:20260422T152756
CREATED:20220216T054813Z
LAST-MODIFIED:20230212T015940Z
UID:6401-1675987200-1676246399@www.troop55htx.com
SUMMARY:T55 Campout: Enchanted Rock
DESCRIPTION:
URL:https://www.troop55htx.com/event/t55-campout-enchanted-rock-confirmed/
LOCATION:Parking lot\, Texas 78624\, USA
CATEGORIES:Troop 55 (ALL)
END:VEVENT
BEGIN:VEVENT
DTSTART;TZID=America/Chicago:20230208T190000
DTEND;TZID=America/Chicago:20230208T200000
DTSTAMP:20260422T152756
CREATED:20220911T223937Z
LAST-MODIFIED:20230209T015919Z
UID:7865-1675882800-1675886400@www.troop55htx.com
SUMMARY:T55 Trailer Load Out: Bison Patrol
DESCRIPTION:
URL:https://www.troop55htx.com/event/t55-trailer-load-out-bison-patrol-2/
CATEGORIES:Troop 55 (ALL)
END:VEVENT
BEGIN:VEVENT
DTSTART;TZID=America/Chicago:20230207T200000
DTEND;TZID=America/Chicago:20230207T210000
DTSTAMP:20260422T152756
CREATED:20230103T003404Z
LAST-MODIFIED:20230208T015918Z
UID:8661-1675800000-1675803600@www.troop55htx.com
SUMMARY:T55 Committee meeting - IN PERSON at SJD and Zoom
DESCRIPTION:
URL:https://www.troop55htx.com/event/t55-committee-meeting-2/
LOCATION:https://us06web.zoom.us/j/82941611340?pwd=bkp3R1I3T09rWWZmL3JsVEduckNXUT09
CATEGORIES:Troop 55 (ALL)
END:VEVENT
BEGIN:VEVENT
DTSTART;TZID=America/Chicago:20230207T190000
DTEND;TZID=America/Chicago:20230207T200000
DTSTAMP:20260422T152756
CREATED:20220727T170954Z
LAST-MODIFIED:20230208T015918Z
UID:7395-1675796400-1675800000@www.troop55htx.com
SUMMARY:Troop 55 meeting
DESCRIPTION:
URL:https://www.troop55htx.com/event/troop-55-meeting-65/
CATEGORIES:Troop 55 (ALL)
END:VEVENT
BEGIN:VEVENT
DTSTART;TZID=UTC:20230205T164500
DTEND;TZID=UTC:20230205T190000
DTSTAMP:20260422T152756
CREATED:20220827T230642Z
LAST-MODIFIED:20230205T004446Z
UID:7723-1675615500-1675623600@www.troop55htx.com
SUMMARY:Scout Sunday
DESCRIPTION:Scout Sunday on February 5th at St. John the Divine\, 10:45 AM\nScout Sunday is a special day designated by Boy Scouts of America to recognize the contributions of young people and adults in Scouting. St. John the Divine’s Scout Sunday service will be on Sunday\, February 5 at the 11:15 a.m. traditional service in the main church. All Scouts and their families are encouraged to come regardless of their religion. This event is open to everyone. It is always a beautiful service.\nScouts should wear their full Class A (blue or khaki) uniform and arrive by 10:45 a.m. to take a group photo and line-up at the church steps. Allow ample time for parking.\nAfter service\, there will be free burgers for lunch!\nAll are welcome to attend. We look forward to seeing you there.\nFor more information please visit: HTTPS://scoutbook.scouting.org/mobile/dashboard/calendar/event.asp?EventID=4593726
URL:https://www.troop55htx.com/event/scout-sunday-5/
LOCATION:North Lawn\, St John the Divine
CATEGORIES:Pack 55 (ALL)
END:VEVENT
BEGIN:VEVENT
DTSTART;TZID=America/Chicago:20230205T111500
DTEND;TZID=America/Chicago:20230205T123000
DTSTAMP:20260422T152756
CREATED:20220216T054813Z
LAST-MODIFIED:20230205T012945Z
UID:6399-1675595700-1675600200@www.troop55htx.com
SUMMARY:T55 Scout Sunday 11:15a service
DESCRIPTION:
URL:https://www.troop55htx.com/event/t55-scout-sunday-1115a-service/
CATEGORIES:Troop 55 (ALL)
END:VEVENT
BEGIN:VEVENT
DTSTART;TZID=America/Chicago:20230204T100000
DTEND;TZID=America/Chicago:20230204T110000
DTSTAMP:20260422T152756
CREATED:20230203T012914Z
LAST-MODIFIED:20230204T013026Z
UID:8945-1675504800-1675508400@www.troop55htx.com
SUMMARY:T55 Personal Fitness MB exercise session @ Memorial Park
DESCRIPTION:
URL:https://www.troop55htx.com/event/t55-personal-fitness-mb-exercise-session-memorial-park/
LOCATION:Memorial Park Tennis Center\, 1500 E Memorial Loop Dr\, Houston\, TX 77007\, USA
CATEGORIES:Troop 55 (ALL)
END:VEVENT
BEGIN:VEVENT
DTSTART;TZID=UTC:20230203T223000
DTEND;TZID=UTC:20230204T190000
DTSTAMP:20260422T152756
CREATED:20211224T002454Z
LAST-MODIFIED:20230204T003034Z
UID:5887-1675463400-1675537200@www.troop55htx.com
SUMMARY:Pinewood Derby
DESCRIPTION:Pinewood Derby – setup to begin 4 PM on Friday\nFor more information please visit: HTTPS://scoutbook.scouting.org/mobile/dashboard/calendar/event.asp?EventID=4158612
URL:https://www.troop55htx.com/event/pinewood-derby-3/
LOCATION:Hall Life Center and Sumners Hall\, St John the Divine
CATEGORIES:Pack 55 (ALL)
END:VEVENT
BEGIN:VEVENT
DTSTART;TZID=America/Chicago:20230202T180000
DTEND;TZID=America/Chicago:20230202T190000
DTSTAMP:20260422T152756
CREATED:20220802T180419Z
LAST-MODIFIED:20230102T001807Z
UID:7494-1675360800-1675364400@www.troop55htx.com
SUMMARY:Troop 55 Committee monthly meeting
DESCRIPTION:Join Zoom Meetinghttps://us06web.zoom.us/j/82941611340?pwd=bkp3R1I3T09rWWZmL3JsVEduckNXUT09 \nMeeting ID: 829 4161 1340Passcode: 646687
URL:https://www.troop55htx.com/event/troop-55-committee-monthly-meeting-7/
LOCATION:https://us06web.zoom.us/j/82941611340?pwd=bkp3R1I3T09rWWZmL3JsVEduckNXUT09
CATEGORIES:Troop 55 (ALL)
END:VEVENT
BEGIN:VEVENT
DTSTART;TZID=UTC:20230202T020000
DTEND;TZID=UTC:20230202T030000
DTSTAMP:20260422T152756
CREATED:20220827T230642Z
LAST-MODIFIED:20230202T002922Z
UID:7722-1675303200-1675306800@www.troop55htx.com
SUMMARY:All Adults Encouraged to Attend the February Pack 55 Committee Meeting
DESCRIPTION:Pack 55 Families:\nJoin us for our February committee meeting on WEDNESDAY 2/1/23 (NOTE the different day this month due to Pinewood Derby) at 8 PM on Zoom. All adults are encouraged to attend.\nWe have Pinewood Derby and the Blue and Gold Banquet coming up in February\, and we need lots of volunteers to make those events happen. Join us for the monthly committee meeting to prepare for these fun activities.\nDo you enjoy participating in the campouts? How about the Pinewood Derby? If the answer is yes\, then come and take one hour out of your month to meet with our adult leaders and parents to help plan for the upcoming pack events. All adults are welcome to attend. At least one representative from each den is requested.\nEthan Perry is inviting you to a scheduled Zoom meeting. Register using the link below:\nTopic: Pack 55 Committee Meeting\nTime: Feb 1\, 2023 08:00 PM Central Time (US and Canada)\nJoin Zoom Meeting\nMeeting ID: 890 8018 5931\nPasscode: P55CM2223\nAfter registering\, you will receive a confirmation email containing information about joining the meeting.\nFor more information please visit: HTTPS://scoutbook.scouting.org/mobile/dashboard/calendar/event.asp?EventID=4593788
URL:https://www.troop55htx.com/event/february-pack-55-committee-meeting-2/
LOCATION:On Zoom: https://us06web.zoom.us/meeting/register/tZ0tf-mppj4jGdVxSrI0gajarrB4A6Z2K2HF
CATEGORIES:Pack 55 (ALL)
END:VEVENT
BEGIN:VEVENT
DTSTART;TZID=America/Chicago:20230131T190000
DTEND;TZID=America/Chicago:20230131T200000
DTSTAMP:20260422T152756
CREATED:20220727T170954Z
LAST-MODIFIED:20230201T012940Z
UID:7394-1675191600-1675195200@www.troop55htx.com
SUMMARY:Troop 55 meeting
DESCRIPTION:
URL:https://www.troop55htx.com/event/troop-55-meeting-64/
CATEGORIES:Troop 55 (ALL)
END:VEVENT
BEGIN:VEVENT
DTSTART;TZID=America/Chicago:20230131T183000
DTEND;TZID=America/Chicago:20230131T193000
DTSTAMP:20260422T152756
CREATED:20230110T004430Z
LAST-MODIFIED:20230201T012939Z
UID:8770-1675189800-1675193400@www.troop55htx.com
SUMMARY:T55 Mandatory FCT Parent Meeting\, Part 2
DESCRIPTION:
URL:https://www.troop55htx.com/event/t55-mandatory-fct-parent-meeting-part-2/
CATEGORIES:Troop 55 (ALL)
END:VEVENT
BEGIN:VEVENT
DTSTART;TZID=America/Chicago:20230131T180000
DTEND;TZID=America/Chicago:20230131T190000
DTSTAMP:20260422T152756
CREATED:20220819T200721Z
LAST-MODIFIED:20230131T012954Z
UID:7643-1675188000-1675191600@www.troop55htx.com
SUMMARY:T55 Board of Review
DESCRIPTION:
URL:https://www.troop55htx.com/event/t55-board-of-review-7/
CATEGORIES:Troop 55 (ALL)
END:VEVENT
BEGIN:VEVENT
DTSTART;TZID=America/Chicago:20230129T160000
DTEND;TZID=America/Chicago:20230129T170000
DTSTAMP:20260422T152756
CREATED:20230124T005930Z
LAST-MODIFIED:20230129T011807Z
UID:8869-1675008000-1675011600@www.troop55htx.com
SUMMARY:T55 PLC meeting
DESCRIPTION:
URL:https://www.troop55htx.com/event/t55-plc-meeting-2/
CATEGORIES:Troop 55 (ALL)
END:VEVENT
END:VCALENDAR