BEGIN:VCALENDAR
VERSION:2.0
PRODID:-//Troop 55 St. John the Divine - ECPv6.15.20//NONSGML v1.0//EN
CALSCALE:GREGORIAN
METHOD:PUBLISH
X-WR-CALNAME:Troop 55 St. John the Divine
X-ORIGINAL-URL:https://www.troop55htx.com
X-WR-CALDESC:Events for Troop 55 St. John the Divine
REFRESH-INTERVAL;VALUE=DURATION:PT1H
X-Robots-Tag:noindex
X-PUBLISHED-TTL:PT1H
BEGIN:VTIMEZONE
TZID:America/Chicago
BEGIN:DAYLIGHT
TZOFFSETFROM:-0600
TZOFFSETTO:-0500
TZNAME:CDT
DTSTART:20220313T080000
END:DAYLIGHT
BEGIN:STANDARD
TZOFFSETFROM:-0500
TZOFFSETTO:-0600
TZNAME:CST
DTSTART:20221106T070000
END:STANDARD
BEGIN:DAYLIGHT
TZOFFSETFROM:-0600
TZOFFSETTO:-0500
TZNAME:CDT
DTSTART:20230312T080000
END:DAYLIGHT
BEGIN:STANDARD
TZOFFSETFROM:-0500
TZOFFSETTO:-0600
TZNAME:CST
DTSTART:20231105T070000
END:STANDARD
BEGIN:DAYLIGHT
TZOFFSETFROM:-0600
TZOFFSETTO:-0500
TZNAME:CDT
DTSTART:20240310T080000
END:DAYLIGHT
BEGIN:STANDARD
TZOFFSETFROM:-0500
TZOFFSETTO:-0600
TZNAME:CST
DTSTART:20241103T070000
END:STANDARD
END:VTIMEZONE
BEGIN:VTIMEZONE
TZID:UTC
BEGIN:STANDARD
TZOFFSETFROM:+0000
TZOFFSETTO:+0000
TZNAME:UTC
DTSTART:20220101T000000
END:STANDARD
END:VTIMEZONE
BEGIN:VEVENT
DTSTART;TZID=America/Chicago:20230412T190000
DTEND;TZID=America/Chicago:20230412T200000
DTSTAMP:20260423T165949
CREATED:20230103T003405Z
LAST-MODIFIED:20230412T043023Z
UID:8664-1681326000-1681329600@www.troop55htx.com
SUMMARY:T55 Committee meeting
DESCRIPTION:
URL:https://www.troop55htx.com/event/t55-committee-meeting-4/
LOCATION:https://us06web.zoom.us/j/82941611340?pwd=bkp3R1I3T09rWWZmL3JsVEduckNXUT09
CATEGORIES:Troop 55 (ALL)
END:VEVENT
BEGIN:VEVENT
DTSTART;TZID=America/Chicago:20230412T190000
DTEND;TZID=America/Chicago:20230412T200000
DTSTAMP:20260423T165949
CREATED:20221024T011843Z
LAST-MODIFIED:20230412T043024Z
UID:8209-1681326000-1681329600@www.troop55htx.com
SUMMARY:T55 Trailer Load Out: Tiger Patrol
DESCRIPTION:
URL:https://www.troop55htx.com/event/t55-trailer-load-out-tiger-patrol-2/
LOCATION:5936 S Loop E\, Houston\, TX 77033\, USA
CATEGORIES:Troop 55 (ALL)
END:VEVENT
BEGIN:VEVENT
DTSTART;TZID=America/Chicago:20230411T190000
DTEND;TZID=America/Chicago:20230411T200000
DTSTAMP:20260423T165949
CREATED:20220727T170955Z
LAST-MODIFIED:20230411T042910Z
UID:7405-1681239600-1681243200@www.troop55htx.com
SUMMARY:Troop 55 meeting
DESCRIPTION:
URL:https://www.troop55htx.com/event/troop-55-meeting-74/
CATEGORIES:Troop 55 (ALL)
END:VEVENT
BEGIN:VEVENT
DTSTART;TZID=America/Chicago:20230408T090000
DTEND;TZID=America/Chicago:20230408T120000
DTSTAMP:20260423T165949
CREATED:20230331T035915Z
LAST-MODIFIED:20230408T041419Z
UID:9331-1680944400-1680955200@www.troop55htx.com
SUMMARY:T55 Service Project at Don Greene Nature Park
DESCRIPTION:
URL:https://www.troop55htx.com/event/t55-service-project-at-don-greene-nature-park/
CATEGORIES:Troop 55 (ALL)
END:VEVENT
BEGIN:VEVENT
DTSTART;TZID=America/Chicago:20230406T180000
DTEND;TZID=America/Chicago:20230406T190000
DTSTAMP:20260423T165949
CREATED:20221017T005114Z
LAST-MODIFIED:20230102T001808Z
UID:8180-1680804000-1680807600@www.troop55htx.com
SUMMARY:Troop 55 Committee monthly meeting
DESCRIPTION:Join Zoom Meetinghttps://us06web.zoom.us/j/82941611340?pwd=bkp3R1I3T09rWWZmL3JsVEduckNXUT09 \nMeeting ID: 829 4161 1340Passcode: 646687
URL:https://www.troop55htx.com/event/troop-55-committee-monthly-meeting-9/
LOCATION:https://us06web.zoom.us/j/82941611340?pwd=bkp3R1I3T09rWWZmL3JsVEduckNXUT09
CATEGORIES:Troop 55 (ALL)
END:VEVENT
BEGIN:VEVENT
DTSTART;TZID=UTC:20230405T230000
DTEND;TZID=UTC:20230406T010000
DTSTAMP:20260423T165949
CREATED:20230301T015925Z
LAST-MODIFIED:20230405T034741Z
UID:9156-1680735600-1680742800@www.troop55htx.com
SUMMARY:Pack 55 Adult Social/2023-24 Calendar Discussion
DESCRIPTION:Wednesday April 5\, 2023\, Star Pizza @ 6 PM: Pack 55 ADULT Social/2023-24 Calendar Discussion\nThis pack belongs to us all. Your ideas and your energy help make this pack successful. Do you have ideas for new\, fun activities to include in the 2023-24 Pack 55 Calendar? Would you like to meet with other Pack 55 parents in a relaxed social setting? Join us at 6 PM on Wednesday\, April 5 at Star Pizza (upstairs seating area\, 2111 Norfolk St). RSVP to 832-580-2756 so we know you are coming and can have enough food.\nAnd remember that June 1\, 2023 is when all scouts will start working on their next rank. Please go into Scoutbook and mark as COMPLETED all the rank advancements adventures your scout has done. Work with your den leaders to ensure all requirements have been completed (and marked as APPROVED by the den leader) ahead of the June 1 deadline.\nWe look forward to seeing you at these and future Pack 55 events. We need your energy\, ideas and participation! Come and join in the pack planning for 2023-24.\nPlease reach out with any questions.\nEthan Perry\nPack 55 Committee Chair\n832-580-2756\nFor more information please visit: HTTPS://scoutbook.scouting.org/mobile/dashboard/calendar/event.asp?EventID=5010511
URL:https://www.troop55htx.com/event/pack-55-adult-social-2023-24-calendar-discussion/
LOCATION:Star Pizza\, 2111 Norfolk St\, Houston\, TX
CATEGORIES:Pack 55 (ALL)
END:VEVENT
BEGIN:VEVENT
DTSTART;TZID=America/Chicago:20230404T190000
DTEND;TZID=America/Chicago:20230404T200000
DTSTAMP:20260423T165949
CREATED:20220727T170955Z
LAST-MODIFIED:20230404T041736Z
UID:7404-1680634800-1680638400@www.troop55htx.com
SUMMARY:Troop 55 meeting
DESCRIPTION:
URL:https://www.troop55htx.com/event/troop-55-meeting-73/
CATEGORIES:Troop 55 (ALL)
END:VEVENT
BEGIN:VEVENT
DTSTART;TZID=America/Chicago:20230404T180000
DTEND;TZID=America/Chicago:20230404T190000
DTSTAMP:20260423T165949
CREATED:20230126T005933Z
LAST-MODIFIED:20230404T041735Z
UID:8895-1680631200-1680634800@www.troop55htx.com
SUMMARY:T55 Board of Review
DESCRIPTION:
URL:https://www.troop55htx.com/event/t55-board-of-review-9/
CATEGORIES:Troop 55 (ALL)
END:VEVENT
BEGIN:VEVENT
DTSTART;TZID=America/Chicago:20230401T000000
DTEND;TZID=America/Chicago:20230401T235959
DTSTAMP:20260423T165949
CREATED:20230104T003611Z
LAST-MODIFIED:20230104T003615Z
UID:8681-1680307200-1680393599@www.troop55htx.com
SUMMARY:University of Scouting
DESCRIPTION:University of Scouting is a training for leaders of all program areas to come together for a day of fun\, fellowship and learning. University of Scouting has over 100 different classes\, presented by some of the most experienced volunteers in the council covering leader specific training\, information on how to train youth\, conservation\, program ideas and more. University of Scouting also offers several youth courses. University of Scouting
URL:https://www.troop55htx.com/event/university-of-scouting/
CATEGORIES:Troop 55 (ALL)
END:VEVENT
BEGIN:VEVENT
DTSTART;TZID=America/Chicago:20230328T190000
DTEND;TZID=America/Chicago:20230328T200000
DTSTAMP:20260423T165949
CREATED:20220727T170955Z
LAST-MODIFIED:20230328T034410Z
UID:7403-1680030000-1680033600@www.troop55htx.com
SUMMARY:Troop 55 meeting
DESCRIPTION:
URL:https://www.troop55htx.com/event/troop-55-meeting-72/
CATEGORIES:Troop 55 (ALL)
END:VEVENT
BEGIN:VEVENT
DTSTART;TZID=America/Chicago:20230326T150000
DTEND;TZID=America/Chicago:20230326T170000
DTSTAMP:20260423T165949
CREATED:20230124T005932Z
LAST-MODIFIED:20230326T033135Z
UID:8873-1679842800-1679850000@www.troop55htx.com
SUMMARY:Crew 55 meeting (Room 208)
DESCRIPTION:
URL:https://www.troop55htx.com/event/t55-ilst-class-backup-date-room-236-youth-room/
CATEGORIES:Troop 55 (ALL)
END:VEVENT
BEGIN:VEVENT
DTSTART;TZID=UTC:20230323T233000
DTEND;TZID=UTC:20230324T010000
DTSTAMP:20260423T165949
CREATED:20230323T022911Z
LAST-MODIFIED:20230323T022911Z
UID:9284-1679614200-1679619600@www.troop55htx.com
SUMMARY:March Pack Meeting - Pinewood Derby Championship and Mars Exploration!
DESCRIPTION:Our next pack meeting is on Thursday (03/23) at 6:30 PM at SJD (Scout Room\, Downstairs).\nWe’ve got two great events planned.\nFirst\, the 2023 Pinewood Derby Championships! All 1st and 2nd place winners and turtles are eligible to race.\nWe will also have a guest speaker\, Jack Henry (PhD Student\, Rice University – Department of Earth\, Environmental\, and Planetary Sciences) with us to have an engaging dialogue around space exploration\, NASA’s future Mars missions and more….\nJoin us for a fun and exciting Pinewood Derby Championship and learn about Space Exploration!!!\nPack meeting questions? Email cubmaster@pack55.org\nPinewood derby questions? Email derby@pack55.org\nFor more information please visit: HTTPS://scoutbook.scouting.org/mobile/dashboard/calendar/event.asp?EventID=4158618
URL:https://www.troop55htx.com/event/march-pack-meeting-pinewood-derby-championship-and-mars-exploration/
LOCATION:Scout Room\, St John the Divine
CATEGORIES:Pack 55 (ALL)
END:VEVENT
BEGIN:VEVENT
DTSTART;TZID=UTC:20230323T220000
DTEND;TZID=UTC:20230324T020000
DTSTAMP:20260423T165949
CREATED:20211224T002455Z
LAST-MODIFIED:20230322T023000Z
UID:5890-1679608800-1679623200@www.troop55htx.com
SUMMARY:Pinewood Derby Championship and Pack Meeting
DESCRIPTION:Pinewood Derby Championship and March Pack Meeting\nFor more information please visit: HTTPS://scoutbook.scouting.org/mobile/dashboard/calendar/event.asp?EventID=4158618
URL:https://www.troop55htx.com/event/pinewood-derby-championship-and-pack-meeting/
LOCATION:Hall Life Center\, St John the Divine
CATEGORIES:Pack 55 (ALL)
END:VEVENT
BEGIN:VEVENT
DTSTART;TZID=America/Chicago:20230321T190000
DTEND;TZID=America/Chicago:20230321T200000
DTSTAMP:20260423T165949
CREATED:20220727T170954Z
LAST-MODIFIED:20230321T031621Z
UID:7402-1679425200-1679428800@www.troop55htx.com
SUMMARY:Troop 55 meeting
DESCRIPTION:
URL:https://www.troop55htx.com/event/troop-55-meeting-71/
CATEGORIES:Troop 55 (ALL)
END:VEVENT
BEGIN:VEVENT
DTSTART;TZID=America/Chicago:20230319T140000
DTEND;TZID=America/Chicago:20230319T160000
DTSTAMP:20260423T165949
CREATED:20230124T005932Z
LAST-MODIFIED:20230319T030139Z
UID:8872-1679234400-1679241600@www.troop55htx.com
SUMMARY:T55 ILST class (Room 208)
DESCRIPTION:
URL:https://www.troop55htx.com/event/t55-ilst-class-room-236-youth-room/
CATEGORIES:Troop 55 (ALL)
END:VEVENT
BEGIN:VEVENT
DTSTART;TZID=America/Chicago:20230314T190000
DTEND;TZID=America/Chicago:20230314T200000
DTSTAMP:20260423T165949
CREATED:20220727T170954Z
LAST-MODIFIED:20230111T004544Z
UID:7401-1678820400-1678824000@www.troop55htx.com
SUMMARY:Troop 55 meeting
DESCRIPTION:
URL:https://www.troop55htx.com/event/troop-55-meeting-70/
CATEGORIES:Troop 55 (ALL)
END:VEVENT
BEGIN:VEVENT
DTSTART;TZID=America/Chicago:20230313T000000
DTEND;TZID=America/Chicago:20230317T235959
DTSTAMP:20260423T165949
CREATED:20230124T005932Z
LAST-MODIFIED:20230317T025908Z
UID:8871-1678665600-1679097599@www.troop55htx.com
SUMMARY:T55 Spring Break - no meetings!
DESCRIPTION:
URL:https://www.troop55htx.com/event/t55-spring-break-no-meetings/
CATEGORIES:Troop 55 (ALL)
END:VEVENT
BEGIN:VEVENT
DTSTART;TZID=America/Chicago:20230308T190000
DTEND;TZID=America/Chicago:20230308T200000
DTSTAMP:20260423T165949
CREATED:20230103T003405Z
LAST-MODIFIED:20230308T025923Z
UID:8663-1678302000-1678305600@www.troop55htx.com
SUMMARY:T55 Committee meeting
DESCRIPTION:
URL:https://www.troop55htx.com/event/t55-committee-meeting-3/
LOCATION:https://us06web.zoom.us/j/82941611340?pwd=bkp3R1I3T09rWWZmL3JsVEduckNXUT09
CATEGORIES:Troop 55 (ALL)
END:VEVENT
BEGIN:VEVENT
DTSTART;TZID=America/Chicago:20230307T190000
DTEND;TZID=America/Chicago:20230307T200000
DTSTAMP:20260423T165949
CREATED:20220727T170954Z
LAST-MODIFIED:20230307T024529Z
UID:7400-1678215600-1678219200@www.troop55htx.com
SUMMARY:Troop 55 meeting
DESCRIPTION:
URL:https://www.troop55htx.com/event/troop-55-meeting-69/
CATEGORIES:Troop 55 (ALL)
END:VEVENT
BEGIN:VEVENT
DTSTART;TZID=America/Chicago:20230307T180000
DTEND;TZID=America/Chicago:20230307T190000
DTSTAMP:20260423T165949
CREATED:20230126T005932Z
LAST-MODIFIED:20230307T024529Z
UID:8894-1678212000-1678215600@www.troop55htx.com
SUMMARY:T55 Board of Review
DESCRIPTION:
URL:https://www.troop55htx.com/event/t55-board-of-review-8/
CATEGORIES:Troop 55 (ALL)
END:VEVENT
BEGIN:VEVENT
DTSTART;TZID=UTC:20230303T023000
DTEND;TZID=UTC:20230303T030000
DTSTAMP:20260423T165949
CREATED:20220827T230642Z
LAST-MODIFIED:20230303T015945Z
UID:7724-1677810600-1677812400@www.troop55htx.com
SUMMARY:All Adults Encouraged to Attend the March Pack 55 Committee Meeting
DESCRIPTION:Pack 55 Families:\nJoin us for our March committee meeting on Thursday\, March 2 at 8:30 PM (note time change due to scheduling conflicts) on Zoom. All adults are encouraged to attend. An agenda will be sent ahead of the meeting on Thursday.\nFebruary was a very busy month with the Pinewood Derby and the Blue and Gold Banquet. And we have more fun planned through the rest of the school year. Join us for the monthly committee meeting to prepare for these upcoming activities. We will also be discussing Pack 55 summertime events and next year’s camping plans\, so come and be a part of the conversation. We need everyone’s involvement to keep our pack going strong.\nDo you enjoy participating in the campouts? How about the Pinewood Derby? If the answer is yes\, then come and take one hour out of your month to meet with our adult leaders and parents to help plan for the upcoming pack events. All adults are welcome to attend. At least one representative from each den is requested.\nEthan Perry is inviting you to a scheduled Zoom meeting. Register using the link below:\nYou are invited to a Zoom meeting.\nWhen: Mar 2\, 2023 08:30 PM Central Time (US and Canada)\nRegister in advance for this meeting: \nAfter registering\, you will receive a confirmation email containing information about joining the meeting.\nFor more information please visit: HTTPS://scoutbook.scouting.org/mobile/dashboard/calendar/event.asp?EventID=4593789
URL:https://www.troop55htx.com/event/march-pack-55-committee-meeting-2/
LOCATION:On Zoom:https://us06web.zoom.us/meeting/register/tZ0tf-mppj4jGdVxSrI0gajarrB4A6Z2K2HF
CATEGORIES:Pack 55 (ALL)
END:VEVENT
BEGIN:VEVENT
DTSTART;TZID=America/Chicago:20230303T000000
DTEND;TZID=America/Chicago:20230305T235959
DTSTAMP:20260423T165949
CREATED:20220818T200402Z
LAST-MODIFIED:20221220T224840Z
UID:7631-1677801600-1678060799@www.troop55htx.com
SUMMARY:T55 Campout (CANCELED): Canoeing Campout at San Marcos River Retreat
DESCRIPTION:
URL:https://www.troop55htx.com/event/t55-campout-canoeing-campout-location-tbd/
LOCATION:444 Pecan Park Dr\, San Marcos\, TX 78666\, USA
CATEGORIES:Troop 55 (ALL)
END:VEVENT
BEGIN:VEVENT
DTSTART;TZID=America/Chicago:20230302T180000
DTEND;TZID=America/Chicago:20230302T190000
DTSTAMP:20260423T165949
CREATED:20220802T180420Z
LAST-MODIFIED:20230102T001807Z
UID:7495-1677780000-1677783600@www.troop55htx.com
SUMMARY:Troop 55 Committee monthly meeting
DESCRIPTION:Join Zoom Meetinghttps://us06web.zoom.us/j/82941611340?pwd=bkp3R1I3T09rWWZmL3JsVEduckNXUT09 \nMeeting ID: 829 4161 1340Passcode: 646687
URL:https://www.troop55htx.com/event/troop-55-committee-monthly-meeting-8/
LOCATION:https://us06web.zoom.us/j/82941611340?pwd=bkp3R1I3T09rWWZmL3JsVEduckNXUT09
CATEGORIES:Troop 55 (ALL)
END:VEVENT
BEGIN:VEVENT
DTSTART;TZID=America/Chicago:20230228T190000
DTEND;TZID=America/Chicago:20230228T200000
DTSTAMP:20260423T165949
CREATED:20220727T170954Z
LAST-MODIFIED:20230228T024444Z
UID:7399-1677610800-1677614400@www.troop55htx.com
SUMMARY:Troop 55 Court of Honor
DESCRIPTION:
URL:https://www.troop55htx.com/event/troop-55-court-of-honor-8/
CATEGORIES:Troop 55 (ALL)
END:VEVENT
BEGIN:VEVENT
DTSTART;TZID=America/Chicago:20230228T190000
DTEND;TZID=America/Chicago:20230228T200000
DTSTAMP:20260423T165949
CREATED:20220727T170954Z
LAST-MODIFIED:20230123T005922Z
UID:7398-1677610800-1677614400@www.troop55htx.com
SUMMARY:Troop 55 meeting
DESCRIPTION:
URL:https://www.troop55htx.com/event/troop-55-meeting-68/
CATEGORIES:Troop 55 (ALL)
END:VEVENT
BEGIN:VEVENT
DTSTART;TZID=America/Chicago:20230224T000000
DTEND;TZID=America/Chicago:20230226T235959
DTSTAMP:20260423T165949
CREATED:20221111T194809Z
LAST-MODIFIED:20230226T024444Z
UID:8367-1677196800-1677455999@www.troop55htx.com
SUMMARY:T55 Campout: Camporee at Camp Strake
DESCRIPTION:
URL:https://www.troop55htx.com/event/t55-campout-camporee-at-camp-strake/
LOCATION:Camp Strake\, 2020 Camp Strake Rd\, Coldspring\, TX 77331\, USA
CATEGORIES:Troop 55 (ALL)
END:VEVENT
BEGIN:VEVENT
DTSTART;TZID=UTC:20230224T000000
DTEND;TZID=UTC:20230224T020000
DTSTAMP:20260423T165949
CREATED:20230121T232921Z
LAST-MODIFIED:20230224T015953Z
UID:8854-1677196800-1677204000@www.troop55htx.com
SUMMARY:Important Announcements/Reminders: Blue and Gold Banquet (Thu\, Feb 23\, 2023\, 6pm - 8pm @ SJD)
DESCRIPTION:Pack 55 Families.\nWe look forward to seeing you and your scouts at the Blue and Gold Banquet tomorrow (Thursday\, February 23rd\, 6:00 PM) at St John the Divine.\n1. The event starts at 6:00 PM CT sharp.  Please arrive a few minutes early to get settled.\n2. Food will be served immediately after the opening flag ceremony.\n3. Please don’t forget to bring non-perishable food items that will be donated to Houston Food Bank.   to food items the Houston Food Bank has requested.  Each family who donates will get a raffle ticket to win a prize.  There are some really cool prizes to give away!!!\n4. Every pack meeting is a recruiting event – bring a neighbor\, a friend\, or a classmate with you to see how much fun Cub Scouting is.  All are welcome.\nTo make sure we have proper seating arrangements and order the right amount of food/drinks\, we would like to request you to fill out this RSVP form (will take less than 1 minute).  .  Having an accurate headcount will help us tremendously in planning this event.  Thank you for your support.\nWe have great entertainment (Magician\, Wolf Dens Performance)\, Award Ceremonies\, Food and Prizes planned for this event.  Don’t miss out on this really fun annual event!\nCome and celebrate the scouting way!\nPack meeting questions? Email cubmaster@pack55.org\nFor more information please visit: HTTPS://scoutbook.scouting.org/mobile/dashboard/calendar/event.asp?EventID=4158616
URL:https://www.troop55htx.com/event/blue-and-gold-banquet-february-pack-meeting-3/
LOCATION:Hall Life Center (basketball court)\, St John the Divine
CATEGORIES:Pack 55 (ALL)
END:VEVENT
BEGIN:VEVENT
DTSTART;TZID=UTC:20230223T220000
DTEND;TZID=UTC:20230224T020000
DTSTAMP:20260423T165949
CREATED:20211224T002455Z
LAST-MODIFIED:20230120T232914Z
UID:5889-1677189600-1677204000@www.troop55htx.com
SUMMARY:Blue and Gold Banquet\, February Pack Meeting
DESCRIPTION:Blue and Gold Banquet Run by the Wolf Dens\nFor more information please visit: HTTPS://scoutbook.scouting.org/mobile/dashboard/calendar/event.asp?EventID=4158616
URL:https://www.troop55htx.com/event/blue-and-gold-banquet-february-pack-meeting-2/
LOCATION:Hall Life Center\, St John the Divine
CATEGORIES:Pack 55 (ALL)
END:VEVENT
BEGIN:VEVENT
DTSTART;TZID=America/Chicago:20230222T190000
DTEND;TZID=America/Chicago:20230222T200000
DTSTAMP:20260423T165949
CREATED:20220928T002035Z
LAST-MODIFIED:20230204T205520Z
UID:7922-1677092400-1677096000@www.troop55htx.com
SUMMARY:T55 Trailer Load Out: Cobra Patrol
DESCRIPTION:
URL:https://www.troop55htx.com/event/t55-trailer-load-out-cobra-patrol-2/
LOCATION:5936 S Loop E\, Houston\, TX 77033\, USA
CATEGORIES:Troop 55 (ALL)
END:VEVENT
BEGIN:VEVENT
DTSTART;TZID=America/Chicago:20230221T190000
DTEND;TZID=America/Chicago:20230221T200000
DTSTAMP:20260423T165949
CREATED:20220727T170954Z
LAST-MODIFIED:20230221T023039Z
UID:7397-1677006000-1677009600@www.troop55htx.com
SUMMARY:Troop 55 meeting
DESCRIPTION:
URL:https://www.troop55htx.com/event/troop-55-meeting-67/
CATEGORIES:Troop 55 (ALL)
END:VEVENT
END:VCALENDAR