BEGIN:VCALENDAR
VERSION:2.0
PRODID:-//Troop 55 St. John the Divine - ECPv6.15.20//NONSGML v1.0//EN
CALSCALE:GREGORIAN
METHOD:PUBLISH
X-WR-CALNAME:Troop 55 St. John the Divine
X-ORIGINAL-URL:https://www.troop55htx.com
X-WR-CALDESC:Events for Troop 55 St. John the Divine
REFRESH-INTERVAL;VALUE=DURATION:PT1H
X-Robots-Tag:noindex
X-PUBLISHED-TTL:PT1H
BEGIN:VTIMEZONE
TZID:America/Chicago
BEGIN:DAYLIGHT
TZOFFSETFROM:-0600
TZOFFSETTO:-0500
TZNAME:CDT
DTSTART:20210314T080000
END:DAYLIGHT
BEGIN:STANDARD
TZOFFSETFROM:-0500
TZOFFSETTO:-0600
TZNAME:CST
DTSTART:20211107T070000
END:STANDARD
BEGIN:DAYLIGHT
TZOFFSETFROM:-0600
TZOFFSETTO:-0500
TZNAME:CDT
DTSTART:20220313T080000
END:DAYLIGHT
BEGIN:STANDARD
TZOFFSETFROM:-0500
TZOFFSETTO:-0600
TZNAME:CST
DTSTART:20221106T070000
END:STANDARD
BEGIN:DAYLIGHT
TZOFFSETFROM:-0600
TZOFFSETTO:-0500
TZNAME:CDT
DTSTART:20230312T080000
END:DAYLIGHT
BEGIN:STANDARD
TZOFFSETFROM:-0500
TZOFFSETTO:-0600
TZNAME:CST
DTSTART:20231105T070000
END:STANDARD
END:VTIMEZONE
BEGIN:VTIMEZONE
TZID:UTC
BEGIN:STANDARD
TZOFFSETFROM:+0000
TZOFFSETTO:+0000
TZNAME:UTC
DTSTART:20210101T000000
END:STANDARD
END:VTIMEZONE
BEGIN:VEVENT
DTSTART;TZID=America/Chicago:20220322T181500
DTEND;TZID=America/Chicago:20220322T190000
DTSTAMP:20260425T095717
CREATED:20220204T041903Z
LAST-MODIFIED:20220322T083259Z
UID:6259-1647972900-1647975600@www.troop55htx.com
SUMMARY:T55 FCT meeting
DESCRIPTION:
URL:https://www.troop55htx.com/event/t55-fct-meeting-5/
CATEGORIES:Troop 55 (ALL)
END:VEVENT
BEGIN:VEVENT
DTSTART;TZID=America/Chicago:20220314T000000
DTEND;TZID=America/Chicago:20220318T235959
DTSTAMP:20260425T095717
CREATED:20210830T143444Z
LAST-MODIFIED:20220318T083450Z
UID:3752-1647216000-1647647999@www.troop55htx.com
SUMMARY:Troop 55 Spring Break (no meetings)
DESCRIPTION:
URL:https://www.troop55htx.com/event/troop-55-spring-break-no-meetings/
CATEGORIES:Troop 55 (ALL)
END:VEVENT
BEGIN:VEVENT
DTSTART;TZID=America/Chicago:20220308T190000
DTEND;TZID=America/Chicago:20220308T200000
DTSTAMP:20260425T095717
CREATED:20210830T143443Z
LAST-MODIFIED:20220105T011847Z
UID:3751-1646766000-1646769600@www.troop55htx.com
SUMMARY:T55 Troop meeting
DESCRIPTION:
URL:https://www.troop55htx.com/event/troop-55-meeting-36/
LOCATION:The Church of St. John the Divine\, 2450 River Oaks Blvd\, Houston\, TX 77019\, USA
CATEGORIES:Troop 55 (ALL)
END:VEVENT
BEGIN:VEVENT
DTSTART;TZID=America/Chicago:20220308T190000
DTEND;TZID=America/Chicago:20220308T200000
DTSTAMP:20260425T095717
CREATED:20210830T143443Z
LAST-MODIFIED:20220308T071902Z
UID:3750-1646766000-1646769600@www.troop55htx.com
SUMMARY:T55 Troop meeting
DESCRIPTION:
URL:https://www.troop55htx.com/event/troop-55-meeting-35/
LOCATION:The Church of St. John the Divine\, 2450 River Oaks Blvd\, Houston\, TX 77019\, USA
CATEGORIES:Troop 55 (ALL)
END:VEVENT
BEGIN:VEVENT
DTSTART;TZID=America/Chicago:20220308T181500
DTEND;TZID=America/Chicago:20220308T190000
DTSTAMP:20260425T095717
CREATED:20220204T041903Z
LAST-MODIFIED:20220308T071902Z
UID:6258-1646763300-1646766000@www.troop55htx.com
SUMMARY:T55 FCT meeting
DESCRIPTION:
URL:https://www.troop55htx.com/event/t55-fct-meeting-4/
CATEGORIES:Troop 55 (ALL)
END:VEVENT
BEGIN:VEVENT
DTSTART;TZID=UTC:20220306T200000
DTEND;TZID=UTC:20220306T220000
DTSTAMP:20260425T095717
CREATED:20211205T220416Z
LAST-MODIFIED:20220306T073538Z
UID:5769-1646596800-1646604000@www.troop55htx.com
SUMMARY:Fossil Hunting At Whisky Bridge\, Near College Station\, TX- Hunt for Eocene (40-45 Million Years Ago) Marine Fossils
DESCRIPTION:Fossil Hunting – Hunt for Eocene (40-45 Million Years Ago) Marine Fossils\nAll Scouts\, All Ranks from Pack 55 are invited to attend this event. Entirely Optional. Bring buckets and tools for digging (garden tools and small shovels work\, nothing big required). My kids love this place\, and they have asked to go back this Spring\, so we figured we would open it up to anyone else interested. It is a bit of a drive\, but you can make a day of it and see the Texas countryside. RSVP and text Ethan Perry (832-580-2756) to let me know you are coming so we can watch for you.\nSatisfies various electives at all ranks (Digging the Past\, Wolf; Super Science\, Bear; Earth Rocks!\, Webelos and various STEM Nova/Supernova requirements).\nYou will see a place to park on the railroad trestle side of the highway. Park on the dirt\, watching for road debris. Bring everything you need (food\, water). There are no bathroom facilities at the old railroad bridge. Nearest facilities will be at stores/gas stations along the highway in either direction. Come prepared.\nFor more information please visit: HTTPS://scoutbook.scouting.org/mobile/dashboard/calendar/event.asp?EventID=4125192
URL:https://www.troop55htx.com/event/fossil-hunting-at-whisky-bridge-near-college-station-tx/
LOCATION:11636 TX-21\, Caldwell\, TX 77836
CATEGORIES:Pack 55 (ALL)
END:VEVENT
BEGIN:VEVENT
DTSTART;TZID=America/Chicago:20220306T120000
DTEND;TZID=America/Chicago:20220306T123000
DTSTAMP:20260425T095717
CREATED:20220211T050424Z
LAST-MODIFIED:20220306T070645Z
UID:6362-1646568000-1646569800@www.troop55htx.com
SUMMARY:T55 Trailer Loadout: Wolf Patrol
DESCRIPTION:
URL:https://www.troop55htx.com/event/t55-trailer-loadout-wolf-patrol/
LOCATION:5936 S Loop E Fwy\, Houston\, TX 77033\, USA
CATEGORIES:Troop 55 (ALL)
END:VEVENT
BEGIN:VEVENT
DTSTART;TZID=UTC:20220304T200000
DTEND;TZID=UTC:20220306T160000
DTSTAMP:20260425T095717
CREATED:20210830T143741Z
LAST-MODIFIED:20220306T073537Z
UID:3812-1646424000-1646582400@www.troop55htx.com
SUMMARY:Cub Scout Adventure Camp @ Camp Bovay
DESCRIPTION:For more information please visit: HTTPS://scoutbook.scouting.org/mobile/dashboard/calendar/event.asp?EventID=3645220
URL:https://www.troop55htx.com/event/cub-scout-adventure-camp-camp-bovay-8/
LOCATION:Camp Bovay\, Navasota
CATEGORIES:Pack 55 (ALL)
END:VEVENT
BEGIN:VEVENT
DTSTART;TZID=UTC:20220304T020000
DTEND;TZID=UTC:20220304T030000
DTSTAMP:20260425T095717
CREATED:20210830T143741Z
LAST-MODIFIED:20220303T072046Z
UID:3811-1646359200-1646362800@www.troop55htx.com
SUMMARY:Pack 55 March Committee Meeting
DESCRIPTION:Pack 55 Families\,\nAll interested parents are encouraged to join us the first Thursday of every month for pack committee meetings. We look forward to seeing you there. At least one representative is required from each den. These meetings are an opportunity to help plan the pack’s upcoming events. We need your ideas and energy. Please join us Thursday\, March 3 at 8 PM. Register using the link below:\nWhen: Mar 3\, 2022 08:00 PM Central Time (US and Canada)\nRegister in advance for this meeting: \nAfter registering\, you will receive a confirmation email containing information about joining the meeting.\nEthan Perry\nPack 55 Committee Chair\n832-580-2756\nFor more information please visit: HTTPS://scoutbook.scouting.org/mobile/dashboard/calendar/event.asp?EventID=3520767
URL:https://www.troop55htx.com/event/pack-55-march-committee-meeting/
LOCATION:On Zoom: https://us06web.zoom.us/meeting/register/tZ0rdO6rpzIrGNSiQpup5e5lC-qBJITPh47z
CATEGORIES:Pack 55 (ALL)
END:VEVENT
BEGIN:VEVENT
DTSTART;TZID=America/Chicago:20220304T000000
DTEND;TZID=America/Chicago:20220306T235959
DTSTAMP:20260425T095717
CREATED:20210909T171116Z
LAST-MODIFIED:20220306T070645Z
UID:4043-1646352000-1646611199@www.troop55htx.com
SUMMARY:Troop 55 Camporee at Tellepsen Camp
DESCRIPTION:
URL:https://www.troop55htx.com/event/troop-55-campout-tbd/
LOCATION:Tellepsen Scout Camp – BSA\, Bovay Scout Ranch\,\, County Rd 317\, Navasota\, TX 77868\, USA
CATEGORIES:Troop 55 (ALL)
END:VEVENT
BEGIN:VEVENT
DTSTART;TZID=America/Chicago:20220303T180000
DTEND;TZID=America/Chicago:20220303T190000
DTSTAMP:20260425T095717
CREATED:20220228T063506Z
LAST-MODIFIED:20220303T065016Z
UID:6461-1646330400-1646334000@www.troop55htx.com
SUMMARY:Troop 55 March Committee Meeting - Zoom
DESCRIPTION:
URL:https://www.troop55htx.com/event/troop-55-march-committee-meeting-zoom/
LOCATION:https://us02web.zoom.us/j/81078542546?pwd=bHBhWk1YSEl0V2hiVE5TaGpQUUlpQT09
CATEGORIES:Troop 55 (ALL)
END:VEVENT
BEGIN:VEVENT
DTSTART;TZID=America/Chicago:20220302T190000
DTEND;TZID=America/Chicago:20220302T200000
DTSTAMP:20260425T095717
CREATED:20220211T050423Z
LAST-MODIFIED:20220302T064843Z
UID:6361-1646247600-1646251200@www.troop55htx.com
SUMMARY:Troop 55 Trailer Loadout: Wolf Patrol
DESCRIPTION:
URL:https://www.troop55htx.com/event/troop-55-trailer-loadout-wolf-patrol/
LOCATION:5936 S Loop E Fwy\, Houston\, TX 77033
CATEGORIES:Troop 55 (ALL)
END:VEVENT
BEGIN:VEVENT
DTSTART;TZID=America/Chicago:20220301T193000
DTEND;TZID=America/Chicago:20220301T204500
DTSTAMP:20260425T095717
CREATED:20220106T012219Z
LAST-MODIFIED:20220301T064833Z
UID:5951-1646163000-1646167500@www.troop55htx.com
SUMMARY:Troop 55 Court of Honor
DESCRIPTION:
URL:https://www.troop55htx.com/event/troop-55-court-of-honor-4/
LOCATION:The Church of St. John the Divine\, 2450 River Oaks Blvd\, Houston\, TX 77019\, USA
CATEGORIES:Troop 55 (ALL)
END:VEVENT
BEGIN:VEVENT
DTSTART;TZID=America/Chicago:20220301T183000
DTEND;TZID=America/Chicago:20220301T193000
DTSTAMP:20260425T095717
CREATED:20220126T033257Z
LAST-MODIFIED:20220301T064834Z
UID:6126-1646159400-1646163000@www.troop55htx.com
SUMMARY:T55 Troop Meeting (6:30 pm early start)
DESCRIPTION:
URL:https://www.troop55htx.com/event/t55-troop-meeting-630-pm-early-start/
CATEGORIES:Troop 55 (ALL)
END:VEVENT
BEGIN:VEVENT
DTSTART;TZID=America/Chicago:20220301T000000
DTEND;TZID=America/Chicago:20220301T235959
DTSTAMP:20260425T095717
CREATED:20220204T041902Z
LAST-MODIFIED:20220301T064833Z
UID:6257-1646092800-1646179199@www.troop55htx.com
SUMMARY:T55 Deadline for 2022 summer camp signups
DESCRIPTION:
URL:https://www.troop55htx.com/event/t55-deadline-for-2022-summer-camp-signups/
CATEGORIES:Troop 55 (ALL)
END:VEVENT
BEGIN:VEVENT
DTSTART;TZID=America/Chicago:20220227T113000
DTEND;TZID=America/Chicago:20220227T140000
DTSTAMP:20260425T095717
CREATED:20210830T143443Z
LAST-MODIFIED:20220227T063349Z
UID:3749-1645961400-1645970400@www.troop55htx.com
SUMMARY:Troop 55/54 annual swim test
DESCRIPTION:
URL:https://www.troop55htx.com/event/troop-55-54-annual-swim-test/
LOCATION:Bellaire Family Aquatic Center (Bellaire Pool)\, 7001 5th St\, Bellaire\, TX 77401\, USA\, 201 S 5th St\, United States
CATEGORIES:Troop 55 (ALL)
END:VEVENT
BEGIN:VEVENT
DTSTART;TZID=UTC:20220225T200000
DTEND;TZID=UTC:20220227T160000
DTSTAMP:20260425T095717
CREATED:20210830T143741Z
LAST-MODIFIED:20220227T071838Z
UID:3810-1645819200-1645977600@www.troop55htx.com
SUMMARY:Cub Scout Adventure Camp @ Camp Bovay
DESCRIPTION:For more information please visit: HTTPS://scoutbook.scouting.org/mobile/dashboard/calendar/event.asp?EventID=3645217
URL:https://www.troop55htx.com/event/cub-scout-adventure-camp-camp-bovay-7/
LOCATION:Camp Bovay\, Navasota
CATEGORIES:Pack 55 (ALL)
END:VEVENT
BEGIN:VEVENT
DTSTART;TZID=UTC:20220225T003000
DTEND;TZID=UTC:20220225T023000
DTSTAMP:20260425T095717
CREATED:20211224T002453Z
LAST-MODIFIED:20220224T071813Z
UID:5884-1645749000-1645756200@www.troop55htx.com
SUMMARY:Blue and Gold Banquet\, February Pack Meeting
DESCRIPTION:Blue and Gold Banquet run by the Wolf Dens\nFor more information please visit: HTTPS://scoutbook.scouting.org/mobile/dashboard/calendar/event.asp?EventID=4158611
URL:https://www.troop55htx.com/event/blue-and-gold-banquet-february-pack-meeting/
LOCATION:Hall Life Center\, St John the Divine
CATEGORIES:Pack 55 (ALL)
END:VEVENT
BEGIN:VEVENT
DTSTART;TZID=America/Chicago:20220222T190000
DTEND;TZID=America/Chicago:20220222T200000
DTSTAMP:20260425T095717
CREATED:20210830T143443Z
LAST-MODIFIED:20220222T063313Z
UID:3747-1645556400-1645560000@www.troop55htx.com
SUMMARY:T55 Troop meeting
DESCRIPTION:
URL:https://www.troop55htx.com/event/troop-55-meeting-34/
LOCATION:The Church of St. John the Divine\, 2450 River Oaks Blvd\, Houston\, TX 77019\, USA
CATEGORIES:Troop 55 (ALL)
END:VEVENT
BEGIN:VEVENT
DTSTART;TZID=America/Chicago:20220222T181500
DTEND;TZID=America/Chicago:20220222T190000
DTSTAMP:20260425T095717
CREATED:20220204T041902Z
LAST-MODIFIED:20220222T063313Z
UID:6256-1645553700-1645556400@www.troop55htx.com
SUMMARY:T55 FCT meeting
DESCRIPTION:
URL:https://www.troop55htx.com/event/t55-fct-meeting-3/
CATEGORIES:Troop 55 (ALL)
END:VEVENT
BEGIN:VEVENT
DTSTART;TZID=America/Chicago:20220222T180000
DTEND;TZID=America/Chicago:20220222T190000
DTSTAMP:20260425T095717
CREATED:20220126T033257Z
LAST-MODIFIED:20220222T063313Z
UID:6125-1645552800-1645556400@www.troop55htx.com
SUMMARY:T55 PLC meeting
DESCRIPTION:
URL:https://www.troop55htx.com/event/t55-plc-meeting/
LOCATION:Sumners Hall
CATEGORIES:Troop 55 (ALL)
END:VEVENT
BEGIN:VEVENT
DTSTART;TZID=UTC:20220218T020000
DTEND;TZID=UTC:20220218T030000
DTSTAMP:20260425T095717
CREATED:20210830T143741Z
LAST-MODIFIED:20220217T071820Z
UID:3807-1645149600-1645153200@www.troop55htx.com
SUMMARY:Pack 55 February Committee Meeting -  IS TONIGHT\, THURSDAY FEBRUARY 17 AT 8 PM
DESCRIPTION:NOTE: February’s pack committee meeting is moving to NEXT WEEK\, FEBRUARY 17\, at 8 PM on ZOOM. The meeting got pushed last week due to Pinewood Derby setup and the impending freezing weather\, and this week\, we have conflicts with Twin Bayou District Rountable. JOIN US NEXT WEEK ON ZOOM. An agenda will be sent out prior to the meeting. All adults are welcome to attend.  \nDo you enjoy participating in the campouts? How about the Pinewood Derby? If the answer is yes\, then come and take one hour out of your week to meet with our adult leaders and to help plan for the upcoming pack events.  All interested parents are encouraged to join us the first Thursday of every month for pack committee meetings. We look forward to seeing you there.\nYou are invited to a Zoom meeting.\nWhen: Feb 17\, 2022 08:00 PM Central Time (US and Canada)\nRegister in advance for this meeting:\nAfter registering\, you will receive a confirmation email containing information about joining the meeting.\nEthan Perry\nPack 55 Committee Chair\n832-580-2756\nFor more information please visit: HTTPS://scoutbook.scouting.org/mobile/dashboard/calendar/event.asp?EventID=3520765
URL:https://www.troop55htx.com/event/pack-55-february-committee-meeting/
LOCATION:On Zoom
CATEGORIES:Pack 55 (ALL)
END:VEVENT
BEGIN:VEVENT
DTSTART;TZID=America/Chicago:20220215T190000
DTEND;TZID=America/Chicago:20220215T200000
DTSTAMP:20260425T095717
CREATED:20210830T143443Z
LAST-MODIFIED:20220215T053524Z
UID:3744-1644951600-1644955200@www.troop55htx.com
SUMMARY:T55 Troop meeting
DESCRIPTION:
URL:https://www.troop55htx.com/event/troop-55-meeting-33/
LOCATION:The Church of St. John the Divine\, 2450 River Oaks Blvd\, Houston\, TX 77019\, USA
CATEGORIES:Troop 55 (ALL)
END:VEVENT
BEGIN:VEVENT
DTSTART;TZID=America/Chicago:20220215T181500
DTEND;TZID=America/Chicago:20220215T190000
DTSTAMP:20260425T095717
CREATED:20220204T041902Z
LAST-MODIFIED:20220215T053524Z
UID:6255-1644948900-1644951600@www.troop55htx.com
SUMMARY:T55 FCT meeting
DESCRIPTION:
URL:https://www.troop55htx.com/event/t55-fct-meeting-2/
CATEGORIES:Troop 55 (ALL)
END:VEVENT
BEGIN:VEVENT
DTSTART;TZID=America/Chicago:20220213T153000
DTEND;TZID=America/Chicago:20220213T161500
DTSTAMP:20260425T095717
CREATED:20220211T050422Z
LAST-MODIFIED:20220213T053310Z
UID:6359-1644766200-1644768900@www.troop55htx.com
SUMMARY:T55 Trailer Loadout: Cobra Patrol
DESCRIPTION:
URL:https://www.troop55htx.com/event/t55-trailer-loadout-cobra-patrol/
LOCATION:5936 S Loop E Fwy\, Houston\, TX 77033\, USA
CATEGORIES:Troop 55 (ALL)
END:VEVENT
BEGIN:VEVENT
DTSTART;TZID=America/Chicago:20220211T000000
DTEND;TZID=America/Chicago:20220213T235959
DTSTAMP:20260425T095717
CREATED:20210830T143443Z
LAST-MODIFIED:20220213T053310Z
UID:3746-1644537600-1644796799@www.troop55htx.com
SUMMARY:Troop 55 Campout at Enchanted Rock
DESCRIPTION:
URL:https://www.troop55htx.com/event/troop-55-campout-at-enchanted-rock/
LOCATION:Enchanted Rock State Natural Area\, 16710 Ranch Rd 965\, Fredericksburg\, TX 78624\, USA\, 101 Ranch Rd 965\, United States
CATEGORIES:Troop 55 (ALL)
END:VEVENT
BEGIN:VEVENT
DTSTART;TZID=America/Chicago:20220209T190000
DTEND;TZID=America/Chicago:20220209T200000
DTSTAMP:20260425T095717
CREATED:20220127T033437Z
LAST-MODIFIED:20220209T044807Z
UID:6145-1644433200-1644436800@www.troop55htx.com
SUMMARY:T55 - 2022 Summer Camps presentation for Scouts and Parents
DESCRIPTION:
URL:https://www.troop55htx.com/event/t55-2022-summer-camps-presentation-for-scouts-and-parents/
LOCATION:https://us06web.zoom.us/j/87613970343?pwd=UnVRTDIrT0lMNWpZOUI5OUhJTk1IQT09
CATEGORIES:Troop 55 (ALL)
END:VEVENT
BEGIN:VEVENT
DTSTART;TZID=America/Chicago:20220208T190000
DTEND;TZID=America/Chicago:20220208T200000
DTSTAMP:20260425T095717
CREATED:20210830T143443Z
LAST-MODIFIED:20220208T044853Z
UID:3743-1644346800-1644350400@www.troop55htx.com
SUMMARY:T55 Troop meeting
DESCRIPTION:
URL:https://www.troop55htx.com/event/troop-55-meeting-32/
LOCATION:The Church of St. John the Divine\, 2450 River Oaks Blvd\, Houston\, TX 77019\, USA
CATEGORIES:Troop 55 (ALL)
END:VEVENT
BEGIN:VEVENT
DTSTART;TZID=America/Chicago:20220208T183000
DTEND;TZID=America/Chicago:20220208T190000
DTSTAMP:20260425T095717
CREATED:20220208T044850Z
LAST-MODIFIED:20220208T044853Z
UID:6344-1644345000-1644346800@www.troop55htx.com
SUMMARY:T55 Enchanted Rock Planning Meeting
DESCRIPTION:Below is the Zoom call-in info for the ERock planning meeting\, for those who want to participate but cannot attend in person.  I have also attached some planning documents for the meeting.  If you would\, please send this out to the adult volunteers and PASMs.  Thanks\, Mark.\nMark Hellinger is inviting you to a scheduled Zoom meeting.\nJoin Zoom Meeting\nhttps://zoom.us/j/4032318334?pwd=ZkFGalFLcmJXV0F2SGZGV2Y1UCtKZz09\nMeeting ID: 403 231 8334\nPasscode: JU22a4
URL:https://www.troop55htx.com/event/t55-enchanted-rock-planning-meeting/
LOCATION:https://zoom.us/j/4032318334?pwd=ZkFGalFLcmJXV0F2SGZGV2Y1UCtKZz09
CATEGORIES:Troop 55 (ALL)
END:VEVENT
BEGIN:VEVENT
DTSTART;TZID=America/Chicago:20220208T181500
DTEND;TZID=America/Chicago:20220208T190000
DTSTAMP:20260425T095717
CREATED:20220204T041902Z
LAST-MODIFIED:20220208T044853Z
UID:6254-1644344100-1644346800@www.troop55htx.com
SUMMARY:T55 FCT meeting
DESCRIPTION:
URL:https://www.troop55htx.com/event/t55-fct-meeting/
CATEGORIES:Troop 55 (ALL)
END:VEVENT
END:VCALENDAR