BEGIN:VCALENDAR
VERSION:2.0
PRODID:-//Troop 55 St. John the Divine - ECPv6.15.20//NONSGML v1.0//EN
CALSCALE:GREGORIAN
METHOD:PUBLISH
X-WR-CALNAME:Troop 55 St. John the Divine
X-ORIGINAL-URL:https://www.troop55htx.com
X-WR-CALDESC:Events for Troop 55 St. John the Divine
REFRESH-INTERVAL;VALUE=DURATION:PT1H
X-Robots-Tag:noindex
X-PUBLISHED-TTL:PT1H
BEGIN:VTIMEZONE
TZID:UTC
BEGIN:STANDARD
TZOFFSETFROM:+0000
TZOFFSETTO:+0000
TZNAME:UTC
DTSTART:20200101T000000
END:STANDARD
END:VTIMEZONE
BEGIN:VTIMEZONE
TZID:America/Chicago
BEGIN:DAYLIGHT
TZOFFSETFROM:-0600
TZOFFSETTO:-0500
TZNAME:CDT
DTSTART:20200308T080000
END:DAYLIGHT
BEGIN:STANDARD
TZOFFSETFROM:-0500
TZOFFSETTO:-0600
TZNAME:CST
DTSTART:20201101T070000
END:STANDARD
BEGIN:DAYLIGHT
TZOFFSETFROM:-0600
TZOFFSETTO:-0500
TZNAME:CDT
DTSTART:20210314T080000
END:DAYLIGHT
BEGIN:STANDARD
TZOFFSETFROM:-0500
TZOFFSETTO:-0600
TZNAME:CST
DTSTART:20211107T070000
END:STANDARD
BEGIN:DAYLIGHT
TZOFFSETFROM:-0600
TZOFFSETTO:-0500
TZNAME:CDT
DTSTART:20220313T080000
END:DAYLIGHT
BEGIN:STANDARD
TZOFFSETFROM:-0500
TZOFFSETTO:-0600
TZNAME:CST
DTSTART:20221106T070000
END:STANDARD
BEGIN:DAYLIGHT
TZOFFSETFROM:-0600
TZOFFSETTO:-0500
TZNAME:CDT
DTSTART:20230312T080000
END:DAYLIGHT
BEGIN:STANDARD
TZOFFSETFROM:-0500
TZOFFSETTO:-0600
TZNAME:CST
DTSTART:20231105T070000
END:STANDARD
END:VTIMEZONE
BEGIN:VEVENT
DTSTART;TZID=UTC:20211203T200000
DTEND;TZID=UTC:20211205T160000
DTSTAMP:20260425T095011
CREATED:20210830T143740Z
LAST-MODIFIED:20211204T215405Z
UID:3796-1638561600-1638720000@www.troop55htx.com
SUMMARY:Cub Scout Adventure Camp @ Camp Bovay
DESCRIPTION:For more information please visit: HTTPS://scoutbook.scouting.org/mobile/dashboard/calendar/event.asp?EventID=3645198
URL:https://www.troop55htx.com/event/cub-scout-adventure-camp-camp-bovay-6/
LOCATION:Camp Bovay\, Navasota
CATEGORIES:Pack 55 (ALL)
END:VEVENT
BEGIN:VEVENT
DTSTART;TZID=UTC:20211204T160000
DTEND;TZID=UTC:20211204T180000
DTSTAMP:20260425T095011
CREATED:20210830T143740Z
LAST-MODIFIED:20211203T214841Z
UID:3798-1638633600-1638640800@www.troop55htx.com
SUMMARY:God and Me/God and Family
DESCRIPTION:For more information please visit: HTTPS://scoutbook.scouting.org/mobile/dashboard/calendar/event.asp?EventID=3645200
URL:https://www.troop55htx.com/event/god-and-me-god-and-family/
LOCATION:St. John the Divine
CATEGORIES:Pack 55 (ALL)
END:VEVENT
BEGIN:VEVENT
DTSTART;TZID=UTC:20211204T180000
DTEND;TZID=UTC:20211204T190000
DTSTAMP:20260425T095011
CREATED:20210830T143740Z
LAST-MODIFIED:20211203T214840Z
UID:3799-1638640800-1638644400@www.troop55htx.com
SUMMARY:Virtual Caroling on the North Lawn\, St John the Divine
DESCRIPTION:A Scout looks for creative ways to bring good cheer to those around him or her. In lieu of gathering in-person at Brookdale Assisted Living (on Buffalo Speedway) this year for caroling\, we will again record some carols together as a pack outdoors\, on the North Lawn at St John the Divine. We were unable to secure permission to sing on the premises\, due to COVID-19 and the continued need for social distancing and limited groups sizes at Brookdale.\nThe digital recordings of the songs\, as well as the handmade cards\, will be delivered to Brookdale and shared with their residents. Come and join the fun. Families are welcome to join in this recording session.\nFor more information please visit: HTTPS://scoutbook.scouting.org/mobile/dashboard/calendar/event.asp?EventID=3645211
URL:https://www.troop55htx.com/event/caroling-at-brookdale-2/
LOCATION:Outdoors on the North Lawn\, St John the Divine
CATEGORIES:Pack 55 (ALL)
END:VEVENT
BEGIN:VEVENT
DTSTART;TZID=America/Chicago:20211205T000000
DTEND;TZID=America/Chicago:20211205T235959
DTSTAMP:20260425T095011
CREATED:20210830T143442Z
LAST-MODIFIED:20211205T212506Z
UID:3731-1638662400-1638748799@www.troop55htx.com
SUMMARY:Troop 55 Trailer Load-out: Wolf patrol
DESCRIPTION:
URL:https://www.troop55htx.com/event/troop-55-trailer-load-out-tbd-patrol-2/
LOCATION:5936 S Loop E Fwy\, Houston\, TX 77033\, USA
CATEGORIES:Troop 55 (ALL)
END:VEVENT
BEGIN:VEVENT
DTSTART;TZID=America/Chicago:20211207T181500
DTEND;TZID=America/Chicago:20211207T190000
DTSTAMP:20260425T095011
CREATED:20211004T203439Z
LAST-MODIFIED:20211207T213753Z
UID:4558-1638900900-1638903600@www.troop55htx.com
SUMMARY:T55 FCT Scouts meeting
DESCRIPTION:
URL:https://www.troop55htx.com/event/t55-fct-scouts-meeting-10/
LOCATION:TX
CATEGORIES:Troop 55 (ALL)
END:VEVENT
BEGIN:VEVENT
DTSTART;TZID=UTC:20211211T160000
DTEND;TZID=UTC:20211211T180000
DTSTAMP:20260425T095011
CREATED:20210830T143741Z
LAST-MODIFIED:20211210T222113Z
UID:3800-1639238400-1639245600@www.troop55htx.com
SUMMARY:God and Me/God and Family
DESCRIPTION:For more information please visit: HTTPS://scoutbook.scouting.org/mobile/dashboard/calendar/event.asp?EventID=3645202
URL:https://www.troop55htx.com/event/god-and-me-god-and-family-2/
LOCATION:St. John the Divine
CATEGORIES:Pack 55 (ALL)
END:VEVENT
BEGIN:VEVENT
DTSTART;TZID=America/Chicago:20211214T181500
DTEND;TZID=America/Chicago:20211214T190000
DTSTAMP:20260425T095011
CREATED:20211004T203439Z
LAST-MODIFIED:20211214T223425Z
UID:4560-1639505700-1639508400@www.troop55htx.com
SUMMARY:T55 FCT Scouts meeting
DESCRIPTION:
URL:https://www.troop55htx.com/event/t55-fct-scouts-meeting-11/
LOCATION:TX
CATEGORIES:Troop 55 (ALL)
END:VEVENT
BEGIN:VEVENT
DTSTART;TZID=America/Chicago:20211214T190000
DTEND;TZID=America/Chicago:20211214T200000
DTSTAMP:20260425T095011
CREATED:20210830T143442Z
LAST-MODIFIED:20211214T223425Z
UID:3733-1639508400-1639512000@www.troop55htx.com
SUMMARY:T55 Court of Honor (no Troop meeting)
DESCRIPTION:
URL:https://www.troop55htx.com/event/troop-55-meeting-26/
LOCATION:The Church of St. John the Divine\, 2450 River Oaks Blvd\, Houston\, TX 77019\, USA
CATEGORIES:Troop 55 (ALL)
END:VEVENT
BEGIN:VEVENT
DTSTART;TZID=UTC:20211217T004500
DTEND;TZID=UTC:20211217T020000
DTSTAMP:20260425T095011
CREATED:20210830T143741Z
LAST-MODIFIED:20211216T230404Z
UID:3801-1639701900-1639706400@www.troop55htx.com
SUMMARY:December Pack Meeting - Sockball Fight for Star of Hope
DESCRIPTION:Thursday\, December 16\, 2021 @ 6:45 PM\, North Lawn SJD: November Pack Meeting:\nJoin Pack 55 for our final Pack Meeting of 2021. We’ll be convening on the North Lawn at St. John the Divine at 6:45 on Thursday 12/16. For our December meeting we will be reviving a much-loved Pack tradition: a snowball fight. For those new to this longstanding tradition\, we will not be importing machinery from Colorado to manufacture frozen white powder. Rather\, we’ll ask each family to arm their child with white athletic socks bundled in pairs. While not as cold as actual snow\, these bundles are just as much fun to throw at friends. Once the activities are complete we will gather the socks for donation to the Star of Hope Mission\, a local homeless shelter. Each family is asked to bring at least three pairs of socks\, and we appreciate you joining us in supporting this local cause. Bring a camp chair for your comfort. Please wear a face mask when social distancing is not possible.\nPinewood Derby car kits will be available for pickup at the Pack Meeting so you can work on them over the holidays.\nReminder: Bring your Part A/B Health Form to this meeting as well\, if you have not turned them in. All participants in the January Brazos Bend Campout need to have Part A/B Medical Forms for all members of their party (all adults\, scouts and siblings). Turn them in to Mitchell Fuller or another Adult Leader at the Pack Meeting. Link to the forms here: .\nCome and join the fun.\nFor more information please visit: HTTPS://scoutbook.scouting.org/mobile/dashboard/calendar/event.asp?EventID=3522979
URL:https://www.troop55htx.com/event/december-pack-meeting/
LOCATION:North Lawn\, St John the Divine
CATEGORIES:Pack 55 (ALL)
END:VEVENT
BEGIN:VEVENT
DTSTART;TZID=America/Chicago:20211220T000000
DTEND;TZID=America/Chicago:20220103T235959
DTSTAMP:20260425T095011
CREATED:20211022T163501Z
LAST-MODIFIED:20220103T010809Z
UID:4943-1639958400-1641254399@www.troop55htx.com
SUMMARY:T55 Winter Break - no meetings
DESCRIPTION:
URL:https://www.troop55htx.com/event/t55-winter-break-no-meetings/
LOCATION:TX
CATEGORIES:Troop 55 (ALL)
END:VEVENT
BEGIN:VEVENT
DTSTART;TZID=America/Chicago:20211221T181500
DTEND;TZID=America/Chicago:20211221T190000
DTSTAMP:20260425T095011
CREATED:20211004T203439Z
LAST-MODIFIED:20211021T163729Z
UID:4561-1640110500-1640113200@www.troop55htx.com
SUMMARY:T55 FCT Scouts meeting
DESCRIPTION:
URL:https://www.troop55htx.com/event/t55-fct-scouts-meeting-12/
LOCATION:TX
CATEGORIES:Troop 55 (ALL)
END:VEVENT
BEGIN:VEVENT
DTSTART;TZID=America/Chicago:20211228T181500
DTEND;TZID=America/Chicago:20211228T190000
DTSTAMP:20260425T095011
CREATED:20211004T203439Z
LAST-MODIFIED:20211021T163729Z
UID:4562-1640715300-1640718000@www.troop55htx.com
SUMMARY:T55 FCT Scouts meeting
DESCRIPTION:
URL:https://www.troop55htx.com/event/t55-fct-scouts-meeting-13/
LOCATION:TX
CATEGORIES:Troop 55 (ALL)
END:VEVENT
BEGIN:VEVENT
DTSTART;TZID=America/Chicago:20220104T190000
DTEND;TZID=America/Chicago:20220104T200000
DTSTAMP:20260425T095011
CREATED:20210830T143442Z
LAST-MODIFIED:20220105T011846Z
UID:3734-1641322800-1641326400@www.troop55htx.com
SUMMARY:T55 Troop meeting
DESCRIPTION:
URL:https://www.troop55htx.com/event/troop-55-meeting-27/
LOCATION:The Church of St. John the Divine\, 2450 River Oaks Blvd\, Houston\, TX 77019\, USA
CATEGORIES:Troop 55 (ALL)
END:VEVENT
BEGIN:VEVENT
DTSTART;TZID=America/Chicago:20220106T190000
DTEND;TZID=America/Chicago:20220106T200000
DTSTAMP:20260425T095011
CREATED:20210903T161115Z
LAST-MODIFIED:20220107T013432Z
UID:4009-1641495600-1641499200@www.troop55htx.com
SUMMARY:T55 Troop Committee meeting (Zoom)
DESCRIPTION:
URL:https://www.troop55htx.com/event/t55-troop-committee-meeting-zoom-4/
LOCATION:TX
CATEGORIES:Troop 55 (ALL)
END:VEVENT
BEGIN:VEVENT
DTSTART;TZID=UTC:20220107T020000
DTEND;TZID=UTC:20220107T030000
DTSTAMP:20260425T095011
CREATED:20210830T143741Z
LAST-MODIFIED:20220107T025051Z
UID:3802-1641520800-1641524400@www.troop55htx.com
SUMMARY:January 2022 Pack 55 Committee Meeting
DESCRIPTION:All interested parents are encouraged to join us the first Thursday of every month for pack committee meetings. We are moving the start time to 8 PM to encourage more participation. We need at least one representative from each den\, but more are always welcome. Join us to plan great upcoming events for Pack 55. We look forward to seeing you there.\nYou are invited to a Zoom meeting.\nWhen: Jan 6\, 2022 08:00 PM Central Time (US and Canada)\nRegister in advance for this meeting: \nAfter registering\, you will receive a confirmation email containing information about joining the meeting.\nEthan Perry\nPack 55 Committee Chair\n832-580-2756\nFor more information please visit: HTTPS://scoutbook.scouting.org/mobile/dashboard/calendar/event.asp?EventID=3520762
URL:https://www.troop55htx.com/event/january-pack-55-committee-meeting/
LOCATION:Zoom: https://us06web.zoom.us/meeting/register/tZEkdOqgqj8rGdZj9c5a5xdTrQVuhDOTNbl9
CATEGORIES:Pack 55 (ALL)
END:VEVENT
BEGIN:VEVENT
DTSTART;TZID=UTC:20220108T160000
DTEND;TZID=UTC:20220108T180000
DTSTAMP:20260425T095011
CREATED:20210830T143741Z
LAST-MODIFIED:20220108T030458Z
UID:3803-1641657600-1641664800@www.troop55htx.com
SUMMARY:God and Me/God and Family
DESCRIPTION:For more information please visit: HTTPS://scoutbook.scouting.org/mobile/dashboard/calendar/event.asp?EventID=3645203
URL:https://www.troop55htx.com/event/god-and-me-god-and-family-3/
LOCATION:St. John the Divine
CATEGORIES:Pack 55 (ALL)
END:VEVENT
BEGIN:VEVENT
DTSTART;TZID=America/Chicago:20220111T190000
DTEND;TZID=America/Chicago:20220111T200000
DTSTAMP:20260425T095012
CREATED:20210830T143442Z
LAST-MODIFIED:20220111T015113Z
UID:3735-1641927600-1641931200@www.troop55htx.com
SUMMARY:T55 Troop meeting
DESCRIPTION:
URL:https://www.troop55htx.com/event/troop-55-meeting-28/
LOCATION:The Church of St. John the Divine\, 2450 River Oaks Blvd\, Houston\, TX 77019\, USA
CATEGORIES:Troop 55 (ALL)
END:VEVENT
BEGIN:VEVENT
DTSTART;TZID=UTC:20220114T200000
DTEND;TZID=UTC:20220116T160000
DTSTAMP:20260425T095012
CREATED:20210830T143741Z
LAST-MODIFIED:20220116T033348Z
UID:3805-1642190400-1642348800@www.troop55htx.com
SUMMARY:Winter Campout - Brazos Bend
DESCRIPTION:Watch for Doubleknot Registration link.\nFor more information please visit: HTTPS://scoutbook.scouting.org/mobile/dashboard/calendar/event.asp?EventID=3522982
URL:https://www.troop55htx.com/event/winter-campout-brazos-bend/
LOCATION:Brazos Bend State Park
CATEGORIES:Pack 55 (ALL)
END:VEVENT
BEGIN:VEVENT
DTSTART;TZID=America/Chicago:20220115T120000
DTEND;TZID=America/Chicago:20220115T140000
DTSTAMP:20260425T095012
CREATED:20220115T021834Z
LAST-MODIFIED:20220115T021836Z
UID:6009-1642248000-1642255200@www.troop55htx.com
SUMMARY:Troop 55 New Scouts & Parents Orientation
DESCRIPTION:
URL:https://www.troop55htx.com/event/troop-55-new-scouts-parents-orientation/
LOCATION:The Church of St. John the Divine\, 2450 River Oaks Blvd\, Houston\, TX 77019\, USA
CATEGORIES:Troop 55 (ALL)
END:VEVENT
BEGIN:VEVENT
DTSTART;TZID=America/Chicago:20220118T181500
DTEND;TZID=America/Chicago:20220118T190000
DTSTAMP:20260425T095012
CREATED:20220115T021834Z
LAST-MODIFIED:20220118T023328Z
UID:6010-1642529700-1642532400@www.troop55htx.com
SUMMARY:T55 FCT Scouts meeting
DESCRIPTION:
URL:https://www.troop55htx.com/event/t55-fct-scouts-meeting-14/
LOCATION:TX
CATEGORIES:Troop 55 (ALL)
END:VEVENT
BEGIN:VEVENT
DTSTART;TZID=America/Chicago:20220118T183000
DTEND;TZID=America/Chicago:20220118T193000
DTSTAMP:20260425T095012
CREATED:20220115T021834Z
LAST-MODIFIED:20220118T023328Z
UID:6011-1642530600-1642534200@www.troop55htx.com
SUMMARY:T55 FCT Parents MANDATORY Meeting - Advancements\, Part 1
DESCRIPTION:
URL:https://www.troop55htx.com/event/t55-fct-parents-mandatory-meeting-advancements-part-1/
LOCATION:TX
CATEGORIES:Troop 55 (ALL)
END:VEVENT
BEGIN:VEVENT
DTSTART;TZID=America/Chicago:20220118T190000
DTEND;TZID=America/Chicago:20220118T200000
DTSTAMP:20260425T095012
CREATED:20210830T143442Z
LAST-MODIFIED:20220118T023328Z
UID:3736-1642532400-1642536000@www.troop55htx.com
SUMMARY:T55 Troop meeting
DESCRIPTION:
URL:https://www.troop55htx.com/event/troop-55-meeting-29/
LOCATION:The Church of St. John the Divine\, 2450 River Oaks Blvd\, Houston\, TX 77019\, USA
CATEGORIES:Troop 55 (ALL)
END:VEVENT
BEGIN:VEVENT
DTSTART;TZID=America/Chicago:20220121T000000
DTEND;TZID=America/Chicago:20220123T235959
DTSTAMP:20260425T095012
CREATED:20210830T143442Z
LAST-MODIFIED:20220123T032804Z
UID:3738-1642723200-1642982399@www.troop55htx.com
SUMMARY:Troop 55 New Scout Campout at Webb Ranch
DESCRIPTION:
URL:https://www.troop55htx.com/event/troop-55-new-scout-campout-at-webb-ranch/
LOCATION:Webb Lane\, Webb Ln\, Texas 77833\, USA
CATEGORIES:Troop 55 (ALL)
END:VEVENT
BEGIN:VEVENT
DTSTART;TZID=UTC:20220122T160000
DTEND;TZID=UTC:20220122T180000
DTSTAMP:20260425T095012
CREATED:20210830T143741Z
LAST-MODIFIED:20220122T035333Z
UID:3806-1642867200-1642874400@www.troop55htx.com
SUMMARY:God and Me/God and Family
DESCRIPTION:For more information please visit: HTTPS://scoutbook.scouting.org/mobile/dashboard/calendar/event.asp?EventID=3645204
URL:https://www.troop55htx.com/event/god-and-me-god-and-family-4/
LOCATION:St. John the Divine
CATEGORIES:Pack 55 (ALL)
END:VEVENT
BEGIN:VEVENT
DTSTART;TZID=America/Chicago:20220125T181500
DTEND;TZID=America/Chicago:20220125T190000
DTSTAMP:20260425T095012
CREATED:20220115T021834Z
LAST-MODIFIED:20220125T033559Z
UID:6013-1643134500-1643137200@www.troop55htx.com
SUMMARY:T55 FCT Scouts meeting
DESCRIPTION:
URL:https://www.troop55htx.com/event/t55-fct-scouts-meeting-15/
LOCATION:TX
CATEGORIES:Troop 55 (ALL)
END:VEVENT
BEGIN:VEVENT
DTSTART;TZID=America/Chicago:20220125T183000
DTEND;TZID=America/Chicago:20220125T193000
DTSTAMP:20260425T095012
CREATED:20220115T021834Z
LAST-MODIFIED:20220125T033559Z
UID:6012-1643135400-1643139000@www.troop55htx.com
SUMMARY:T55 FCT Parents MANDATORY meeting - Advancements\, Part 2
DESCRIPTION:
URL:https://www.troop55htx.com/event/t55-fct-parents-mandatory-meeting-advancements-part-2/
LOCATION:TX
CATEGORIES:Troop 55 (ALL)
END:VEVENT
BEGIN:VEVENT
DTSTART;TZID=America/Chicago:20220125T190000
DTEND;TZID=America/Chicago:20220125T200000
DTSTAMP:20260425T095012
CREATED:20210830T143443Z
LAST-MODIFIED:20220125T033559Z
UID:3739-1643137200-1643140800@www.troop55htx.com
SUMMARY:T55 Troop meeting
DESCRIPTION:
URL:https://www.troop55htx.com/event/troop-55-meeting-30/
LOCATION:The Church of St. John the Divine\, 2450 River Oaks Blvd\, Houston\, TX 77019\, USA
CATEGORIES:Troop 55 (ALL)
END:VEVENT
BEGIN:VEVENT
DTSTART;TZID=UTC:20220128T004500
DTEND;TZID=UTC:20220128T014500
DTSTAMP:20260425T095012
CREATED:20211224T002453Z
LAST-MODIFIED:20220127T045305Z
UID:5882-1643330700-1643334300@www.troop55htx.com
SUMMARY:January Pack Meeting
DESCRIPTION:January Pack Meeting – Important – the pack meeting is being moved 1 week from the 20th to 27th. The topic will be cybersecurity. We are seeking a YouTuber or other social media personality to present to the scouts.\nFor more information please visit: HTTPS://scoutbook.scouting.org/mobile/dashboard/calendar/event.asp?EventID=4158610
URL:https://www.troop55htx.com/event/january-pack-meeting/
LOCATION:Sumners Hall\, St John the Divine
CATEGORIES:Pack 55 (ALL)
END:VEVENT
BEGIN:VEVENT
DTSTART;TZID=America/Chicago:20220201T190000
DTEND;TZID=America/Chicago:20220201T200000
DTSTAMP:20260425T095012
CREATED:20210830T143443Z
LAST-MODIFIED:20220201T035142Z
UID:3740-1643742000-1643745600@www.troop55htx.com
SUMMARY:T55 Troop meeting
DESCRIPTION:
URL:https://www.troop55htx.com/event/troop-55-meeting-31/
LOCATION:The Church of St. John the Divine\, 2450 River Oaks Blvd\, Houston\, TX 77019\, USA
CATEGORIES:Troop 55 (ALL)
END:VEVENT
BEGIN:VEVENT
DTSTART;TZID=UTC:20220203T220000
DTEND;TZID=UTC:20220204T020000
DTSTAMP:20260425T095012
CREATED:20220202T052138Z
LAST-MODIFIED:20220203T053331Z
UID:6225-1643925600-1643940000@www.troop55htx.com
SUMMARY:Pinewood Derby Weigh-In
DESCRIPTION:The 2022 Pinewood Derby is this Saturday! The event will be returning to Sumner Hall and the Gymnasium.\nThe complete schedule and rules are posted on the website:\nVolunteers:\nWe still need a lot of volunteers! The Pinewood Derby cannot happen without help from the parents. Nobody has volunteered to be a race day announcer or to oversee the divisional championship races. We also need 5 more people to sign up for the prestigious setting up of the track on Thursday evening\, and the equally exclusive track tear-down team on Saturday. Please\, please\, please volunteer to help make this event happen.\nPlease signup to help at the following link:\nCar Check-in:\nYou can check-in your car on Thursday evening from 4-9pm and Friday evening 4-6pm. Note the extended hours on Thursday. Cars must be checked in on either Thursday or Friday. Cars that are not checked in on Thursday or Friday will not be allowed to race. Every year\, somebody shows up on Saturday morning wanting to check-in a car\, but it’s not allowed.\nRace Day Schedule:\nWebelos\n8:00 – 8:15 Check In\n8:15 – 8:35 Rules and Awards\n8:35 – 9:15 Heats\n9:15 – 9:45 Champs and Turtles\nTiger & Lion\n8:25 – 8:45 Check In\n8:45 – 9:15 Rules and Awards\n9:15- 10:00 Heats\n10:05-10:45 Champs and Turtles\nBear\n9:15 – 9:30 Check In\n9:30- 10:00 Rules and Awards\n10:00-10:40 Heats\n10:45-11:20 Champs and Turtles\nWolf\n9:50- 10:10 Check In\n10:10-10:40 Rules and Awards\n10:40-11:20 Heats\n11:25-11:55 Champs and Turtles\nOpen & Unlimited\n11:20 – 12:00 Quick Rules & Races\nNote that Open and Unlimited division races have returned this year. For more information\, see the rules posted on the website.\nIf you have any questions\, you can reach me at grandall@grandall.org.\nLooking forward to seeing you all at the event.\n-g\nGraham Randall\nPack 55 Pinewood Derby Chair\ngrandall@grandall.org\nFor more information please visit: HTTPS://scoutbook.scouting.org/mobile/dashboard/calendar/event.asp?EventID=4244150
URL:https://www.troop55htx.com/event/pinewood-derby-weigh-in/
LOCATION:Scout Room\, St John the Divine
CATEGORIES:Pack 55 (ALL)
END:VEVENT
END:VCALENDAR