BEGIN:VCALENDAR
VERSION:2.0
PRODID:-//Troop 55 St. John the Divine - ECPv6.15.20//NONSGML v1.0//EN
CALSCALE:GREGORIAN
METHOD:PUBLISH
X-WR-CALNAME:Troop 55 St. John the Divine
X-ORIGINAL-URL:https://www.troop55htx.com
X-WR-CALDESC:Events for Troop 55 St. John the Divine
REFRESH-INTERVAL;VALUE=DURATION:PT1H
X-Robots-Tag:noindex
X-PUBLISHED-TTL:PT1H
BEGIN:VTIMEZONE
TZID:America/Chicago
BEGIN:DAYLIGHT
TZOFFSETFROM:-0600
TZOFFSETTO:-0500
TZNAME:CDT
DTSTART:20210314T080000
END:DAYLIGHT
BEGIN:STANDARD
TZOFFSETFROM:-0500
TZOFFSETTO:-0600
TZNAME:CST
DTSTART:20211107T070000
END:STANDARD
BEGIN:DAYLIGHT
TZOFFSETFROM:-0600
TZOFFSETTO:-0500
TZNAME:CDT
DTSTART:20220313T080000
END:DAYLIGHT
BEGIN:STANDARD
TZOFFSETFROM:-0500
TZOFFSETTO:-0600
TZNAME:CST
DTSTART:20221106T070000
END:STANDARD
BEGIN:DAYLIGHT
TZOFFSETFROM:-0600
TZOFFSETTO:-0500
TZNAME:CDT
DTSTART:20230312T080000
END:DAYLIGHT
BEGIN:STANDARD
TZOFFSETFROM:-0500
TZOFFSETTO:-0600
TZNAME:CST
DTSTART:20231105T070000
END:STANDARD
END:VTIMEZONE
BEGIN:VTIMEZONE
TZID:UTC
BEGIN:STANDARD
TZOFFSETFROM:+0000
TZOFFSETTO:+0000
TZNAME:UTC
DTSTART:20210101T000000
END:STANDARD
END:VTIMEZONE
BEGIN:VEVENT
DTSTART;TZID=America/Chicago:20220426T173000
DTEND;TZID=America/Chicago:20220426T181500
DTSTAMP:20260425T063630
CREATED:20220425T101853Z
LAST-MODIFIED:20220426T101854Z
UID:6843-1650994200-1650996900@www.troop55htx.com
SUMMARY:T55 Camp Yawgoog Parents & Scouts meeting @ Sumners Hall
DESCRIPTION:
URL:https://www.troop55htx.com/event/t55-camp-yawgoog-parents-scouts-meeting-sumners-hall/
CATEGORIES:Troop 55 (ALL)
END:VEVENT
BEGIN:VEVENT
DTSTART;TZID=America/Chicago:20220426T181500
DTEND;TZID=America/Chicago:20220426T190000
DTSTAMP:20260425T063630
CREATED:20220204T041904Z
LAST-MODIFIED:20220426T101854Z
UID:6264-1650996900-1650999600@www.troop55htx.com
SUMMARY:T55 FCT meeting
DESCRIPTION:
URL:https://www.troop55htx.com/event/t55-fct-meeting-10/
CATEGORIES:Troop 55 (ALL)
END:VEVENT
BEGIN:VEVENT
DTSTART;TZID=America/Chicago:20220426T190000
DTEND;TZID=America/Chicago:20220426T200000
DTSTAMP:20260425T063630
CREATED:20211025T165251Z
LAST-MODIFIED:20220426T101854Z
UID:4953-1650999600-1651003200@www.troop55htx.com
SUMMARY:T55 Troop meeting
DESCRIPTION:
URL:https://www.troop55htx.com/event/t55-troop-meeting-2/
LOCATION:The Church of St. John the Divine\, 2450 River Oaks Blvd\, Houston\, TX 77019\, USA
CATEGORIES:Troop 55 (ALL)
END:VEVENT
BEGIN:VEVENT
DTSTART;TZID=UTC:20220428T233000
DTEND;TZID=UTC:20220429T010000
DTSTAMP:20260425T063630
CREATED:20210830T143742Z
LAST-MODIFIED:20220428T114846Z
UID:3817-1651188600-1651194000@www.troop55htx.com
SUMMARY:April Pack Meeting - Build your Snake IQ
DESCRIPTION:We will have our April Pack Meeting on the 28th at 6:30 pm at St John the Divine – this month we will be downstairs in the Scout Room. Face masks are optional. This is a Recruiting Event! Bring your classmates\, neighbors\, family members and anyone else who would like to learn about snakes and who might like to join the fun at Pack 55. We encourage families to bring prospective scouts to any pack event (except overnight campouts) to introduce them to Pack 55 and to Cub Scouting.\nThis month\, our purpose is to learn about snakes and reptiles. The main event will have live snakes. There will be many different species of non-venomous snakes for the scouts to view and touch. The scouts will learn about snake safety in the wild\, what to do when you see a snake camping or in the wild.\nLook forward to seeing everyone there!\nCubmaster Beebe\nFor more information please visit: HTTPS://scoutbook.scouting.org/mobile/dashboard/calendar/event.asp?EventID=3522988
URL:https://www.troop55htx.com/event/april-pack-meeting/
LOCATION:Scout Room\, Downstairs @ St John the Divine
CATEGORIES:Pack 55 (ALL)
END:VEVENT
BEGIN:VEVENT
DTSTART;TZID=America/Chicago:20220430T100000
DTEND;TZID=America/Chicago:20220430T110000
DTSTAMP:20260425T063630
CREATED:20220429T103322Z
LAST-MODIFIED:20220430T103353Z
UID:6908-1651312800-1651316400@www.troop55htx.com
SUMMARY:Personal Fitness MB exercise session @ Memorial Park timing track
DESCRIPTION:
URL:https://www.troop55htx.com/event/personal-fitness-mb-exercise-session-memorial-park-timing-track/
CATEGORIES:Troop 55 (ALL)
END:VEVENT
BEGIN:VEVENT
DTSTART;TZID=America/Chicago:20220501T000000
DTEND;TZID=America/Chicago:20220501T235959
DTSTAMP:20260425T063630
CREATED:20220425T101853Z
LAST-MODIFIED:20220501T103308Z
UID:6844-1651363200-1651449599@www.troop55htx.com
SUMMARY:T55 Philmont practice hike
DESCRIPTION:
URL:https://www.troop55htx.com/event/t55-philmont-practice-hike/
CATEGORIES:Troop 55 (ALL)
END:VEVENT
BEGIN:VEVENT
DTSTART;TZID=America/Chicago:20220503T190000
DTEND;TZID=America/Chicago:20220503T200000
DTSTAMP:20260425T063630
CREATED:20211027T172046Z
LAST-MODIFIED:20220503T103327Z
UID:5535-1651604400-1651608000@www.troop55htx.com
SUMMARY:T55 Troop meeting
DESCRIPTION:
URL:https://www.troop55htx.com/event/t55-troop-meeting-3/
LOCATION:The Church of St. John the Divine\, 2450 River Oaks Blvd\, Houston\, TX 77019\, USA
CATEGORIES:Troop 55 (ALL)
END:VEVENT
BEGIN:VEVENT
DTSTART;TZID=America/Chicago:20220503T200000
DTEND;TZID=America/Chicago:20220503T200000
DTSTAMP:20260425T063630
CREATED:20220429T103323Z
LAST-MODIFIED:20220503T103327Z
UID:6909-1651608000-1651608000@www.troop55htx.com
SUMMARY:Submission deadline for the May COH!
DESCRIPTION:
URL:https://www.troop55htx.com/event/submission-deadline-for-the-may-coh/
CATEGORIES:Troop 55 (ALL)
END:VEVENT
BEGIN:VEVENT
DTSTART;TZID=America/Chicago:20220504T190000
DTEND;TZID=America/Chicago:20220504T200000
DTSTAMP:20260425T063630
CREATED:20220211T050425Z
LAST-MODIFIED:20220504T103320Z
UID:6365-1651690800-1651694400@www.troop55htx.com
SUMMARY:T55 Trailer Loadout: Stag Patrol
DESCRIPTION:
URL:https://www.troop55htx.com/event/t55-trailer-loadout-stag-patrol/
LOCATION:5936 S Loop E Fwy\, Houston\, TX 77033\, USA
CATEGORIES:Troop 55 (ALL)
END:VEVENT
BEGIN:VEVENT
DTSTART;TZID=America/Chicago:20220505T180000
DTEND;TZID=America/Chicago:20220505T190000
DTSTAMP:20260425T063630
CREATED:20220228T063508Z
LAST-MODIFIED:20220505T104921Z
UID:6463-1651773600-1651777200@www.troop55htx.com
SUMMARY:Troop 55 May Committee Meeting - Zoom
DESCRIPTION:
URL:https://www.troop55htx.com/event/troop-55-may-committee-meeting-zoom/
LOCATION:https://us02web.zoom.us/j/81078542546?pwd=bHBhWk1YSEl0V2hiVE5TaGpQUUlpQT09
CATEGORIES:Troop 55 (ALL)
END:VEVENT
BEGIN:VEVENT
DTSTART;TZID=America/Chicago:20220506T000000
DTEND;TZID=America/Chicago:20220508T235959
DTSTAMP:20260425T063631
CREATED:20211027T172046Z
LAST-MODIFIED:20220508T104857Z
UID:5537-1651795200-1652054399@www.troop55htx.com
SUMMARY:Troop 55 campout at Village Creek State Park
DESCRIPTION:
URL:https://www.troop55htx.com/event/troop-55-campout-at-galveston-island/
LOCATION:Village Creek State Park\, 8854 Park Rd 74\, Lumberton\, TX 77657\, USA
CATEGORIES:Troop 55 (ALL)
END:VEVENT
BEGIN:VEVENT
DTSTART;TZID=UTC:20220506T010000
DTEND;TZID=UTC:20220506T020000
DTSTAMP:20260425T063631
CREATED:20210830T143742Z
LAST-MODIFIED:20220505T120353Z
UID:3818-1651798800-1651802400@www.troop55htx.com
SUMMARY:Pack 55 May Committee Meeting
DESCRIPTION:Pack 55 Families\,\nDo you enjoy participating in the campouts? How about the Pinewood Derby? If the answer is yes\, then come and take one hour out of your month to meet with our adult leaders and parents to help plan for the upcoming pack events. All adults (parents and registered leaders) are encouraged to join us the first Thursday of every month for pack committee meetings. Your input is critical to our continued success as a pack. We look forward to seeing you there.\nRegister in advance for this meeting: \nAfter registering\, you will receive a confirmation email containing information about joining the meeting.\nEthan Perry\nPack 55 Committee Chair\n832-580-2756\nFor more information please visit: HTTPS://scoutbook.scouting.org/mobile/dashboard/calendar/event.asp?EventID=3520780
URL:https://www.troop55htx.com/event/pack-55-may-committee-meeting/
LOCATION:On Zoom: Register in Advance at https://us06web.zoom.us/meeting/register/tZAqfuugrT0iGNDcocU38qZwYZ99lOKwwsCw
CATEGORIES:Pack 55 (ALL)
END:VEVENT
BEGIN:VEVENT
DTSTART;TZID=UTC:20220506T230000
DTEND;TZID=UTC:20220507T140000
DTSTAMP:20260425T063631
CREATED:20220327T094802Z
LAST-MODIFIED:20220507T120342Z
UID:6589-1651878000-1651932000@www.troop55htx.com
SUMMARY:Lone Star Flight Museum Overnight Adventure
DESCRIPTION:Prepare for an Aviation Adventure!\nPack 55 is hosting an overnight adventure at the Lone Star Flight Museum for our scouts. Watch for more details and for cost/registration information. Spots will be limited to 80 scouts/parents and will be available on a first come\, first served basis. If the event is a huge success\, we can look at running another event on another date.\nQuestions? Reach out to Campmaster Mitchell Fuller\, campmaster@pack55.org.\nThe Lone Star Flight Museum\n11551 Aerospace Avenue\nHouston\, TX 77034\nFor more information please visit: HTTPS://scoutbook.scouting.org/mobile/dashboard/calendar/event.asp?EventID=4268181
URL:https://www.troop55htx.com/event/lone-star-flight-museum-overnight-adventure/
LOCATION:The Lone Star Flight Museum\, 11551 Aerospace Avenue\, Houston\, TX 77034
CATEGORIES:Pack 55 (ALL)
END:VEVENT
BEGIN:VEVENT
DTSTART;TZID=America/Chicago:20220508T120000
DTEND;TZID=America/Chicago:20220508T123000
DTSTAMP:20260425T063631
CREATED:20220211T050425Z
LAST-MODIFIED:20220508T104856Z
UID:6367-1652011200-1652013000@www.troop55htx.com
SUMMARY:T55 Trailer Loadout: Stag Patrol
DESCRIPTION:
URL:https://www.troop55htx.com/event/t55-trailer-loadout-stag-patrol-2/
LOCATION:5936 S Loop E Fwy\, Houston\, TX 77033
CATEGORIES:Troop 55 (ALL)
END:VEVENT
BEGIN:VEVENT
DTSTART;TZID=America/Chicago:20220510T140000
DTEND;TZID=America/Chicago:20220510T180000
DTSTAMP:20260425T063631
CREATED:20220429T103323Z
LAST-MODIFIED:20220510T110312Z
UID:6910-1652191200-1652205600@www.troop55htx.com
SUMMARY:T55/54 DROP OFF time for Used Uniform and Gear Sale @ Sumners Hall
DESCRIPTION:
URL:https://www.troop55htx.com/event/t55-54-drop-off-time-for-used-uniform-and-gear-sale-sumners-hall/
CATEGORIES:Troop 55 (ALL)
END:VEVENT
BEGIN:VEVENT
DTSTART;TZID=America/Chicago:20220510T183000
DTEND;TZID=America/Chicago:20220510T200000
DTSTAMP:20260425T063631
CREATED:20220429T103323Z
LAST-MODIFIED:20220510T110312Z
UID:6911-1652207400-1652212800@www.troop55htx.com
SUMMARY:T55/54 Used Uniform and Gear Sale @ Sumners Hall
DESCRIPTION:
URL:https://www.troop55htx.com/event/t55-54-used-uniform-and-gear-sale-sumners-hall/
CATEGORIES:Troop 55 (ALL)
END:VEVENT
BEGIN:VEVENT
DTSTART;TZID=America/Chicago:20220510T190000
DTEND;TZID=America/Chicago:20220510T200000
DTSTAMP:20260425T063631
CREATED:20211102T175207Z
LAST-MODIFIED:20220510T110312Z
UID:5571-1652209200-1652212800@www.troop55htx.com
SUMMARY:T55 Troop meeting
DESCRIPTION:
URL:https://www.troop55htx.com/event/t55-troop-meeting-4/
LOCATION:The Church of St. John the Divine\, 2450 River Oaks Blvd\, Houston\, TX 77019\, USA
CATEGORIES:Troop 55 (ALL)
END:VEVENT
BEGIN:VEVENT
DTSTART;TZID=America/Chicago:20220514T000000
DTEND;TZID=America/Chicago:20220514T235959
DTSTAMP:20260425T063631
CREATED:20220425T101853Z
LAST-MODIFIED:20220514T110305Z
UID:6845-1652486400-1652572799@www.troop55htx.com
SUMMARY:T55 Philmont practice hike
DESCRIPTION:
URL:https://www.troop55htx.com/event/t55-philmont-practice-hike-2/
CATEGORIES:Troop 55 (ALL)
END:VEVENT
BEGIN:VEVENT
DTSTART;TZID=UTC:20220514T150000
DTEND;TZID=UTC:20220514T163000
DTSTAMP:20260425T063631
CREATED:20220504T120351Z
LAST-MODIFIED:20220514T124801Z
UID:6948-1652540400-1652545800@www.troop55htx.com
SUMMARY:May 14 @ RICE BASEBALL and Rockets - Twin Bayou District's Scout Day at Rice University; All Scouts are Welcome! Launch a Rocket 10-11:30 AM\, and stay for the Ballgame at 2 PM
DESCRIPTION:Pack 55 Families\,\nThe information below is being sent on behalf of our Twin Bayou District. This is not a Pack 55 sponsored event\, but we do encourage your participation\, if you are interested. It looks like a lot of fun! Email  with questions or to sign up! Come enjoy some rocketry and some good baseball all in one place. Participating scouts should be in their Field (Class A) blue or khaki uniform in order to participate in the on-field activities ahead of the ballgame.\nEthan Perry\nPack 55 Committee Chair\n832-580-2756\nMay 14 – RICE BASEBALL and Rockets\nRice has invited all Twin Bayou Scouts who are attending the Scout Day at Rice Baseball to attend our rocket launch at Rice.\nBuy Game Tickets Here:\nAll Scouts who have a ticket to the Rice game ($10) may participate in the launch.\nParking for the day is $10 cash in West Lot 4.\nLaunch Times: 10:00 am to 12:30 am (arrive before 11:30am to launch a rocket)\nLaunch Location: Intramural Field 6\, adjacent to Reckling Park.\n-Registered Scouts must supply their own rockets and engines.\n-We will have launch pads and controllers on site. The pads and controllers are built to fly Estes rockets.\n-Rockets must fly at lower altitudes. A engine and short thrust B (B-4) engine launches only. We need to recover the rocket in the field where we launch.\n-Rockets should not exceed 22 inches in length (the size of an Estes Flying Colors rocket).\n-Cub Scouts who registered since January 2022 can bring your “Rocket into Scouting” rocket and we will supply an engine while supplies last.\nNot an experienced rocketeer?\nBeginner rocket recommendations are:\n-EASY TO BUILD Estes Athena with an Estes A engine. Link here\n-Estes Alpha III with an Estes A engine. Link here\nYou can buy most supplies at the Houston Scout Shop\, local hobby stores – like G&G Model Shop and Hobby Lobby\, and Amazon.\n-We will have computer with Internet connection for SCOUTING SIGN UPS!\n-Cub Scouts – Invite your friends. If they sign up to join your Cub Scout Pack at our event\, Sam Houston Area Council will provide them a rocket and engine to fly.\n-Our New Scout rockets are limited while our supplies last.\n  We need at least 4 more volunteers for launch safety. Volunteers are asked to arrive by 9:30 a.m. for set-up\nVolunteers and participants RSVP to scouterkyleverret@gmail.com  \nGame Start at 2 pm\n-Buy Tickets Here:\n-Game tickets are available from $10 (and $19 with a food ticket) – see attached flier for link to purchase tickets – PURCHASE NOW TO GUARANTEE PARTICIPATION!\n-On-Campus Parking is $10 CASH – but since this event is in our backyards\, there are other great ways to get to campus!\n-Uniforms are required to participate in the on-field events.\n-Scouts will receive entry onto the Field for pre-game festivities.\nFinances should never be a barrier to Scouting. If you have families that would participate\, but are precluded by finances\, please reach out to .\nFor more information please visit: HTTPS://scoutbook.scouting.org/mobile/dashboard/calendar/event.asp?EventID=4393736
URL:https://www.troop55htx.com/event/may-14-rice-baseball-and-rockets-twin-bayou-districts-scout-day-at-rice-university-all-scouts-are-welcome-launch-a-rocket-10-1130-am-and-stay-for-the-ballgame-at-2-pm/
LOCATION:Intramural Field Next to Reckling Baseball Stadium @ Rice University
CATEGORIES:Pack 55 (ALL)
END:VEVENT
BEGIN:VEVENT
DTSTART;TZID=America/Chicago:20220515T150000
DTEND;TZID=America/Chicago:20220515T170000
DTSTAMP:20260425T063631
CREATED:20220428T103353Z
LAST-MODIFIED:20220515T110300Z
UID:6897-1652626800-1652634000@www.troop55htx.com
SUMMARY:Introduction to Leadership Skills for Troops (ILST) course - required for NYLT participants @ SJD
DESCRIPTION:
URL:https://www.troop55htx.com/event/introduction-to-leadership-skills-for-troops-ilst-course-required-for-nylt-participants-sjd/
CATEGORIES:Troop 55 (ALL)
END:VEVENT
BEGIN:VEVENT
DTSTART;TZID=America/Chicago:20220517T190000
DTEND;TZID=America/Chicago:20220517T200000
DTSTAMP:20260425T063631
CREATED:20211103T180532Z
LAST-MODIFIED:20220105T011847Z
UID:5575-1652814000-1652817600@www.troop55htx.com
SUMMARY:T55 Troop meeting
DESCRIPTION:
URL:https://www.troop55htx.com/event/t55-troop-meeting-5/
LOCATION:The Church of St. John the Divine\, 2450 River Oaks Blvd\, Houston\, TX 77019\, USA
CATEGORIES:Troop 55 (ALL)
END:VEVENT
BEGIN:VEVENT
DTSTART;TZID=America/Chicago:20220517T190000
DTEND;TZID=America/Chicago:20220517T200000
DTSTAMP:20260425T063631
CREATED:20220106T012220Z
LAST-MODIFIED:20220517T110511Z
UID:5952-1652814000-1652817600@www.troop55htx.com
SUMMARY:Troop 55 Court of Honor
DESCRIPTION:
URL:https://www.troop55htx.com/event/troop-55-court-of-honor-5/
LOCATION:The Church of St. John the Divine\, 2450 River Oaks Blvd\, Houston\, TX 77019\, USA
CATEGORIES:Troop 55 (ALL)
END:VEVENT
BEGIN:VEVENT
DTSTART;TZID=UTC:20220519T233000
DTEND;TZID=UTC:20220520T010000
DTSTAMP:20260425T063631
CREATED:20220408T103253Z
LAST-MODIFIED:20220519T131800Z
UID:6695-1653003000-1653008400@www.troop55htx.com
SUMMARY:End of Year Ice Cream Social and Pack Meeting
DESCRIPTION:Join us for the final pack meeting before the summer. Ice cream\, rank advancements and fun for all. Mark your calendars.\nFor more information please visit: HTTPS://scoutbook.scouting.org/mobile/dashboard/calendar/event.asp?EventID=4355853
URL:https://www.troop55htx.com/event/end-of-year-ice-cream-social-and-pack-meeting/
LOCATION:North Lawn\, St John the Divine
CATEGORIES:Pack 55 (ALL)
END:VEVENT
BEGIN:VEVENT
DTSTART;TZID=America/Chicago:20220521T000000
DTEND;TZID=America/Chicago:20220521T235959
DTSTAMP:20260425T063631
CREATED:20220425T101854Z
LAST-MODIFIED:20220521T113305Z
UID:6846-1653091200-1653177599@www.troop55htx.com
SUMMARY:T55 Philmont practice hike
DESCRIPTION:
URL:https://www.troop55htx.com/event/t55-philmont-practice-hike-3/
CATEGORIES:Troop 55 (ALL)
END:VEVENT
BEGIN:VEVENT
DTSTART;TZID=America/Chicago:20220521T000000
DTEND;TZID=America/Chicago:20220522T235959
DTSTAMP:20260425T063631
CREATED:20220428T103353Z
LAST-MODIFIED:20220522T113309Z
UID:6898-1653091200-1653263999@www.troop55htx.com
SUMMARY:Introduction to Outdoor Leaders Skills - required for PASMs (link to register)
DESCRIPTION:Register: https://samhoustonbsa.doubleknot.com/event/twin-bayou-training-iols-spring-2022/2909384
URL:https://www.troop55htx.com/event/introduction-to-outdoor-leaders-skills-required-for-pasms-link-to-register/
CATEGORIES:Troop 55 (ALL)
END:VEVENT
BEGIN:VEVENT
DTSTART;TZID=UTC:20220522T010000
DTEND;TZID=UTC:20220522T013000
DTSTAMP:20260425T063631
CREATED:20220504T120351Z
LAST-MODIFIED:20220521T132055Z
UID:6950-1653181200-1653183000@www.troop55htx.com
SUMMARY:May 21 Deadline to Register for Twin Bayou District's Twilight Camp! Come do Archery\, BB guns\, Games\, Crafts and Much More with your Fellow Cub Scouts!
DESCRIPTION:All Pack 55 Families\,\nThe annual Cub Scout Twilight Camp at St. Luke’s is happening next month! It is time to??REGISTER NOW! ??\nPack 55 is part of the Twin Bayou District (which includes packs and troops in our local area)\, which in turn is part of the larger Sam Houston Area Council (SHAC) that serves the greater Houston area. Twilight Camp is our District’s annual summer event aimed at promoting Cub Scouting FUN! We invite you to sign up your scout for this great event. Scouts will work on their next rank (after June 1)\, so be sure to sign up for the grade your scout will be going into after the summer so they get the right activities. Details can be found at:\nEach family will register online separately. If you have camp specific or registration related questions\, please email . This is not a Pack 55 run event\, but since we are one of the largest packs in the area\, we do like to have a strong showing. We need scouts and adult volunteers to help make this awesome week a success! See the information below and reach out with any questions – there are many Pack 55 families who have attended in the past (and will again this year)\, so reach out to pcc@pack55.org with any general questions about the camp. It is a lot of fun! The deadline to register your scout and your self (as a volunteer) is\nWe need campers and volunteers to register NOW!\nWhat?!? ?Twilight Camp?\, is our district Cub Scout day camp program.\nWe will be going Texas WILD!\nThis year our themes of the day are:\nMonday –  ??Don’t Mess with T-Rexes ! ??\nTuesday – ?? WILDest Texas ??\nWednesday – ? The People of Texas?\nThursday –  ? Energizing Texas??\nFriday – ????? Space Cowboys ??\nWhen? Camp dates are Monday through Friday\, June 6 – 10\, from 6 pm to 9 pm.\nRegistration is open now!\nRegister here to attend camp and volunteer:\nPlease ??REGISTER NOW! ?? . Your Scouting family does not want to miss out on this event!\nCampers from Tigers (going into 1st grade) to Webelos II (Arrow of Light) (going into 5th grade) Scouts may register as participants.\nWe need adult and youth (Scouts BSA) volunteers to register as well!\nWe need Scouts BSA of all ages\, and ESPECIALLY! our older Scouts BSA\, Venturers and Sea Scouts!\nDon’t miss out on this great event! Our family looks forward to seeing you there! Invite your friends\, neighbors and classmates to join Pack 55 so they can attend this fun summer camp as well! All registered Cub Scouts are welcome to attend.\nEthan Perry\nPack 55 Committee Chair\n832-580-2756\nFor more information please visit: HTTPS://scoutbook.scouting.org/mobile/dashboard/calendar/event.asp?EventID=4393694
URL:https://www.troop55htx.com/event/may-22-deadline-to-register-for-twin-bayou-districts-twilight-camp-come-do-archery-bb-guns-games-crafts-and-much-more-with-your-fellow-cub-scouts/
LOCATION:Online Registration is Open NOW; Twilight Camp is held at St Luke’s
CATEGORIES:Pack 55 (ALL)
END:VEVENT
BEGIN:VEVENT
DTSTART;TZID=UTC:20220601T233000
DTEND;TZID=UTC:20220602T010000
DTSTAMP:20260425T063631
CREATED:20220408T103253Z
LAST-MODIFIED:20220601T142654Z
UID:6696-1654126200-1654131600@www.troop55htx.com
SUMMARY:Rank Advancement Deadline is June 1!
DESCRIPTION:June 1\, 2022: Deadline for all Current Rank Advancement: All scouts will move up one rank effective June 1. Please make sure you have gone into Scoutbook and marked all the required adventures and electives as Completed (all adults can do this for your scout). Then\, reach out to your den leader and ask them to mark the scouts as Approved so they can receive their awards.\nFor more information please visit: HTTPS://scoutbook.scouting.org/mobile/dashboard/calendar/event.asp?EventID=4355862
URL:https://www.troop55htx.com/event/rank-advancement-deadline-is-june-1/
CATEGORIES:Pack 55 (ALL)
END:VEVENT
BEGIN:VEVENT
DTSTART;TZID=America/Chicago:20220605T000000
DTEND;TZID=America/Chicago:20220610T235959
DTSTAMP:20260425T063631
CREATED:20220127T033439Z
LAST-MODIFIED:20220610T125339Z
UID:6149-1654387200-1654905599@www.troop55htx.com
SUMMARY:T55 NYLT Session 1 (June 5-10)
DESCRIPTION:
URL:https://www.troop55htx.com/event/t55-nylt-session-1/
CATEGORIES:Troop 55 (ALL)
END:VEVENT
BEGIN:VEVENT
DTSTART;TZID=UTC:20220606T233000
DTEND;TZID=UTC:20220607T010000
DTSTAMP:20260425T063631
CREATED:20220408T103253Z
LAST-MODIFIED:20220606T144754Z
UID:6698-1654558200-1654563600@www.troop55htx.com
SUMMARY:Twin Bayou District Twilight Camp 2022
DESCRIPTION:June 6-10\, 2022: Twin Bayou District Twilight Camp Registration is now OPEN! This fun summer camp for scouts of all ranks takes place right next door at St Luke’s between West Alabama and Westheimer. Do you want to shoot BB guns\, learn archery skills\, do some leatherworking\, play games\, swim and do so much more? Then Twilight Camp is for you! Registration is open now. Each pack must have a minimum of one adult registered (5th grade and under) for every three youth registered. Contact pcc@pack55.org for more information. Register your scout at ; slots will fill up quickly; register today!\nFor more information please visit: HTTPS://scoutbook.scouting.org/mobile/dashboard/calendar/event.asp?EventID=4355866
URL:https://www.troop55htx.com/event/twin-bayou-district-twilight-camp-2022/
LOCATION:St Luke’s
CATEGORIES:Pack 55 (ALL)
END:VEVENT
BEGIN:VEVENT
DTSTART;TZID=America/Chicago:20220611T000000
DTEND;TZID=America/Chicago:20220617T235959
DTSTAMP:20260425T063631
CREATED:20220127T033439Z
LAST-MODIFIED:20220617T133559Z
UID:6148-1654905600-1655510399@www.troop55htx.com
SUMMARY:T55 NYLT Session 2 (June 12-17)
DESCRIPTION:
URL:https://www.troop55htx.com/event/t55-nylt-session-2/
CATEGORIES:Troop 55 (ALL)
END:VEVENT
END:VCALENDAR