BEGIN:VCALENDAR
VERSION:2.0
PRODID:-//Troop 55 St. John the Divine - ECPv6.15.20//NONSGML v1.0//EN
CALSCALE:GREGORIAN
METHOD:PUBLISH
X-WR-CALNAME:Troop 55 St. John the Divine
X-ORIGINAL-URL:https://www.troop55htx.com
X-WR-CALDESC:Events for Troop 55 St. John the Divine
REFRESH-INTERVAL;VALUE=DURATION:PT1H
X-Robots-Tag:noindex
X-PUBLISHED-TTL:PT1H
BEGIN:VTIMEZONE
TZID:America/Chicago
BEGIN:DAYLIGHT
TZOFFSETFROM:-0600
TZOFFSETTO:-0500
TZNAME:CDT
DTSTART:20200308T080000
END:DAYLIGHT
BEGIN:STANDARD
TZOFFSETFROM:-0500
TZOFFSETTO:-0600
TZNAME:CST
DTSTART:20201101T070000
END:STANDARD
BEGIN:DAYLIGHT
TZOFFSETFROM:-0600
TZOFFSETTO:-0500
TZNAME:CDT
DTSTART:20210314T080000
END:DAYLIGHT
BEGIN:STANDARD
TZOFFSETFROM:-0500
TZOFFSETTO:-0600
TZNAME:CST
DTSTART:20211107T070000
END:STANDARD
BEGIN:DAYLIGHT
TZOFFSETFROM:-0600
TZOFFSETTO:-0500
TZNAME:CDT
DTSTART:20220313T080000
END:DAYLIGHT
BEGIN:STANDARD
TZOFFSETFROM:-0500
TZOFFSETTO:-0600
TZNAME:CST
DTSTART:20221106T070000
END:STANDARD
END:VTIMEZONE
BEGIN:VTIMEZONE
TZID:UTC
BEGIN:STANDARD
TZOFFSETFROM:+0000
TZOFFSETTO:+0000
TZNAME:UTC
DTSTART:20200101T000000
END:STANDARD
END:VTIMEZONE
BEGIN:VEVENT
DTSTART;TZID=America/Chicago:20210914T190000
DTEND;TZID=America/Chicago:20210914T200000
DTSTAMP:20260425T095649
CREATED:20210830T143440Z
LAST-MODIFIED:20210914T173320Z
UID:3701-1631646000-1631649600@www.troop55htx.com
SUMMARY:CANCELLED - Troop 55 meeting
DESCRIPTION:
URL:https://www.troop55htx.com/event/troop-55-meeting-15/
LOCATION:The Church of St. John the Divine\, 2450 River Oaks Blvd\, Houston\, TX 77019\, USA
CATEGORIES:Troop 55 (ALL)
END:VEVENT
BEGIN:VEVENT
DTSTART;TZID=America/Chicago:20210914T000000
DTEND;TZID=America/Chicago:20210914T235959
DTSTAMP:20260425T095649
CREATED:20210830T160514Z
LAST-MODIFIED:20210914T173320Z
UID:3898-1631577600-1631663999@www.troop55htx.com
SUMMARY:Advancement Deadline for Next COH
DESCRIPTION:
URL:https://www.troop55htx.com/event/advancement-deadline-for-next-coh/
CATEGORIES:Troop 55 (ALL)
END:VEVENT
BEGIN:VEVENT
DTSTART;TZID=America/Chicago:20210912T000000
DTEND;TZID=America/Chicago:20210912T235959
DTSTAMP:20260425T095649
CREATED:20210830T143440Z
LAST-MODIFIED:20210912T173405Z
UID:3700-1631404800-1631491199@www.troop55htx.com
SUMMARY:Troop 55 Trailer Load-out: Cobra Patrol
DESCRIPTION:
URL:https://www.troop55htx.com/event/troop-55-trailer-load-out-cobra-patrol/
LOCATION:5936 S Loop E Fwy\, Houston\, TX 77033\, USA
CATEGORIES:Troop 55 (ALL)
END:VEVENT
BEGIN:VEVENT
DTSTART;TZID=America/Chicago:20210910T000000
DTEND;TZID=America/Chicago:20210912T235959
DTSTAMP:20260425T095649
CREATED:20210830T143440Z
LAST-MODIFIED:20210912T173405Z
UID:3698-1631232000-1631491199@www.troop55htx.com
SUMMARY:Troop 55 Campout at Double Lake
DESCRIPTION:
URL:https://www.troop55htx.com/event/troop-55-campout-at-double-lake/
LOCATION:Double Lake Campground\, Coldspring\, TX 77331\, USA
CATEGORIES:Troop 55 (ALL)
END:VEVENT
BEGIN:VEVENT
DTSTART;TZID=America/Chicago:20210908T190000
DTEND;TZID=America/Chicago:20210908T193000
DTSTAMP:20260425T095649
CREATED:20210830T143440Z
LAST-MODIFIED:20210908T165431Z
UID:3696-1631127600-1631129400@www.troop55htx.com
SUMMARY:Troop 55 Trailer Load-up: Bison Patrol
DESCRIPTION:
URL:https://www.troop55htx.com/event/troop-55-trailer-load-up-bison-patrol/
LOCATION:5936 S Loop E Fwy\, Houston\, TX 77033\, USA
CATEGORIES:Troop 55 (ALL)
END:VEVENT
BEGIN:VEVENT
DTSTART;TZID=America/Chicago:20210907T190000
DTEND;TZID=America/Chicago:20210907T200000
DTSTAMP:20260425T095649
CREATED:20210830T143440Z
LAST-MODIFIED:20210907T164215Z
UID:3694-1631041200-1631044800@www.troop55htx.com
SUMMARY:Troop 55 meeting
DESCRIPTION:
URL:https://www.troop55htx.com/event/troop-55-meeting-14/
LOCATION:The Church of St. John the Divine\, 2450 River Oaks Blvd\, Houston\, TX 77019\, USA
CATEGORIES:Troop 55 (ALL)
END:VEVENT
BEGIN:VEVENT
DTSTART;TZID=America/Chicago:20210907T181500
DTEND;TZID=America/Chicago:20210907T190000
DTSTAMP:20260425T095649
CREATED:20210830T152325Z
LAST-MODIFIED:20210830T161127Z
UID:3830-1631038500-1631041200@www.troop55htx.com
SUMMARY:FCT Session
DESCRIPTION:
URL:https://www.troop55htx.com/event/fct-session-5/
CATEGORIES:First Class Trail,Troop 55 (ALL)
END:VEVENT
BEGIN:VEVENT
DTSTART;TZID=UTC:20210902T233000
DTEND;TZID=UTC:20210903T003000
DTSTAMP:20260425T095649
CREATED:20210830T143738Z
LAST-MODIFIED:20210902T143510Z
UID:3759-1630625400-1630629000@www.troop55htx.com
SUMMARY:Pack 55 September Committee Meeting
DESCRIPTION:All Den Leaders and interested parents are encouraged to join us the first Thursday of every month for pack committee meetings. At least one representative from each den should attend. We look forward to seeing you there.\nRegister in advance for this meeting: \nAfter registering\, you will receive a confirmation email containing information about joining the meeting.\nEthan Perry\nPack 55 Committee Chair\n832-580-2756\nFor more information please visit: HTTPS://scoutbook.scouting.org/mobile/dashboard/calendar/event.asp?EventID=3520749
URL:https://www.troop55htx.com/event/pack-55-september-committee-meeting/
LOCATION:Virtual Only  – https://us06web.zoom.us/meeting/register/tZYpc–hrz0sHdNAIZ0_gt2gA2TkD2k1ukeh
CATEGORIES:Pack 55 (ALL)
END:VEVENT
BEGIN:VEVENT
DTSTART;TZID=America/Chicago:20210902T180000
DTEND;TZID=America/Chicago:20210902T190000
DTSTAMP:20260425T095649
CREATED:20210831T160615Z
LAST-MODIFIED:20210902T161115Z
UID:3969-1630605600-1630609200@www.troop55htx.com
SUMMARY:T55 Troop Committee Meeting
DESCRIPTION:
URL:https://www.troop55htx.com/event/t55-troop-committee-meeting/
CATEGORIES:Troop 55 (ALL)
END:VEVENT
BEGIN:VEVENT
DTSTART;TZID=America/Chicago:20210901T190000
DTEND;TZID=America/Chicago:20210901T200000
DTSTAMP:20260425T095649
CREATED:20210830T143440Z
LAST-MODIFIED:20210901T160553Z
UID:3692-1630522800-1630526400@www.troop55htx.com
SUMMARY:Troop 55 Eagle-only Court of Honor
DESCRIPTION:
URL:https://www.troop55htx.com/event/troop-55-eagle-only-court-of-honor/
LOCATION:The Church of St. John the Divine\, 2450 River Oaks Blvd\, Houston\, TX 77019\, USA
CATEGORIES:Troop 55 (ALL)
END:VEVENT
BEGIN:VEVENT
DTSTART;TZID=America/Chicago:20210831T190000
DTEND;TZID=America/Chicago:20210831T200000
DTSTAMP:20260425T095649
CREATED:20210830T143439Z
LAST-MODIFIED:20210831T160619Z
UID:3690-1630436400-1630440000@www.troop55htx.com
SUMMARY:Troop 55 Meeting
DESCRIPTION:Map of St John’s School Campus \nMapof St Luke’s Methodist Church Campus \n  \nPARKINGINSTRUCTIONS \n\nParking     Garage is on St Johns School Campus and is shared by SJS and St Luke’s\nUse     entrance 14 to access the parking garage on SJS side (Buffalo Speedway)\nUse     St Luke’s entrance off W Alabama or Westheimer to access the parking     garage from St Luke’s\nPark     only on the 1st Floor     (north side of the garage) or St Luke’s surface parking lot\nNote:     Ziad Soccer Academy (U10 – U12) will be practicing on Randall Field from     6-8pm with drop offs and pickups conducted at 6pm and 8pm. If you park on     the south side (near Randall Field) it will cause more chaotic traffic     during those times and place young kids at greater risk. Therefore\, try     to park on the north side of the garage.\n\n 
URL:https://www.troop55htx.com/event/troop-55-meeting-in-sjd-scout-room-in-basement/
LOCATION:St. John’s School/St. Luke’s Parking Garage
CATEGORIES:Troop 55 (ALL)
END:VEVENT
BEGIN:VEVENT
DTSTART;TZID=America/Chicago:20210831T181500
DTEND;TZID=America/Chicago:20210831T190000
DTSTAMP:20260425T095650
CREATED:20210830T152325Z
LAST-MODIFIED:20210830T161121Z
UID:3826-1630433700-1630436400@www.troop55htx.com
SUMMARY:FCT Session
DESCRIPTION:
URL:https://www.troop55htx.com/event/fct-session-4/
CATEGORIES:First Class Trail,Troop 55 (ALL)
END:VEVENT
BEGIN:VEVENT
DTSTART;TZID=America/Chicago:20210820T173000
DTEND;TZID=America/Chicago:20210820T210000
DTSTAMP:20260425T095650
CREATED:20210727T194301Z
LAST-MODIFIED:20210820T220425Z
UID:3412-1629480600-1629493200@www.troop55htx.com
SUMMARY:Troop 54/55 Adult Kick-Off Dinner
DESCRIPTION:Attention Scout Parents and Adult Volunteers! Please make plans to attend the upcoming joint Troop 55 and Troop 54 Adult Kickoff for the 2021-22 school year. We invite and need all T55 and T54 adults to participate\, whether you are a new parent to the Troop or an experienced volunteer. Check newsletter for RSVP link. \nPART 1 – FRIDAY 5:30 P.M. TO 9:00 P.M.\nAttendees will have the opportunity to socialize with other Scout Parents and Adult Leaders. Summer Camp leaders from both Troops will present reflections\, recommendations\, and any lessons learned from the Summer Camps our Scouts attended this past summer.\nDoors open at 5:30 p.m. and dinner will be served at 6:30 p.m. Dinner is a BBQ buffet/bar and the cost is $25 per person (cash or check only) at the door. This does not cover the full cost\, and the $25 is a suggested donation.\nFor more information please visit: HTTPS://scoutbook.scouting.org/mobile/dashboard/calendar/event.asp?EventID=3783490
URL:https://www.troop55htx.com/event/troop-54-55-adult-kick-off-dinner/
LOCATION:River Oaks Garden Club Forum – 2503 Westheimer Rd
CATEGORIES:Troop 55 (ALL)
ORGANIZER;CN="Thomas Thompson":MAILTO:tct@troop55htx.com
END:VEVENT
END:VCALENDAR