BEGIN:VCALENDAR
VERSION:2.0
PRODID:-//Troop 55 St. John the Divine - ECPv6.15.20//NONSGML v1.0//EN
CALSCALE:GREGORIAN
METHOD:PUBLISH
X-ORIGINAL-URL:https://www.troop55htx.com
X-WR-CALDESC:Events for Troop 55 St. John the Divine
REFRESH-INTERVAL;VALUE=DURATION:PT1H
X-Robots-Tag:noindex
X-PUBLISHED-TTL:PT1H
BEGIN:VTIMEZONE
TZID:America/Chicago
BEGIN:DAYLIGHT
TZOFFSETFROM:-0600
TZOFFSETTO:-0500
TZNAME:CDT
DTSTART:20210314T080000
END:DAYLIGHT
BEGIN:STANDARD
TZOFFSETFROM:-0500
TZOFFSETTO:-0600
TZNAME:CST
DTSTART:20211107T070000
END:STANDARD
BEGIN:DAYLIGHT
TZOFFSETFROM:-0600
TZOFFSETTO:-0500
TZNAME:CDT
DTSTART:20220313T080000
END:DAYLIGHT
BEGIN:STANDARD
TZOFFSETFROM:-0500
TZOFFSETTO:-0600
TZNAME:CST
DTSTART:20221106T070000
END:STANDARD
BEGIN:DAYLIGHT
TZOFFSETFROM:-0600
TZOFFSETTO:-0500
TZNAME:CDT
DTSTART:20230312T080000
END:DAYLIGHT
BEGIN:STANDARD
TZOFFSETFROM:-0500
TZOFFSETTO:-0600
TZNAME:CST
DTSTART:20231105T070000
END:STANDARD
END:VTIMEZONE
BEGIN:VTIMEZONE
TZID:UTC
BEGIN:STANDARD
TZOFFSETFROM:+0000
TZOFFSETTO:+0000
TZNAME:UTC
DTSTART:20210101T000000
END:STANDARD
END:VTIMEZONE
BEGIN:VEVENT
DTSTART;TZID=America/Chicago:20220625T000000
DTEND;TZID=America/Chicago:20220703T235959
DTSTAMP:20260424T100050
CREATED:20220127T033439Z
LAST-MODIFIED:20220703T143817Z
UID:6150-1656115200-1656892799@www.troop55htx.com
SUMMARY:T55 Camp Yawgoog (June 25-July 3)
DESCRIPTION:
URL:https://www.troop55htx.com/event/t55-camp-yawgoog/
LOCATION:TX
CATEGORIES:Troop 55 (ALL)
END:VEVENT
BEGIN:VEVENT
DTSTART;TZID=America/Chicago:20220704T000000
DTEND;TZID=America/Chicago:20220717T235959
DTSTAMP:20260424T100050
CREATED:20220202T035021Z
LAST-MODIFIED:20220717T161903Z
UID:6223-1656892800-1658102399@www.troop55htx.com
SUMMARY:T55 Chimayo\, New Mexico trip (July 4-17)
DESCRIPTION:
URL:https://www.troop55htx.com/event/t55-chimayo-new-mexico-trip-july-4-17/
LOCATION:TX
CATEGORIES:Troop 55 (ALL)
END:VEVENT
BEGIN:VEVENT
DTSTART;TZID=UTC:20220724T003000
DTEND;TZID=UTC:20220724T023000
DTSTAMP:20260424T100050
CREATED:20220327T094803Z
LAST-MODIFIED:20220723T191838Z
UID:6591-1658622600-1658629800@www.troop55htx.com
SUMMARY:Pack 55 Summertime Activity #2 - Swimming Party at Colonial Pool
DESCRIPTION:Join Pack 55 for a Summertime Pool Party at Colonial Pool Park in West University Place. Lifeguards will be present for water safety. All scouts and families are invited. We will have some food and drinks\, but feel free to bring your own as well. Remember that we are guests of the pool: please no horseplay\, running or littering in the pool area.\nRSVP to help with headcount estimates.\nThis is a recruiting event! Do you have a friend or neighbor who you think would enjoy being part of Cub Scouts at Pack 55? Bring them along and show them how much fun scouting can be.\nQuestions? Reach out to Cubmaster Tony Beebe\, cubmaster@pack55.org.\nFor more information please visit: HTTPS://scoutbook.scouting.org/mobile/dashboard/calendar/event.asp?EventID=4338724
URL:https://www.troop55htx.com/event/pack-55-summertime-activity-2-swimming-party-at-colonial-pool/
LOCATION:Colonial Pool Park\, West University
CATEGORIES:Pack 55 (ALL)
END:VEVENT
BEGIN:VEVENT
DTSTART;TZID=America/Chicago:20220730T000000
DTEND;TZID=America/Chicago:20220806T235959
DTSTAMP:20260424T100050
CREATED:20220127T033439Z
LAST-MODIFIED:20220806T183403Z
UID:6152-1659139200-1659830399@www.troop55htx.com
SUMMARY:T55 Camp Emerald Bay\, Catalina Island (July 30-Aug 6)
DESCRIPTION:
URL:https://www.troop55htx.com/event/t55-camp-emerald-bay-catalina-island/
LOCATION:TX
CATEGORIES:Troop 55 (ALL)
END:VEVENT
END:VCALENDAR