BEGIN:VCALENDAR
VERSION:2.0
PRODID:-//Troop 55 St. John the Divine - ECPv6.15.20//NONSGML v1.0//EN
CALSCALE:GREGORIAN
METHOD:PUBLISH
X-WR-CALNAME:Troop 55 St. John the Divine
X-ORIGINAL-URL:https://www.troop55htx.com
X-WR-CALDESC:Events for Troop 55 St. John the Divine
REFRESH-INTERVAL;VALUE=DURATION:PT1H
X-Robots-Tag:noindex
X-PUBLISHED-TTL:PT1H
BEGIN:VTIMEZONE
TZID:America/Chicago
BEGIN:DAYLIGHT
TZOFFSETFROM:-0600
TZOFFSETTO:-0500
TZNAME:CDT
DTSTART:20220313T080000
END:DAYLIGHT
BEGIN:STANDARD
TZOFFSETFROM:-0500
TZOFFSETTO:-0600
TZNAME:CST
DTSTART:20221106T070000
END:STANDARD
BEGIN:DAYLIGHT
TZOFFSETFROM:-0600
TZOFFSETTO:-0500
TZNAME:CDT
DTSTART:20230312T080000
END:DAYLIGHT
BEGIN:STANDARD
TZOFFSETFROM:-0500
TZOFFSETTO:-0600
TZNAME:CST
DTSTART:20231105T070000
END:STANDARD
BEGIN:DAYLIGHT
TZOFFSETFROM:-0600
TZOFFSETTO:-0500
TZNAME:CDT
DTSTART:20240310T080000
END:DAYLIGHT
BEGIN:STANDARD
TZOFFSETFROM:-0500
TZOFFSETTO:-0600
TZNAME:CST
DTSTART:20241103T070000
END:STANDARD
END:VTIMEZONE
BEGIN:VTIMEZONE
TZID:UTC
BEGIN:STANDARD
TZOFFSETFROM:+0000
TZOFFSETTO:+0000
TZNAME:UTC
DTSTART:20220101T000000
END:STANDARD
END:VTIMEZONE
BEGIN:VEVENT
DTSTART;TZID=America/Chicago:20230603T160000
DTEND;TZID=America/Chicago:20230603T190000
DTSTAMP:20260423T141343
CREATED:20230523T074720Z
LAST-MODIFIED:20230603T091416Z
UID:9736-1685808000-1685818800@www.troop55htx.com
SUMMARY:T55 PLC meeting - annual planning
DESCRIPTION:
URL:https://www.troop55htx.com/event/t55-plc-meeting-annual-planning/
LOCATION:3013 Drexel Dr\, Houston\, TX 77027\, USA
CATEGORIES:Troop 55 (ALL)
END:VEVENT
BEGIN:VEVENT
DTSTART;TZID=America/Chicago:20230604T000000
DTEND;TZID=America/Chicago:20230609T235959
DTSTAMP:20260423T141343
CREATED:20230110T004433Z
LAST-MODIFIED:20230609T094420Z
UID:8771-1685836800-1686355199@www.troop55htx.com
SUMMARY:NYLT Session 1
DESCRIPTION:
URL:https://www.troop55htx.com/event/nylt-session-1/
LOCATION:TX
CATEGORIES:Troop 55 (ALL)
END:VEVENT
BEGIN:VEVENT
DTSTART;TZID=UTC:20230605T230000
DTEND;TZID=UTC:20230610T020000
DTSTAMP:20260423T141343
CREATED:20220827T230643Z
LAST-MODIFIED:20230609T072947Z
UID:7730-1686006000-1686362400@www.troop55htx.com
SUMMARY:Twin Bayou District - Twilight Camp 2023
DESCRIPTION:June 5-9\, 2023: Twin Bayou District Twilight Camp Registration is now OPEN!\nThis fun summer camp for scouts of all ranks takes place right next door at St Luke’s between West Alabama and Westheimer.  Do you want to shoot BB guns\, learn archery skills\, do some leatherworking\, play games\, swim and do so much more? Then Twilight Camp is for you!\nFor more details refer to the link:\nFor more information please visit: HTTPS://scoutbook.scouting.org/mobile/dashboard/calendar/event.asp?EventID=4593794
URL:https://www.troop55htx.com/event/twin-bayou-district-twilight-camp/
LOCATION:St. Luke’s United Methodist Church
CATEGORIES:Pack 55 (ALL)
END:VEVENT
BEGIN:VEVENT
DTSTART;TZID=America/Chicago:20230610T000000
DTEND;TZID=America/Chicago:20230623T235959
DTSTAMP:20260423T141343
CREATED:20230317T025910Z
LAST-MODIFIED:20230623T095957Z
UID:9227-1686355200-1687564799@www.troop55htx.com
SUMMARY:T55 Bob Marshall Wilderness\, Montana (June 10-23)
DESCRIPTION:
URL:https://www.troop55htx.com/event/t55-bob-marshall-wilderness-montana-june-10-25/
LOCATION:TX
CATEGORIES:Troop 55 (ALL)
END:VEVENT
BEGIN:VEVENT
DTSTART;TZID=America/Chicago:20230611T000000
DTEND;TZID=America/Chicago:20230616T235959
DTSTAMP:20260423T141343
CREATED:20230110T004433Z
LAST-MODIFIED:20230616T094409Z
UID:8772-1686441600-1686959999@www.troop55htx.com
SUMMARY:NYLT Session 2
DESCRIPTION:
URL:https://www.troop55htx.com/event/nylt-session-2/
LOCATION:TX
CATEGORIES:Troop 55 (ALL)
END:VEVENT
BEGIN:VEVENT
DTSTART;TZID=America/Chicago:20230619T000000
DTEND;TZID=America/Chicago:20230701T235959
DTSTAMP:20260423T141343
CREATED:20221130T211800Z
LAST-MODIFIED:20230701T100016Z
UID:8491-1687132800-1688255999@www.troop55htx.com
SUMMARY:T55 Philmont trip #1\, New Mexico (June 19-July 1)
DESCRIPTION:Contact: Jonathan Brush
URL:https://www.troop55htx.com/event/t55-philmont-trip-1-new-mexico-june-19-july-1/
LOCATION:TX
CATEGORIES:Troop 55 (ALL)
END:VEVENT
BEGIN:VEVENT
DTSTART;TZID=America/Chicago:20230623T000000
DTEND;TZID=America/Chicago:20230628T235959
DTSTAMP:20260423T141343
CREATED:20221130T211800Z
LAST-MODIFIED:20230628T095916Z
UID:8492-1687478400-1687996799@www.troop55htx.com
SUMMARY:T55 Sea Base Sailing - Abaco\, Bahamas (June 23-28)
DESCRIPTION:Contact: John Eikenburg
URL:https://www.troop55htx.com/event/t55-sea-base-sailing-abaco-bahamas-june-23-28/
LOCATION:TX
CATEGORIES:Troop 55 (ALL)
END:VEVENT
BEGIN:VEVENT
DTSTART;TZID=UTC:20230624T190000
DTEND;TZID=UTC:20230624T210000
DTSTAMP:20260423T141343
CREATED:20220827T230643Z
LAST-MODIFIED:20230614T074419Z
UID:7731-1687633200-1687640400@www.troop55htx.com
SUMMARY:Summertime Event # 1
DESCRIPTION:TBD\nFor more information please visit: HTTPS://scoutbook.scouting.org/mobile/dashboard/calendar/event.asp?EventID=4593796
URL:https://www.troop55htx.com/event/summertime-event-1-2/
LOCATION:Tbd\, 2560 King Arthur Boulevard\, Lewisville\, TX\, 75056\, United States
CATEGORIES:Pack 55 (ALL)
END:VEVENT
BEGIN:VEVENT
DTSTART;TZID=America/Chicago:20230625T000000
DTEND;TZID=America/Chicago:20230702T235959
DTSTAMP:20260423T141343
CREATED:20221130T211800Z
LAST-MODIFIED:20230702T100812Z
UID:8494-1687651200-1688342399@www.troop55htx.com
SUMMARY:T55 Camp Yawgoog\, Rhode Island (June 25-July 2)
DESCRIPTION:
URL:https://www.troop55htx.com/event/t55-camp-yawgoog-rhode-island-june-25-july-2/
LOCATION:Yawgoog Scout Reservation\, 61 Camp Yawgoog Rd\, Rockville\, RI 02873\, USA
CATEGORIES:Troop 55 (ALL)
END:VEVENT
BEGIN:VEVENT
DTSTART;TZID=UTC:20230625T140000
DTEND;TZID=UTC:20230625T170000
DTSTAMP:20260423T141343
CREATED:20230615T074448Z
LAST-MODIFIED:20230625T075935Z
UID:9855-1687701600-1687712400@www.troop55htx.com
SUMMARY:Pack 55 Summertime Activity #1 - Service Project (Nature Discovery Center)
DESCRIPTION:Welcome to the start of summer\, Pack 55 families! The forecast this summer is for HOT weather and plenty of Scouting fun!\nDo a Good Turn Daily – the importance of service to others in Scouting.\nFor our first of three Summertime Pack 55 Events\, we will volunteer as a group for the Nature Discovery Center[/url] from 9 AM – 11 AM on Sunday\, June 25.  We will then have a social event (snacks/refreshments/juices/water will be served) at a picnic area at Nature Discovery Center from 11 AM to Noon.\n: This volunteer work will consist of planting/landscaping\, raking and trail cleanup\, as well as any other tasks the Nature Discovery Center would like done. Duties will be skill/age appropriate.\n: All volunteers must wear closed-toe shoes and long pants; weather appropriate clothing that can get dirty\, wet\, or muddy. Volunteers should wear cool and comfortable clothing.\nThis (and all non-camping Pack 55 events) is a recruiting event: bring your family\, friends\, and any prospective cub scouts to join in this fun event!\nIf you have questions\, please reach out to cubmaster@pack55.org.  We look forward to seeing you on Sunday\, June 25 at 9 AM.\nFor more information please visit: HTTPS://scoutbook.scouting.org/mobile/dashboard/calendar/event.asp?EventID=5155206
URL:https://www.troop55htx.com/event/pack-55-summertime-activity-1-service-project-nature-discovery-center/
LOCATION:7112 Newcastle St\, Bellaire\, TX 77401
CATEGORIES:Pack 55 (ALL)
END:VEVENT
END:VCALENDAR