BEGIN:VCALENDAR
VERSION:2.0
PRODID:-//Troop 55 St. John the Divine - ECPv6.15.20//NONSGML v1.0//EN
CALSCALE:GREGORIAN
METHOD:PUBLISH
X-WR-CALNAME:Troop 55 St. John the Divine
X-ORIGINAL-URL:https://www.troop55htx.com
X-WR-CALDESC:Events for Troop 55 St. John the Divine
REFRESH-INTERVAL;VALUE=DURATION:PT1H
X-Robots-Tag:noindex
X-PUBLISHED-TTL:PT1H
BEGIN:VTIMEZONE
TZID:America/Chicago
BEGIN:DAYLIGHT
TZOFFSETFROM:-0600
TZOFFSETTO:-0500
TZNAME:CDT
DTSTART:20220313T080000
END:DAYLIGHT
BEGIN:STANDARD
TZOFFSETFROM:-0500
TZOFFSETTO:-0600
TZNAME:CST
DTSTART:20221106T070000
END:STANDARD
BEGIN:DAYLIGHT
TZOFFSETFROM:-0600
TZOFFSETTO:-0500
TZNAME:CDT
DTSTART:20230312T080000
END:DAYLIGHT
BEGIN:STANDARD
TZOFFSETFROM:-0500
TZOFFSETTO:-0600
TZNAME:CST
DTSTART:20231105T070000
END:STANDARD
BEGIN:DAYLIGHT
TZOFFSETFROM:-0600
TZOFFSETTO:-0500
TZNAME:CDT
DTSTART:20240310T080000
END:DAYLIGHT
BEGIN:STANDARD
TZOFFSETFROM:-0500
TZOFFSETTO:-0600
TZNAME:CST
DTSTART:20241103T070000
END:STANDARD
END:VTIMEZONE
BEGIN:VTIMEZONE
TZID:UTC
BEGIN:STANDARD
TZOFFSETFROM:+0000
TZOFFSETTO:+0000
TZNAME:UTC
DTSTART:20220101T000000
END:STANDARD
END:VTIMEZONE
BEGIN:VEVENT
DTSTART;TZID=America/Chicago:20230619T000000
DTEND;TZID=America/Chicago:20230701T235959
DTSTAMP:20260423T122424
CREATED:20221130T211800Z
LAST-MODIFIED:20230701T100016Z
UID:8491-1687132800-1688255999@www.troop55htx.com
SUMMARY:T55 Philmont trip #1\, New Mexico (June 19-July 1)
DESCRIPTION:Contact: Jonathan Brush
URL:https://www.troop55htx.com/event/t55-philmont-trip-1-new-mexico-june-19-july-1/
LOCATION:TX
CATEGORIES:Troop 55 (ALL)
END:VEVENT
BEGIN:VEVENT
DTSTART;TZID=America/Chicago:20230625T000000
DTEND;TZID=America/Chicago:20230702T235959
DTSTAMP:20260423T122424
CREATED:20221130T211800Z
LAST-MODIFIED:20230702T100812Z
UID:8494-1687651200-1688342399@www.troop55htx.com
SUMMARY:T55 Camp Yawgoog\, Rhode Island (June 25-July 2)
DESCRIPTION:
URL:https://www.troop55htx.com/event/t55-camp-yawgoog-rhode-island-june-25-july-2/
LOCATION:Yawgoog Scout Reservation\, 61 Camp Yawgoog Rd\, Rockville\, RI 02873\, USA
CATEGORIES:Troop 55 (ALL)
END:VEVENT
BEGIN:VEVENT
DTSTART;TZID=America/Chicago:20230702T000000
DTEND;TZID=America/Chicago:20230708T235959
DTSTAMP:20260423T122424
CREATED:20230523T074721Z
LAST-MODIFIED:20230708T100806Z
UID:9738-1688256000-1688860799@www.troop55htx.com
SUMMARY:T55 NAYLE (July 2-8)
DESCRIPTION:
URL:https://www.troop55htx.com/event/t55-nayle-july-2-8/
LOCATION:TX
CATEGORIES:Troop 55 (ALL)
END:VEVENT
BEGIN:VEVENT
DTSTART;TZID=America/Chicago:20230709T000000
DTEND;TZID=America/Chicago:20230714T235959
DTSTAMP:20260423T122424
CREATED:20230310T025923Z
LAST-MODIFIED:20230714T100813Z
UID:9210-1688860800-1689379199@www.troop55htx.com
SUMMARY:T55 Camp Strake\, Texas (July 9-14)
DESCRIPTION:
URL:https://www.troop55htx.com/event/camp-strake/
LOCATION:TX
CATEGORIES:Troop 55 (ALL)
END:VEVENT
BEGIN:VEVENT
DTSTART;TZID=America/Chicago:20230711T000000
DTEND;TZID=America/Chicago:20230723T235959
DTSTAMP:20260423T122424
CREATED:20221205T214815Z
LAST-MODIFIED:20230316T025929Z
UID:8524-1689033600-1690156799@www.troop55htx.com
SUMMARY:T55 Philmont trip #2\, New Mexico (July 11-23)
DESCRIPTION:Contact: John Eikenburg
URL:https://www.troop55htx.com/event/t55-philmont-trip-2-new-mexico-july-11-23/
LOCATION:TX
CATEGORIES:Troop 55 (ALL)
END:VEVENT
BEGIN:VEVENT
DTSTART;TZID=America/Chicago:20230719T000000
DTEND;TZID=America/Chicago:20230728T235959
DTSTAMP:20260423T122424
CREATED:20221201T212057Z
LAST-MODIFIED:20230728T110802Z
UID:8505-1689724800-1690588799@www.troop55htx.com
SUMMARY:T55 National Scout Jamboree\, West Virginia (July 19-28)
DESCRIPTION:
URL:https://www.troop55htx.com/event/t55-national-scout-jamboree-west-virginia-july-19-28/
LOCATION:Summit Bechtel Reserve\, 2550 Jack Furst Dr\, Glen Jean\, WV 25846\, USA
CATEGORIES:Troop 55 (ALL)
END:VEVENT
BEGIN:VEVENT
DTSTART;TZID=UTC:20230722T150000
DTEND;TZID=UTC:20230722T170000
DTSTAMP:20260423T122424
CREATED:20230622T075958Z
LAST-MODIFIED:20230722T090717Z
UID:9881-1690038000-1690045200@www.troop55htx.com
SUMMARY:Pack 55 Summertime Activity #2 - Indoor Rock Climbing (Momentum Indoor Climbing - Katy)
DESCRIPTION:Rock On…..Let’s Go Climbing !!!\nJoin us for our second Summertime fun filled event at Momentum Indoor Climbing – Katy[/url] from 10 AM – Noon on Saturday\, July 22.  Snacks\, refreshments and drinks will be served.\n  All visitors (climbers and spectators) are required to complete a release of liability waiver.  Waivers for any person under the age of 18 years old must be completed by a parent or legal guardian.  to the liability waiver form.\nThis is a recruiting event! Do you have a friend\, neighbor or a classmate of your scout who you think would enjoy being part of Cub Scouts at Pack 55? Bring them along and show them how much fun scouting can be.\nIf you have questions\, please reach out to cubmaster@pack55.org.\nFor more information please visit: HTTPS://scoutbook.scouting.org/mobile/dashboard/calendar/event.asp?EventID=5163483
URL:https://www.troop55htx.com/event/pack-55-summertime-activity-2-indoor-rock-climbing-momentum-indoor-climbing-katy/
LOCATION:25410 Katy Mills Parkway Katy\, TX 77494
CATEGORIES:Pack 55 (ALL)
END:VEVENT
END:VCALENDAR