BEGIN:VCALENDAR
VERSION:2.0
PRODID:-//Troop 55 St. John the Divine - ECPv6.15.20//NONSGML v1.0//EN
CALSCALE:GREGORIAN
METHOD:PUBLISH
X-WR-CALNAME:Troop 55 St. John the Divine
X-ORIGINAL-URL:https://www.troop55htx.com
X-WR-CALDESC:Events for Troop 55 St. John the Divine
REFRESH-INTERVAL;VALUE=DURATION:PT1H
X-Robots-Tag:noindex
X-PUBLISHED-TTL:PT1H
BEGIN:VTIMEZONE
TZID:UTC
BEGIN:STANDARD
TZOFFSETFROM:+0000
TZOFFSETTO:+0000
TZNAME:UTC
DTSTART:20220101T000000
END:STANDARD
END:VTIMEZONE
BEGIN:VTIMEZONE
TZID:America/Chicago
BEGIN:DAYLIGHT
TZOFFSETFROM:-0600
TZOFFSETTO:-0500
TZNAME:CDT
DTSTART:20220313T080000
END:DAYLIGHT
BEGIN:STANDARD
TZOFFSETFROM:-0500
TZOFFSETTO:-0600
TZNAME:CST
DTSTART:20221106T070000
END:STANDARD
BEGIN:DAYLIGHT
TZOFFSETFROM:-0600
TZOFFSETTO:-0500
TZNAME:CDT
DTSTART:20230312T080000
END:DAYLIGHT
BEGIN:STANDARD
TZOFFSETFROM:-0500
TZOFFSETTO:-0600
TZNAME:CST
DTSTART:20231105T070000
END:STANDARD
BEGIN:DAYLIGHT
TZOFFSETFROM:-0600
TZOFFSETTO:-0500
TZNAME:CDT
DTSTART:20240310T080000
END:DAYLIGHT
BEGIN:STANDARD
TZOFFSETFROM:-0500
TZOFFSETTO:-0600
TZNAME:CST
DTSTART:20241103T070000
END:STANDARD
END:VTIMEZONE
BEGIN:VEVENT
DTSTART;TZID=UTC:20230804T010000
DTEND;TZID=UTC:20230804T020000
DTSTAMP:20260423T102852
CREATED:20230731T093905Z
LAST-MODIFIED:20230803T094345Z
UID:10074-1691110800-1691114400@www.troop55htx.com
SUMMARY:Pack 55 Committee Meeting (August 2023)
DESCRIPTION:Join us for our August committee meeting on Thursday\, August 3 at 8:00 PM on Zoom.  All adults are encouraged to attend.\nA new year of Cub Scout activities is quickly approaching\, and we’ll use this meeting to continue our planning for the upcoming year and discuss recruiting.  We need everyone’s involvement to keep our pack going strong.\nVery Respectfully\,\nMatt Sicinski\nZoom Details:\nTopic: Pack 55 Committee Meeting (August)\nTime: Aug 3\, 2023 08:00 PM Central Time (US and Canada)\nWeb Link:\nhttps://us06web.zoom.us/j/89029578839\nMeeting ID: 890 2957 8839\n—\nOne tap mobile\n+13462487799\,\,89029578839# US (Houston)\n+12532158782\,\,89029578839# US (Tacoma)\nFor more information please visit: HTTPS://scoutbook.scouting.org/mobile/dashboard/calendar/event.asp?EventID=5214241
URL:https://www.troop55htx.com/event/pack-55-committee-meeting-august-2023/
LOCATION:Zoom
CATEGORIES:Pack 55 (ALL)
END:VEVENT
BEGIN:VEVENT
DTSTART;TZID=America/Chicago:20230818T173000
DTEND;TZID=America/Chicago:20230818T210000
DTSTAMP:20260423T102852
CREATED:20230812T122330Z
LAST-MODIFIED:20230818T210757Z
UID:10120-1692379800-1692392400@www.troop55htx.com
SUMMARY:T55 Adult Social and Reconnect
DESCRIPTION:
URL:https://www.troop55htx.com/event/t55-adult-social-and-reconnect/
LOCATION:The Briar Club\, 2603 Timmons Ln\, Houston\, TX 77027\, USA
CATEGORIES:Troop 55 (ALL)
END:VEVENT
BEGIN:VEVENT
DTSTART;TZID=America/Chicago:20230819T090000
DTEND;TZID=America/Chicago:20230819T120000
DTSTAMP:20260423T102852
CREATED:20230812T122330Z
LAST-MODIFIED:20230818T210757Z
UID:10121-1692435600-1692446400@www.troop55htx.com
SUMMARY:T55 Adult Orientation
DESCRIPTION:
URL:https://www.troop55htx.com/event/t55-adult-orientation/
LOCATION:The Church of St. John the Divine\, 2450 River Oaks Blvd\, Houston\, TX 77019\, USA
CATEGORIES:Troop 55 (ALL)
END:VEVENT
BEGIN:VEVENT
DTSTART;TZID=UTC:20230826T140000
DTEND;TZID=UTC:20230826T160000
DTSTAMP:20260423T102852
CREATED:20230820T212237Z
LAST-MODIFIED:20230825T215226Z
UID:10225-1693058400-1693065600@www.troop55htx.com
SUMMARY:Pack Leadership/Adult Planning Meeting
DESCRIPTION:Zoom Address: https://us06web.zoom.us/j/89134385782\nFor our adult leaders\, and anyone interested in becoming a leader\, please join us on the morning of August 26th (Saturday) at 9AM at the Sicinski House (3115 Nottingham Street) for an adult leader kickoff meeting.  The purpose of the meeting is to discuss the upcoming year\, provide cub scout handbooks\, discuss Popcorn sales\, and answer any questions you have.  If you are unable to attend the event in person\, please use the link below to attend virtually (Zoom).\nhttps://us06web.zoom.us/j/89134385782\nFor more information please visit: HTTPS://scoutbook.scouting.org/mobile/dashboard/calendar/event.asp?EventID=5275073
URL:https://www.troop55htx.com/event/pack-leadership-adult-planning-meeting/
LOCATION:3115 Nottingham Street
CATEGORIES:Pack 55 (ALL)
END:VEVENT
BEGIN:VEVENT
DTSTART;TZID=UTC:20230827T003000
DTEND;TZID=UTC:20230827T023000
DTSTAMP:20260423T102852
CREATED:20230406T040024Z
LAST-MODIFIED:20230826T215246Z
UID:9365-1693096200-1693103400@www.troop55htx.com
SUMMARY:Pack 55 Summertime Activity #3 - Back to School Pool Party and Recruiting Extravaganza
DESCRIPTION:Join Pack 55 for a Summertime Pool Party at Colonial Pool Park in West University Place.  Lifeguards will be present for water safety.  All scouts and families are invited. Snacks\, refreshments and drinks will be served.  Remember that we are guests of the pool: please no horseplay\, running or littering in the pool area.\nThis is a recruiting event! Do you have a friend\, neighbor or a classmate of your scout who you think would enjoy being part of Cub Scouts at Pack 55? Bring them along and show them how much fun scouting can be.\nIf you have questions\, please reach out to cubmaster@pack55.org.\nFor more information please visit: HTTPS://scoutbook.scouting.org/mobile/dashboard/calendar/event.asp?EventID=5044080
URL:https://www.troop55htx.com/event/pack-55-back-to-school-pool-party-and-recruiting-extravaganza/
LOCATION:Colonial Pool Park\, West University
CATEGORIES:Pack 55 (ALL)
END:VEVENT
BEGIN:VEVENT
DTSTART;TZID=America/Chicago:20230829T190000
DTEND;TZID=America/Chicago:20230829T200000
DTSTAMP:20260423T102852
CREATED:20230317T025911Z
LAST-MODIFIED:20230829T212303Z
UID:9229-1693335600-1693339200@www.troop55htx.com
SUMMARY:T55 Troop Meeting (first one of the school year)
DESCRIPTION:
URL:https://www.troop55htx.com/event/t55-troop-meeting-first-one-of-the-school-year/
LOCATION:TX
CATEGORIES:Troop 55 (ALL)
END:VEVENT
BEGIN:VEVENT
DTSTART;TZID=America/Chicago:20230829T190000
DTEND;TZID=America/Chicago:20230829T200000
DTSTAMP:20260423T102852
CREATED:20230511T071413Z
LAST-MODIFIED:20230829T212303Z
UID:9601-1693335600-1693339200@www.troop55htx.com
SUMMARY:T55 Troop Meeting
DESCRIPTION:
URL:https://www.troop55htx.com/event/t55-troop-meeting-6/
LOCATION:TX
CATEGORIES:Troop 55 (ALL)
END:VEVENT
BEGIN:VEVENT
DTSTART;TZID=UTC:20230831T233000
DTEND;TZID=UTC:20230901T004500
DTSTAMP:20260423T102852
CREATED:20230820T212238Z
LAST-MODIFIED:20230831T220821Z
UID:10226-1693524600-1693529100@www.troop55htx.com
SUMMARY:August Pack Meeting
DESCRIPTION:Join Pack 55 for its first meeting of the 2023/2024 school year.  At the meeting\, the Pack will learn about popcorn sales for the upcoming year\, play games in the SJD gym\, and learn about upcoming camping trips and the pinewood derby.  The adults will also have a breakout session to learn about recruiting efforts and the need to fill key vacancies within the Pack.\nFor more information please visit: HTTPS://scoutbook.scouting.org/mobile/dashboard/calendar/event.asp?EventID=5275002
URL:https://www.troop55htx.com/event/monthly-pack-meeting/
LOCATION:Scout Room\, St John the Divine
CATEGORIES:Pack 55 (ALL)
END:VEVENT
END:VCALENDAR