BEGIN:VCALENDAR
VERSION:2.0
PRODID:-//Troop 55 St. John the Divine - ECPv6.15.20//NONSGML v1.0//EN
CALSCALE:GREGORIAN
METHOD:PUBLISH
X-WR-CALNAME:Troop 55 St. John the Divine
X-ORIGINAL-URL:https://www.troop55htx.com
X-WR-CALDESC:Events for Troop 55 St. John the Divine
REFRESH-INTERVAL;VALUE=DURATION:PT1H
X-Robots-Tag:noindex
X-PUBLISHED-TTL:PT1H
BEGIN:VTIMEZONE
TZID:America/Chicago
BEGIN:DAYLIGHT
TZOFFSETFROM:-0600
TZOFFSETTO:-0500
TZNAME:CDT
DTSTART:20230312T080000
END:DAYLIGHT
BEGIN:STANDARD
TZOFFSETFROM:-0500
TZOFFSETTO:-0600
TZNAME:CST
DTSTART:20231105T070000
END:STANDARD
BEGIN:DAYLIGHT
TZOFFSETFROM:-0600
TZOFFSETTO:-0500
TZNAME:CDT
DTSTART:20240310T080000
END:DAYLIGHT
BEGIN:STANDARD
TZOFFSETFROM:-0500
TZOFFSETTO:-0600
TZNAME:CST
DTSTART:20241103T070000
END:STANDARD
BEGIN:DAYLIGHT
TZOFFSETFROM:-0600
TZOFFSETTO:-0500
TZNAME:CDT
DTSTART:20250309T080000
END:DAYLIGHT
BEGIN:STANDARD
TZOFFSETFROM:-0500
TZOFFSETTO:-0600
TZNAME:CST
DTSTART:20251102T070000
END:STANDARD
END:VTIMEZONE
BEGIN:VEVENT
DTSTART;TZID=America/Chicago:20240601T000000
DTEND;TZID=America/Chicago:20240609T235959
DTSTAMP:20260422T171048
CREATED:20240226T050811Z
LAST-MODIFIED:20240609T202219Z
UID:12108-1717200000-1717977599@www.troop55htx.com
SUMMARY:T55 White Mountains Mid-Adventure Backpacking Trip (June 1-9)
DESCRIPTION:
URL:https://www.troop55htx.com/event/t55-white-mountains-mid-adventure-backpacking-trip-june-1-9/
LOCATION:White Mountains\, Lincoln\, NH 03251\, USA
CATEGORIES:Troop 55 (ALL)
END:VEVENT
BEGIN:VEVENT
DTSTART;TZID=America/Chicago:20240601T083000
DTEND;TZID=America/Chicago:20240601T123000
DTSTAMP:20260422T171048
CREATED:20240503T190735Z
LAST-MODIFIED:20240531T200732Z
UID:12517-1717230600-1717245000@www.troop55htx.com
SUMMARY:T55 Swimming MB class
DESCRIPTION:
URL:https://www.troop55htx.com/event/t55-swimming-mb-class-2/
LOCATION:TX
CATEGORIES:Troop 55 (ALL)
END:VEVENT
BEGIN:VEVENT
DTSTART;TZID=America/Chicago:20240605T183000
DTEND;TZID=America/Chicago:20240605T203000
DTSTAMP:20260422T171048
CREATED:20240530T195217Z
LAST-MODIFIED:20240605T202221Z
UID:12798-1717612200-1717619400@www.troop55htx.com
SUMMARY:T55 Annual Budget Meeting (SJD Room 236)
DESCRIPTION:
URL:https://www.troop55htx.com/event/t55-annual-budget-meeting-sjd-room-236/
LOCATION:TX
CATEGORIES:Troop 55 (ALL)
END:VEVENT
BEGIN:VEVENT
DTSTART;TZID=America/Chicago:20240609T000000
DTEND;TZID=America/Chicago:20240614T235959
DTSTAMP:20260422T171048
CREATED:20240226T050811Z
LAST-MODIFIED:20240614T203749Z
UID:12106-1717891200-1718409599@www.troop55htx.com
SUMMARY:T55 NYLT - Week 1 (June 9-14)
DESCRIPTION:
URL:https://www.troop55htx.com/event/t55-nylt-week-1-june-9-14/
LOCATION:Bovay Scout Ranch – McNair Cub Scout Adventure Camp\, 3098 Candy Ln\, Bryan\, TX\, United States
CATEGORIES:Troop 55 (ALL)
END:VEVENT
BEGIN:VEVENT
DTSTART;TZID=America/Chicago:20240609T000000
DTEND;TZID=America/Chicago:20240615T235959
DTSTAMP:20260422T171048
CREATED:20240228T050722Z
LAST-MODIFIED:20240615T203726Z
UID:12135-1717891200-1718495999@www.troop55htx.com
SUMMARY:T55 Camp Strake (June 9-15)
DESCRIPTION:
URL:https://www.troop55htx.com/event/t55-camp-strake-june-9-15/
LOCATION:Camp Strake\, 1698 Camp Strake Rd\, Conroe\, TX\, United States
CATEGORIES:Troop 55 (ALL)
END:VEVENT
BEGIN:VEVENT
DTSTART;TZID=America/Chicago:20240610T000000
DTEND;TZID=America/Chicago:20240622T235959
DTSTAMP:20260422T171048
CREATED:20240229T050728Z
LAST-MODIFIED:20240622T210749Z
UID:12143-1717977600-1719100799@www.troop55htx.com
SUMMARY:T55 Philmont Scout Ranch - Crew #1 (June 10-22)
DESCRIPTION:
URL:https://www.troop55htx.com/event/t55-philmont-scout-ranch-crew-1-june-10-22/
LOCATION:Philmont Scout Ranch\, 101 New Mexico Ave\, Las Vegas\, NM\, United States
CATEGORIES:Troop 55 (ALL)
END:VEVENT
BEGIN:VEVENT
DTSTART;TZID=America/Chicago:20240612T200000
DTEND;TZID=America/Chicago:20240612T200000
DTSTAMP:20260422T171048
CREATED:20240517T192313Z
LAST-MODIFIED:20240611T203828Z
UID:12697-1718222400-1718222400@www.troop55htx.com
SUMMARY:T55 Deadline to request BOR
DESCRIPTION:
URL:https://www.troop55htx.com/event/t55-deadline-to-request-bor-5/
LOCATION:https://www.troop55htx.com/advancement/request-board-of-review/
CATEGORIES:Troop 55 (ALL)
END:VEVENT
BEGIN:VEVENT
DTSTART;TZID=America/Chicago:20240616T000000
DTEND;TZID=America/Chicago:20240621T235959
DTSTAMP:20260422T171048
CREATED:20240228T050722Z
LAST-MODIFIED:20240621T210722Z
UID:12134-1718496000-1719014399@www.troop55htx.com
SUMMARY:T55 NYLT - Week 2 (June 16-21)
DESCRIPTION:
URL:https://www.troop55htx.com/event/t55-nylt-week-2-june-16-21/
LOCATION:TX
CATEGORIES:Troop 55 (ALL)
END:VEVENT
BEGIN:VEVENT
DTSTART;TZID=America/Chicago:20240618T180000
DTEND;TZID=America/Chicago:20240618T190000
DTSTAMP:20260422T171048
CREATED:20240403T072305Z
LAST-MODIFIED:20240618T205245Z
UID:12280-1718733600-1718737200@www.troop55htx.com
SUMMARY:T55 Board of Review (summer edition)
DESCRIPTION:
URL:https://www.troop55htx.com/event/t55-board-of-review-summer-edition/
LOCATION:TX
CATEGORIES:Troop 55 (ALL)
END:VEVENT
BEGIN:VEVENT
DTSTART;TZID=America/Chicago:20240623T000000
DTEND;TZID=America/Chicago:20240629T235959
DTSTAMP:20260422T171048
CREATED:20240228T050722Z
LAST-MODIFIED:20240422T183721Z
UID:12136-1719100800-1719705599@www.troop55htx.com
SUMMARY:T55 Camp Yawgoog (June 23-29)
DESCRIPTION:
URL:https://www.troop55htx.com/event/t55-camp-yawgoog-june-23-29/
LOCATION:Yawgoog Scout Reservation\, 61 Camp Yawgoog Rd\, Rockville\, RI 02873\, USA
CATEGORIES:Troop 55 (ALL)
END:VEVENT
BEGIN:VEVENT
DTSTART;TZID=America/Chicago:20240627T000000
DTEND;TZID=America/Chicago:20240707T235959
DTSTAMP:20260422T171048
CREATED:20240229T050728Z
LAST-MODIFIED:20240707T212252Z
UID:12145-1719446400-1720396799@www.troop55htx.com
SUMMARY:T55 Finland Trip\, Saimaa Lake (June 27-July 8)
DESCRIPTION:
URL:https://www.troop55htx.com/event/t55-finland-trip-saimaa-lake-june-27-july-7/
LOCATION:Saimaa Lakeside\, Souruntie 72\, 56310 Ruokolahti\, Finland
CATEGORIES:Troop 55 (ALL)
END:VEVENT
END:VCALENDAR