BEGIN:VCALENDAR
VERSION:2.0
PRODID:-//Troop 55 St. John the Divine - ECPv6.15.20//NONSGML v1.0//EN
CALSCALE:GREGORIAN
METHOD:PUBLISH
X-ORIGINAL-URL:https://www.troop55htx.com
X-WR-CALDESC:Events for Troop 55 St. John the Divine
REFRESH-INTERVAL;VALUE=DURATION:PT1H
X-Robots-Tag:noindex
X-PUBLISHED-TTL:PT1H
BEGIN:VTIMEZONE
TZID:America/Chicago
BEGIN:DAYLIGHT
TZOFFSETFROM:-0600
TZOFFSETTO:-0500
TZNAME:CDT
DTSTART:20240310T080000
END:DAYLIGHT
BEGIN:STANDARD
TZOFFSETFROM:-0500
TZOFFSETTO:-0600
TZNAME:CST
DTSTART:20241103T070000
END:STANDARD
BEGIN:DAYLIGHT
TZOFFSETFROM:-0600
TZOFFSETTO:-0500
TZNAME:CDT
DTSTART:20250309T080000
END:DAYLIGHT
BEGIN:STANDARD
TZOFFSETFROM:-0500
TZOFFSETTO:-0600
TZNAME:CST
DTSTART:20251102T070000
END:STANDARD
BEGIN:DAYLIGHT
TZOFFSETFROM:-0600
TZOFFSETTO:-0500
TZNAME:CDT
DTSTART:20260308T080000
END:DAYLIGHT
BEGIN:STANDARD
TZOFFSETFROM:-0500
TZOFFSETTO:-0600
TZNAME:CST
DTSTART:20261101T070000
END:STANDARD
END:VTIMEZONE
BEGIN:VEVENT
DTSTART;TZID=America/Chicago:20250601T130000
DTEND;TZID=America/Chicago:20250601T140000
DTSTAMP:20260419T233457
CREATED:20250529T105956Z
LAST-MODIFIED:20250601T105959Z
UID:14823-1748782800-1748786400@www.troop55htx.com
SUMMARY:T55 Camp Strake Pre-Meeting for Scouts and Parents (SJD Scout Room)
DESCRIPTION:
URL:https://www.troop55htx.com/event/t55-camp-strake-pre-meeting-for-scouts-and-parents-sjd-scout-room/
LOCATION:The Church of St. John the Divine\, 2450 River Oaks Blvd\, Houston\, TX\, United States
CATEGORIES:Troop 55 (ALL)
END:VEVENT
BEGIN:VEVENT
DTSTART;TZID=America/Chicago:20250608T000000
DTEND;TZID=America/Chicago:20250613T235959
DTSTAMP:20260419T233457
CREATED:20250411T074518Z
LAST-MODIFIED:20250613T111454Z
UID:14500-1749340800-1749859199@www.troop55htx.com
SUMMARY:T55 Camp Strake
DESCRIPTION:
URL:https://www.troop55htx.com/event/t55-camp-strake/
LOCATION:TX
CATEGORIES:Troop 55 (ALL)
END:VEVENT
BEGIN:VEVENT
DTSTART;TZID=America/Chicago:20250608T000000
DTEND;TZID=America/Chicago:20250614T235959
DTSTAMP:20260419T233457
CREATED:20250220T053006Z
LAST-MODIFIED:20250614T112952Z
UID:14277-1749340800-1749945599@www.troop55htx.com
SUMMARY:NYLT: Session 1 (June 8-14)
DESCRIPTION:
URL:https://www.troop55htx.com/event/nylt-session-1-june-8-14/
LOCATION:TX
CATEGORIES:Troop 55 (ALL)
END:VEVENT
BEGIN:VEVENT
DTSTART;TZID=America/Chicago:20250613T000000
DTEND;TZID=America/Chicago:20250627T235959
DTSTAMP:20260419T233457
CREATED:20250216T051514Z
LAST-MODIFIED:20250627T203055Z
UID:14216-1749772800-1751068799@www.troop55htx.com
SUMMARY:T55 Philmont Crew #2 (June 13-27)
DESCRIPTION:
URL:https://www.troop55htx.com/event/t55-philmont-crew-2-june-13-27/
LOCATION:TX
CATEGORIES:Troop 55 (ALL)
END:VEVENT
BEGIN:VEVENT
DTSTART;TZID=America/Chicago:20250613T000000
DTEND;TZID=America/Chicago:20250627T235959
DTSTAMP:20260419T233457
CREATED:20250219T051500Z
LAST-MODIFIED:20250627T203055Z
UID:14271-1749772800-1751068799@www.troop55htx.com
SUMMARY:T55 Philmont Crew #1 (June 13-27)
DESCRIPTION:
URL:https://www.troop55htx.com/event/t55-philmont-crew-1-june-13-27/
LOCATION:TX
CATEGORIES:Troop 55 (ALL)
END:VEVENT
BEGIN:VEVENT
DTSTART;TZID=America/Chicago:20250615T000000
DTEND;TZID=America/Chicago:20250621T235959
DTSTAMP:20260419T233457
CREATED:20250221T053010Z
LAST-MODIFIED:20250621T200135Z
UID:14282-1749945600-1750550399@www.troop55htx.com
SUMMARY:NYLT: Session 2 (June 15-21)
DESCRIPTION:
URL:https://www.troop55htx.com/event/nylt-session-2-june-15-21/
LOCATION:TX
CATEGORIES:Troop 55 (ALL)
END:VEVENT
BEGIN:VEVENT
DTSTART;TZID=America/Chicago:20250628T090000
DTEND;TZID=America/Chicago:20250628T120000
DTSTAMP:20260419T233457
CREATED:20250507T091454Z
LAST-MODIFIED:20250605T110005Z
UID:14688-1751101200-1751112000@www.troop55htx.com
SUMMARY:T55 Citizenship in Society MB class (Ms. Hou\, Room SJD 208)
DESCRIPTION:
URL:https://www.troop55htx.com/event/t55-citizenship-in-society-mb-class-ms-hou-room-sjd-208/
LOCATION:TX
CATEGORIES:Troop 55 (ALL)
END:VEVENT
BEGIN:VEVENT
DTSTART;TZID=America/Chicago:20250629T000000
DTEND;TZID=America/Chicago:20250705T235959
DTSTAMP:20260419T233457
CREATED:20250222T053015Z
LAST-MODIFIED:20250705T204600Z
UID:14286-1751155200-1751759999@www.troop55htx.com
SUMMARY:T55 Philmont NAYLE - Session 3 (June 29-July 5)
DESCRIPTION:
URL:https://www.troop55htx.com/event/t55-philmont-nayle-session-3-june-29-july-5/
LOCATION:TX
CATEGORIES:Troop 55 (ALL)
END:VEVENT
END:VCALENDAR